BEGIN:VCALENDAR
VERSION:2.0
PRODID:-//【HIRAETH.Tokyo】(ヒラエス.トーキョー) - ECPv6.11.2//NONSGML v1.0//EN
CALSCALE:GREGORIAN
METHOD:PUBLISH
X-WR-CALNAME:【HIRAETH.Tokyo】(ヒラエス.トーキョー)
X-ORIGINAL-URL:https://hiraeth.tokyo
X-WR-CALDESC:【HIRAETH.Tokyo】(ヒラエス.トーキョー) のイベント
REFRESH-INTERVAL;VALUE=DURATION:PT1H
X-Robots-Tag:noindex
X-PUBLISHED-TTL:PT1H
BEGIN:VTIMEZONE
TZID:Asia/Tokyo
BEGIN:STANDARD
TZOFFSETFROM:+0900
TZOFFSETTO:+0900
TZNAME:JST
DTSTART:20220101T000000
END:STANDARD
END:VTIMEZONE
BEGIN:VEVENT
DTSTART;VALUE=DATE:20221224
DTEND;VALUE=DATE:20221225
DTSTAMP:20260424T223856
CREATED:20221216T090045Z
LAST-MODIFIED:20230316T185709Z
UID:3444-1671840000-1671926399@hiraeth.tokyo
SUMMARY:265☆アイドルプラネタリウム Vol.49三部@秋葉原COSMICLAB
DESCRIPTION:日時 12/24(土)\nイベント アイドルプラネタリウム Vol.49三部\n料金 前売900当日1400女性0(D別)\n予約　https://tiget.net/events/221265\nLIVE　19:35～19:55\n物販　20:00～20:50\n会場　秋葉原COSMICLAB\nOP 16:35\nST 16:50\nout\n出演　えあらびゅー/SHIKASHI/BLUEGLASS/#がらぽん/MANAMISA/プリンセスは眠らないっ！/Vipera/\n\nーイベントレギュレーションー\n※マスク着用で声出し可能\n※再入場1D必須\n※すべてイベント予約フォームより/運営予約無効\n※予約番号順入場
URL:https://hiraeth.tokyo/event/20221224-2/
LOCATION:秋葉原COSMICLAB\, 外神田6-14-7 VORT末広町BF1\, 千代田区\, 東京都\, 101-0021\, 日本
CATEGORIES:Live
END:VEVENT
BEGIN:VEVENT
DTSTART;VALUE=DATE:20221224
DTEND;VALUE=DATE:20221225
DTSTAMP:20260424T223856
CREATED:20221118T171726Z
LAST-MODIFIED:20230316T185659Z
UID:3208-1671840000-1671926399@hiraeth.tokyo
SUMMARY:264新宿FATE無銭無双昼@新宿Fate
DESCRIPTION:日時　12/24(土)\nイベント 新宿FATE無銭無双 昼部\n料金 前売0/当日0/(各2D別) \n予約 なし\nLIVE 14:20〜14:40\n物販 15:45〜16:35\n会場 新宿Fate\n OP 10:00\n ST 10:10(予定)\nout  \n出演 えあらびゅー/エレメンツ!-Elemental Heroines-/さんぷてぃ。/.Link\,/FROG PRINCESS\,/混沌少女/黒ゐ少女/BLACK LOTUS/殲滅のディストピア/1682/NEO EARTH!!/ねこふわっち。/ByteSchwarz/別所あみか/あまりりす/ビビびっ/桜井もな/
URL:https://hiraeth.tokyo/event/20221224-1/
LOCATION:新宿Fate\, 歌舞伎町2-28-16\, 新宿区\, 東京都\, 160-0021\, 日本
CATEGORIES:Live
ATTACH;FMTTYPE=image/jpeg:https://hiraeth.tokyo/wp-content/uploads/09630DBF-A7E9-4F90-B59B-3FAD7CD0833F.jpeg
END:VEVENT
END:VCALENDAR