BEGIN:VCALENDAR
VERSION:2.0
PRODID:-//【HIRAETH.Tokyo】(ヒラエス.トーキョー) - ECPv6.11.2//NONSGML v1.0//EN
CALSCALE:GREGORIAN
METHOD:PUBLISH
X-ORIGINAL-URL:https://hiraeth.tokyo
X-WR-CALDESC:【HIRAETH.Tokyo】(ヒラエス.トーキョー) のイベント
REFRESH-INTERVAL;VALUE=DURATION:PT1H
X-Robots-Tag:noindex
X-PUBLISHED-TTL:PT1H
BEGIN:VTIMEZONE
TZID:Asia/Tokyo
BEGIN:STANDARD
TZOFFSETFROM:+0900
TZOFFSETTO:+0900
TZNAME:JST
DTSTART:20220101T000000
END:STANDARD
END:VTIMEZONE
BEGIN:VEVENT
DTSTART;VALUE=DATE:20221229
DTEND;VALUE=DATE:20230104
DTSTAMP:20260424T205806
CREATED:20221027T213039Z
LAST-MODIFIED:20221231T072347Z
UID:3014-1672272000-1672790399@hiraeth.tokyo
SUMMARY:🐻🐣🌻🐸🐰ぼくらの六日間らびゅー🐰🐸🌻🐣🐻
DESCRIPTION:🐻🐣🌻🐸🐰ぼくらの六日間らびゅー🐰🐸🌻🐣🐻\nいつもの えあらば〜さん も\n対バンで 見かけたらば〜さん も\n配信で 気になってたらば〜さん も\nえあらびゅー 初めてらば〜 さんも\nここにくれば誰かがいる☺️☺️ \nみんなが集まる”6日間連続イベント”やります🔥\nえあらびゅーと一緒に楽しもっ！ \nぼく6チャレンジ概要\n◆期間：12/29～1/3 \n◆タグ：#ぼく6らびゅー \n◆各ライブ特典：\n・12月30日：2現場回し特典→私物サイン\n・12月31日：1現場目→ハーレム写メ\n・12月31日：2現場目→チェキ裏メッセージ＋1分\n・1月1日：おみくじ\n・1月2日：おみくじ\n・1月3日：おみくじ \n＼推しから届くっ！！💌💓／\nおみくじメッセージ　\n大吉，，，推しの画像サインコメ付\n中吉，，，推し画像サイン\n小吉，，，推し画像\n※画像はその日撮った未公開写メ \n◆動員：100人達成で新グッズ作成！！\n・アクキー作成開始（メンバー別全6種）\n※発売開始日時は別途お知らせいたします \n◆初めましてらびゅー（新規さん）企画！！\n・20人→タオル作成\n・30人→缶バッジ　メンバー分（全6種）作成\n・40人→パーカー作成\n※ぼく6開催期間（12月29日～1月3日）中に新規さんが来場された合計数にて新グッズが変更されます。 \n◆100人動員の目標達成したら、、、\n▶条件、ルール\n・ぼく6開催期間（12月29日～1月3日）中にライブへ参戦した回数によって割引価格で購入できるクーポンを一枚プレゼント。\n※使えるのは今回発表するグッズのみになります（アクキー、タオル、缶バッジ、パーカー） \n・1回以上→5%\n・3回以上→10%\n・4回以上→20%\n・6回以上→50%\n・8回以上→70%\n・全通→100% \n◆全日特典\n▶特典内容\n・定期ライブ1回招待\n▶条件、ルール\n・12月29日：2回開催するプチプチ忘年会らびゅーのうち1回以上参加\n・12月30日：出演する2回のライブイベントのうち1回以上参加\n・12月31日：出演する2回のライブイベントのうち1回以上参加\n・1月1日：出演するライブイベントに参加\n・1月2日：出演する2回のライブイベントのうち1回以上参加\n・1月3日：出演するライブイベントに参加\n※上記の条件を全てクリアで特典を受け取ることができます。 \n◆全通特典\n▶特典内容\n・定期ライブ1回招待\n・推しとゲーセンデート\n▶条件、ルール\n・ぼく6開催期間（12月29日～1月3日）の全てのイベントやライブに参加\n※上記の条件をクリアで特典を受け取ることができます。 \nスケジュール\n◆◆2022年12/29(木)◆◆\n▶第2回プチプチらびゅーワンマン\n会場　神田スペースキューブ\nLIVE 12:00〜13:00\n物販　13:10〜14:10\nプチオフ会 14:15〜15:15 \n▶︎ 第3回プチプチらびゅーワンマン\n会場　神田スペースキューブ\nLIVE 15:55〜16:55\n物販 17:15〜18:15\nプチオフ会 18:20〜19:20 \n◆◆2022年12/30(金)◆◆\n▶︎アイドルノミカタ無銭RUN2部\n会場　秋葉原COSMICLAB\nLIVE 15:30～15:45\n物販 16:10～17:00 \n▶MUSICA LIVE HOUSE Vol.46年末SP NIGHT\n会場　秋葉原ZEST\nLIVE 17:35〜17:55\n物販 18:00〜18:50 \n◆◆2022年12/31(土)◆◆\n▶アイドルプラネタリウムVol.51\n会場　秋葉原COSMICLAB\nLIVE 17:50〜18:05\n物販 18:10〜19:00 \n▶︎秋葉原ALL MISSION大晦日SP\n会場　秋葉原ZEST\nLIVE 20:25～20:45\n物販 20:50～21:40 \n◆◆2023年1/1(日祝)元日◆◆\n▶MI・RA・I SUPER LIVE 2023」NEW YEAR PARTY編\n会場　渋谷近未来会館\nLIVE 17:00～17:15\n物販 17:35～18:25 \n◆◆2023年1/2(月休)振替休日◆◆\n▶新春 iDOL SONIC HAPPY NEW YEAR2023\n会場　新宿アルタKeyStudio\nLIVE　13:00～13:20\n物販 13:30～14:30 \n▶MI・RA・I SUPER LIVE 2023 NEW YEAR PARTY2編\n会場　渋谷近未来会館\nLIVE 15:45～16:00\n物販 16:10～17:00 \n◆◆2023年1/3(火)◆◆\n▶︎ 第15回エアラビューpresents『汐音亜美奈デビューSP』\n会場　新宿Fate\nOPEN 12:45
URL:https://hiraeth.tokyo/event/20221229-20230103/
CATEGORIES:Event,Live
END:VEVENT
BEGIN:VEVENT
DTSTART;VALUE=DATE:20221231
DTEND;VALUE=DATE:20230101
DTSTAMP:20260424T205806
CREATED:20221222T093414Z
LAST-MODIFIED:20230316T185830Z
UID:3543-1672444800-1672531199@hiraeth.tokyo
SUMMARY:274☆☆秋葉原ALL MISSION大晦日SP@秋葉原ZEST
DESCRIPTION:日時 12/31(土)\nイベント 秋葉原ALL MISSION大晦日SP\n料金 前売2500当日2900DD1000(各D別)\n予約 https://tiget.net/events/222000\nLIVE 20:25～20:45\n物販 20:50～21:40\n会場 秋葉原ZEST\nOP 17:30\nST 18:00\n出演　えあらびゅー/Dolce/PEACE MAKER/愛野可奈/桃井なこ/藤岡まりも/漆黒ノ協奏曲～コンチェルト/Mesia/Ns.aoi/秋山せいな/Li-V-RAVE/他 \n配信：1000円\nhttps://tiget.net/events/222002
URL:https://hiraeth.tokyo/event/20221231-2/
LOCATION:秋葉原ZEST\, 外神田3-2-14\, 千代田区\, 東京都\, 101-0021\, 日本
CATEGORIES:Live
ATTACH;FMTTYPE=image/png:https://hiraeth.tokyo/wp-content/uploads/0613db62-d37e-42da-a1fa-a9f41a187ecd.png
END:VEVENT
BEGIN:VEVENT
DTSTART;VALUE=DATE:20221231
DTEND;VALUE=DATE:20230101
DTSTAMP:20260424T205806
CREATED:20221202T042131Z
LAST-MODIFIED:20230316T185822Z
UID:3326-1672444800-1672531199@hiraeth.tokyo
SUMMARY:273☆アイドルプラネタリウム@秋葉原COSMICLAB
DESCRIPTION:日時 12/31(土)\nイベント アイドルプラネタリウムVol.51\n料金 前売900当日1400女性0(D別)\n予約　https://tiget.net/events/222462\nLIVE 17:50〜18:05\n物販 18:10〜19:00\n会場 秋葉原COSMICLAB\nOP 16:30\nST 16:45\nout\n出演　えあらびゅー/ぱろシス。/別所あみか/せろとにんxばくだん/姫花らむ/ \nーイベントレギュレーションー\n※マスク着用で声出し可能予定\n※各部入替制\n※再入場1D必須\n※予約：すべてイベント予約フォームより／運営予約無効\n※入場：予約番号順
URL:https://hiraeth.tokyo/event/20231231-1/
LOCATION:秋葉原COSMICLAB\, 外神田6-14-7 VORT末広町BF1\, 千代田区\, 東京都\, 101-0021\, 日本
CATEGORIES:Live
ATTACH;FMTTYPE=image/jpeg:https://hiraeth.tokyo/wp-content/uploads/S__105725966.jpg
END:VEVENT
END:VCALENDAR