BEGIN:VCALENDAR
VERSION:2.0
PRODID:-//【HIRAETH.Tokyo】(ヒラエス.トーキョー) - ECPv6.11.2//NONSGML v1.0//EN
CALSCALE:GREGORIAN
METHOD:PUBLISH
X-ORIGINAL-URL:https://hiraeth.tokyo
X-WR-CALDESC:【HIRAETH.Tokyo】(ヒラエス.トーキョー) のイベント
REFRESH-INTERVAL;VALUE=DURATION:PT1H
X-Robots-Tag:noindex
X-PUBLISHED-TTL:PT1H
BEGIN:VTIMEZONE
TZID:Asia/Tokyo
BEGIN:STANDARD
TZOFFSETFROM:+0900
TZOFFSETTO:+0900
TZNAME:JST
DTSTART:20230101T000000
END:STANDARD
END:VTIMEZONE
BEGIN:VEVENT
DTSTART;VALUE=DATE:20230402
DTEND;VALUE=DATE:20230403
DTSTAMP:20260422T191411
CREATED:20230308T121511Z
LAST-MODIFIED:20230404T164204Z
UID:4510-1680393600-1680479999@hiraeth.tokyo
SUMMARY:334☆「瀬戸佳凛 #ワールドカオス 加入１周年祝い」 〜加入してくれてありがとう＆新衣装お披露目公演〜@TwinBoxGARAGE
DESCRIPTION:日時　4/2(日)\nイベント　「瀬戸佳凛 #ワールドカオス 加入１周年祝い」〜加入してくれてありがとう＆新衣装お披露目公演〜\n料金 前売2500当日3000女性無料(各D別)\n予約　https://tiget.net/events/235268\nLIVE　10:35～10:50\n物販　11:00～11:50\n会場　秋葉原TwinBoxGARAGE\nOP　9:30\nST　9:50\nout\n出演　えあらびゅー/ICE-ink/あいびす/五十嵐結菜/SUGAR☆VEGA .com/瀬戸佳凛/せのび/ときめきしゅがー！/PEACE MAKER/プリもん/望月みうな/#ワールドカオス/
URL:https://hiraeth.tokyo/event/20230402-2/
LOCATION:秋葉原TwinBoxGARAGE\, 外神田3-2-12 Box'R AKIBAビル1階\, 千代田区\, 東京都\, 101-0021\, 日本
CATEGORIES:Live
ATTACH;FMTTYPE=image/jpeg:https://hiraeth.tokyo/wp-content/uploads/3C28DA32-34F7-4BBC-A319-3A011065594F.jpeg
END:VEVENT
BEGIN:VEVENT
DTSTART;VALUE=DATE:20230402
DTEND;VALUE=DATE:20230403
DTSTAMP:20260422T191411
CREATED:20230226T210608Z
LAST-MODIFIED:20230404T164154Z
UID:4398-1680393600-1680479999@hiraeth.tokyo
SUMMARY:333☆ICOLONY IDOL LIVE 42/DAY2@GOTANDA G4
DESCRIPTION:日時　4/2(日)\nイベント　ICOLONY IDOL LIVE 42/DAY2\n料金 前売2500当日+1000(各D別\n予約　https://tiget.net/events/235741\nLIVE　14:00～14:20\n物販　14:40～15:40\n会場　GOTANDA G4\nOP　10:30\nST　10:45\nout\n出演　えあらびゅー/FLAPSTAR（音羽優美さん生誕ステージあり）/Fragrant Drive/ヒップバーン/Re:INCARNATION/百鬼乙女/レッスントゥミー/Try me/Ra＊papillon/8princess/Tri-Sphere/Linaria/小粒/マリーメトロノーム/WhiteLilly/日曜日のアプレミディ/もふる×クロス/PLC/桜色Standard/TokyoStory/あいらび/Elber/いんたーねっと革命/にゃん〇〇っ♡？/Majewel/桃乃れい/僕通/ \n配信① ツイキャスプレミア 1\,950円\nhttps://twitcasting.tv/c:icolony/shopcart/222980 \n配信② YouTubeメンバーシップ 1\,190円/月\nhttps://www.youtube.com/channel/UCiY71yOK5gh-wCoUBCRSSPA \n配信③ 約1か月後YouTubeアーカイブあり(無料)\n　\n●情報公開日時\n【03/14(火)17時】情報公開・チケット販売開始\n【03/27(月)18時】タイテ公開・運営様チケットお取り置き解禁
URL:https://hiraeth.tokyo/event/20230402-1/
LOCATION:五反田G4\, 西五反田1-11-8 大成ビル4F\, 品川区\, 東京都\, 141-0031
CATEGORIES:Live
ATTACH;FMTTYPE=image/jpeg:https://hiraeth.tokyo/wp-content/uploads/FsW0KGbaMAAgedv-scaled.jpg
END:VEVENT
END:VCALENDAR