BEGIN:VCALENDAR
VERSION:2.0
PRODID:-//【HIRAETH.Tokyo】(ヒラエス.トーキョー) - ECPv6.11.2//NONSGML v1.0//EN
CALSCALE:GREGORIAN
METHOD:PUBLISH
X-ORIGINAL-URL:https://hiraeth.tokyo
X-WR-CALDESC:【HIRAETH.Tokyo】(ヒラエス.トーキョー) のイベント
REFRESH-INTERVAL;VALUE=DURATION:PT1H
X-Robots-Tag:noindex
X-PUBLISHED-TTL:PT1H
BEGIN:VTIMEZONE
TZID:Asia/Tokyo
BEGIN:STANDARD
TZOFFSETFROM:+0900
TZOFFSETTO:+0900
TZNAME:JST
DTSTART:20230101T000000
END:STANDARD
END:VTIMEZONE
BEGIN:VEVENT
DTSTART;VALUE=DATE:20230408
DTEND;VALUE=DATE:20230409
DTSTAMP:20260422T191411
CREATED:20230406T050033Z
LAST-MODIFIED:20230407T220337Z
UID:5080-1680912000-1680998399@hiraeth.tokyo
SUMMARY:336☆☆shibuya ATOMiC LiVE@渋谷ドクタージーカンズ
DESCRIPTION:日時　4/8(土)\nイベント　shibuya ATOMiC LiVE\n料金 前売2500当日+500(各D別)\n予約　https://t.livepocket.jp/e/girlsvision20230408\nLIVE　16:50〜17:15\n物販　17:45〜18:45\n会場　渋谷ドクタージーカンズ\nOP　12:00\nST　12:45\nout\n出演　えあらびゅー/AiDOLOXXXY/あまりりす/大弓ほのか/Jumping Kiss/Blossom Garden/Lanan/Lapis/JADE/
URL:https://hiraeth.tokyo/event/20230408-2/
LOCATION:渋谷ジーカンズ\, 円山町2-4\, 渋谷区\, 東京都\, 日本
CATEGORIES:Live
ATTACH;FMTTYPE=image/jpeg:https://hiraeth.tokyo/wp-content/uploads/DC5698E1-3A72-47E1-8B3B-13D0A574ECED.jpeg
END:VEVENT
BEGIN:VEVENT
DTSTART;VALUE=DATE:20230408
DTEND;VALUE=DATE:20230409
DTSTAMP:20260422T191411
CREATED:20230228T073859Z
LAST-MODIFIED:20230405T202533Z
UID:4410-1680912000-1680998399@hiraeth.tokyo
SUMMARY:335☆エレメンツ！-Elemental Heroines- 冥真ちとせ 任期満了送り出し公演 『ELEMENTAL DARK-冥真ちとせ-』@新高円寺LOFT X
DESCRIPTION:日時　4/8(土)\nイベント　エレメンツ！-Elemental Heroines-\n冥真ちとせ 任期満了送り出し公演\n『ELEMENTAL DARK-冥真ちとせ-』\n料金 前売2000当日+500(各D別)\n予約　https://tiget.net/events/234204\nLIVE　13:05～13:30\n物販　14:10～15:20\n会場　新高円寺LOFT X\nOP　11:00\nST　11:30\nout\n出演　えあらびゅー/エレメンツ！/My Criminal Lovers’/LUXURIA/LUNCH KIDS/NEO EARTH!!/ \n【TT】\n11:30～11:50 LUXURIA\n11:50～12:15 NEO EARTH!!\n12:15～12:40 My Criminal Lovers’\n12:40～13:05 LUNCH KIDS\n13:05～13:30 えあらびゅー\n13:30～14:00 エレメンツ！\n14:00～14:10 記念撮影\n14:10～15:20 終演後物販
URL:https://hiraeth.tokyo/event/20230408-01/
CATEGORIES:Live
ATTACH;FMTTYPE=image/jpeg:https://hiraeth.tokyo/wp-content/uploads/66EB127C-C6FF-4544-A10C-55496D8BA2C7.jpeg
END:VEVENT
END:VCALENDAR