BEGIN:VCALENDAR
VERSION:2.0
PRODID:-//【HIRAETH.Tokyo】(ヒラエス.トーキョー) - ECPv6.11.2//NONSGML v1.0//EN
CALSCALE:GREGORIAN
METHOD:PUBLISH
X-ORIGINAL-URL:https://hiraeth.tokyo
X-WR-CALDESC:【HIRAETH.Tokyo】(ヒラエス.トーキョー) のイベント
REFRESH-INTERVAL;VALUE=DURATION:PT1H
X-Robots-Tag:noindex
X-PUBLISHED-TTL:PT1H
BEGIN:VTIMEZONE
TZID:Asia/Tokyo
BEGIN:STANDARD
TZOFFSETFROM:+0900
TZOFFSETTO:+0900
TZNAME:JST
DTSTART:20230101T000000
END:STANDARD
END:VTIMEZONE
BEGIN:VEVENT
DTSTART;VALUE=DATE:20230409
DTEND;VALUE=DATE:20230410
DTSTAMP:20260422T191434
CREATED:20230302T163258Z
LAST-MODIFIED:20230407T215311Z
UID:4434-1680998400-1681084799@hiraeth.tokyo
SUMMARY:338新宿FATE無銭無双 夜部@新宿Fate
DESCRIPTION:日時　4/9(日)\nイベント　新宿FATE無銭無双 夜部\n料金 0円(2D1000別)\n予約　予約不要\nLIVE　20:20～20:45\n物販　21:35～22:35\n会場　新宿Fate\nOP　16:30\nST　16:40\nout\n出演　えあらびゅー/Lazuli mirage/15GERM Re:boot/HUSHHUSH/きみかが！/Amazing Story/君を来世 から探してた/8bitBRAIN/White Lilly/キミトノセンチメンタル/キミトノセンチメンタル ユース/LUNCH KIDS/僕通/NEO EARTH!!/
URL:https://hiraeth.tokyo/event/20230409-2/
LOCATION:新宿Fate\, 歌舞伎町2-28-16\, 新宿区\, 東京都\, 160-0021\, 日本
CATEGORIES:Live
ATTACH;FMTTYPE=image/jpeg:https://hiraeth.tokyo/wp-content/uploads/201077.jpg
END:VEVENT
BEGIN:VEVENT
DTSTART;VALUE=DATE:20230409
DTEND;VALUE=DATE:20230410
DTSTAMP:20260422T191434
CREATED:20230220T120912Z
LAST-MODIFIED:20230407T215307Z
UID:4308-1680998400-1681084799@hiraeth.tokyo
SUMMARY:337☆☆IDOL SPIRITS 4月増刊合併号～巻頭カラー～@with HARAJUKUホール
DESCRIPTION:日時　4/9(日)\nイベント　IDOL SPIRITS 4月増刊合併号～巻頭カラー～\n料金 前方優先S4000一般A3000当日+500(各D別)\n予約　https://tiget.net/events/235358\nLIVE　17:25～17:45\n物販　17:50～18:50\n会場　with HARAJUKUホール\nOP　9：30\nST　9：50(予定)\nout 22:00\n出演　えあらびゅー/放課後プリンセス/てぃあむ/Bety/8月のエウテルぺ/キミイロプロジェト/FlyDAY/ちびーず/Hiwillow/オレンジ/Jumping Kiss/YUMEADO CiTRON/いちごみるく色に染まりたい。/WqWq/SharLie/Fragrant Drive/\nRiKKYY/SE-tsu-NA/SeedS/PISTIL/ブルーなままで/AiDOLOXXXY/MOGU☆MOGU/comma\,/え～とす/参宮橋駅前女子/星屑ラビリンス/白夜のカフカ/キプリスモルホォ/The Pink Microphone/Lanan/青山Rabness/すたーちす。/PaRet/ \nIDOL SPIRITS 4月増刊号に『#アイチャレ』のコラボ配信決定！\nライブ出演前後のアイドルの様子を無料でお届け！\nhttps://youtube.com/live/6f9oSVGtyRk
URL:https://hiraeth.tokyo/event/20230409-1/
LOCATION:原宿withHARAJUKUホール\, 神宮前1-14-30\, 渋谷区\, 東京都\, 150-0001\, 日本
CATEGORIES:Live
ATTACH;FMTTYPE=image/png:https://hiraeth.tokyo/wp-content/uploads/75559eb6-640a-48dd-bf00-97c5d4bc7dbb.png
END:VEVENT
END:VCALENDAR