BEGIN:VCALENDAR
VERSION:2.0
PRODID:-//【HIRAETH.Tokyo】(ヒラエス.トーキョー) - ECPv6.11.2//NONSGML v1.0//EN
CALSCALE:GREGORIAN
METHOD:PUBLISH
X-WR-CALNAME:【HIRAETH.Tokyo】(ヒラエス.トーキョー)
X-ORIGINAL-URL:https://hiraeth.tokyo
X-WR-CALDESC:【HIRAETH.Tokyo】(ヒラエス.トーキョー) のイベント
REFRESH-INTERVAL;VALUE=DURATION:PT1H
X-Robots-Tag:noindex
X-PUBLISHED-TTL:PT1H
BEGIN:VTIMEZONE
TZID:Asia/Tokyo
BEGIN:STANDARD
TZOFFSETFROM:+0900
TZOFFSETTO:+0900
TZNAME:JST
DTSTART:20230101T000000
END:STANDARD
END:VTIMEZONE
BEGIN:VEVENT
DTSTART;VALUE=DATE:20230422
DTEND;VALUE=DATE:20230423
DTSTAMP:20260422T191403
CREATED:20230120T111526Z
LAST-MODIFIED:20230424T111750Z
UID:3880-1682121600-1682207999@hiraeth.tokyo
SUMMARY:342☆☆MARQUEE祭mini Vol.147@渋谷Spotify O-nest
DESCRIPTION:MARQUEE祭mini Vol.147特典\nイベント概要\n日時　4月22日(土)\nイベント　MARQUEE祭mini Vol.147\n料金 前売3000当日3500(各D別)\n予約　http://eplus.jp/marquee-matsuri\nLIVE　14:10～14:30\n物販　14:45-15:45ブースAB\n会場　渋谷Spotify O-nest\nOP　10:30\nST　11:00 \nプレオーダー\n◆チケット◆\n先行予約　3/18（土）正午～3/26（日）23:59\nhttps://eplus.jp/sf/detail/2029630001-P0030282P021001?P1=0175 \n◆特典◆\n※特典は条件をクリアされた方1予約につき1セットの特典となります。 \n▶チェキ2枚(60秒)お話できます\n※日付、名前なし・当日のみ使用可能\n※本券は現金との引き換え、盗難、紛失時の再発行はできません。\n※本券は不正防止の為転売譲渡は禁止となります。 \n▶宿題チェキ(当日渡し)\n※本券は現金との引き換え、盗難、紛失時の再発行はできません。\n※すべてのメンバーからお渡しではなくメンバーの中から一名を選んでいただきます。\n※1点づつ手作りになりますので個体差がございます。こちらは意図的な個体差ではございません。\n※手作りの特性上お渡し時期に差がでる場合がございます。こちらも意図的な時期の差ではございません。\n※本券は不正防止の為転売譲渡は禁止となります。 \n▶ランチェキ(全体ランチェキ)\n※ランチェキの種類は選べません。\n※本券は不正防止の為転売譲渡は禁止となります。 \n◆条件◆\n以下をまとめてツイート\n※手作りグッズ制作の都合上2023年4月10日までにツイートをお願いします。 \n▶『MARQUEE祭miniらびゅー』の文字\n※指定の文字以外をツイートされた場合に確認ができない為、条件を満たさないと判断される場合がございます。 \n▶当選画面のスクリーンショット\n※個人を特定されると判断できる情報は非表示で投稿をお願いします。 \n▶推しの名前\n※えあらびゅーのメンバー内からご指定ください。\n※ご指定頂いたメンバーが、宿題チェキ特典の制作をいたします。 \n一般\n◆チケット◆\n一般発売　4/1（土）10:00～4/21（金）18:00\nhttps://eplus.jp/sf/detail/2029630001-P0030282P021001?P1=0175 \n◆特典◆\n▶チェキ1枚(60秒)お話できます\n※日付、名前なし・当日のみ使用可能\n※本券は現金との引き換え、盗難、紛失時の再発行はできません。\n※本券は不正防止の為転売譲渡は禁止となります。 \n▶ランチェキ(全体ランチェキ)\n※ランチェキの種類は選べません。\n※本券は不正防止の為転売譲渡は禁止となります。 \n◆条件◆\n※管理の都合上2023年4月10日までにツイートをお願いします。 \n▶『MARQUEE祭miniらびゅー』の文字\n※指定の文字以外をツイートされた場合に確認ができない為、条件を満たさないと判断される場合がございます。 \n▶当選画面のスクリーンショット\n※個人を特定されると判断できる情報は非表示で投稿をお願いします。 \n指名入場特典\n予約の有無かかわらず、2023年4月22日に開催されるMARQUEE祭mini Vol.147の入場時にえあらびゅーを指名して頂いた方へ以下の特典をプレゼントいたします。 \n◆特典◆\n▶コメサチェキ券1枚(5月31日まで使用可能)\n※本券は現金との引き換え、盗難、紛失時の再発行はできません。\n※当日の利用は不可とさせて頂きます。\n※記載された期日までにご使用ください。\n※本券は不正防止の為転売譲渡は禁止となります。 \n▶集合プリ（画像）\nダウンロードできるサイトのURL、QRコード、パスワードを当日お渡しいたします。\n※お客様の端末でダウンロードをお願いいたします、\n※端末の操作方法については、メーカーまたは購入先へお問い合わせください。\n※ダウンロードした画像の配布、SNSへの投稿などを禁止いたします。\n※特典を獲得されたお客様ご本人以外のかたへの共有などは禁止いたします。 \n▶えあらびゅーシール（2種のうち1枚）\n※シールの種類は選べません。\n※本券は不正防止の為転売譲渡は禁止となります。 \n▶CD抽選くじ引き\n※こちらのクジは、CDが必ず全ての人に当たるクジではございません。一定の割合（非公開）で当たりが入っているクジを1人1枚引いていただき、当たりくじを引いた方にCDをプレゼントさせていただきます。また特定のお客様に有利に働くようなくじ引きのシステムではなく、手作りの簡単なクジになります。\n・関係者配布用初回生産版の”だから、アイドル！”\n（ももな、きこ、ひなたがレコーディングスタジオで収録した音源） \n◆条件◆\n入場時にえあらびゅー指名と受付スタッフにお知らせください\n入場特典チケットをお渡し致します \nーーイベントレギュレーションーー\n●チケットはお一人様1枚のみ（チケットにはその方のお名前が記入されます)\n●整理券番号順入場、オールスタンディング\n●入場時に身分証確認をさせていただく場合がございます。顔写真付き身分証明証を持参お願いします\n●入場時に手の消毒、検温をお願いします\n●体温が37.5以上の方、咳症状の方は入場をお断りします\n●会場内は必ずマスクをご着用ください\n●リフト、モッシュ、柵に登る等の危険行為、ヤジ、泥酔等禁止\n●営利目的の転売禁止\n●会場内への飲食物の持ち込み禁止、アルコール販売なし\n●再入場不可\n●出演者変更に伴いますご返金は致しかねます \nタイムテーブル\n11:00-11:20 (20) 8月のエウテルペ        並行物販＆特典会 11:30-12:30 ブースA\n11:20-11:40 (20) Shibu3 project         並行物販＆特典会 11:50-12:50 ブースB\n11:40-12:00 (20) PATI PATI CANDY…☆   並行物販＆特典会 12:10-13:10 ブースC\n\n12:05-12:25 (20) notall                 並行物販＆特典会 12:35-13:35 ブースA\n12:25-12:45 (20) カリスマめんざいふっ！ 並行物販＆特典会 12:55-13:55 ブースB\n12:45-13:05 (20) 夜明けのモニュメント　 並行物販＆特典会 13:15-14:15 ブースC\n\n13:10-13:30 (20) ♡’s(kyuuuuns)          並行物販＆特典会 13:40-14:40 ブースA\n13:30-13:50 (20) テラス×テラス         終演後物販＆特典会 14:45-15:45 ホール内\n13:50-14:10 (20) ルルネージュ　         終演後物販＆特典会 14:45-15:45 ホール内\n14:10-14:30 (20) えあらびゅー 　        終演後物販＆特典会 14:45-15:45 ブースAB
URL:https://hiraeth.tokyo/event/20230422-1/
LOCATION:渋谷Spotify O-nest\, 円山町２−３ O-WESTビル 6F\, 渋谷区\, 東京都\, 150-0044\, 日本
CATEGORIES:Live
ATTACH;FMTTYPE=image/jpeg:https://hiraeth.tokyo/wp-content/uploads/815B574D-E0CE-4E12-807B-2F816D2AE457.jpeg
END:VEVENT
BEGIN:VEVENT
DTSTART;VALUE=DATE:20230422
DTEND;VALUE=DATE:20230424
DTSTAMP:20260422T191403
CREATED:20230413T065140Z
LAST-MODIFIED:20230413T072050Z
UID:5174-1682121600-1682294399@hiraeth.tokyo
SUMMARY:🐈‍⬛🐻🐣🌻🐸🐰ぼくらの2日間らびゅー🐰🐸🌻🐣🐻🐈‍⬛
DESCRIPTION:🐈‍⬛🐻🐣🌻🐸🐰ぼくらの2日間らびゅー🐰🐸🌻🐣🐻🐈‍⬛ \nいつもの えあらば〜さん も\n対バンで 見かけたらば〜さん も\n配信で 気になってたらば〜さん も\nえあらびゅー 初めてらば〜 さんも\nここにくれば誰かがいる☺️☺️ \nみんなが集まる”2日間連続イベント”やります🔥\nえあらびゅーと一緒に楽しもっ！ \nぼく2チャレンジ概要\n◆期間：4月22日～4月23日 \n◆タグ\n#ぼく2らびゅー \n◆各ライブ特典\n・4月22日\n・4月23日 \n◆動員企画！！ \n◆初めましてらびゅー（新規さん）企画！！ \n◆人動員の目標達成したら、、、\n▶条件、ルール\n・ぼく2 開催期間（5月3日～5月7日）中に \n◆全日特典\n▶特典内容\n・\n▶条件、ルール\n・5月3日(水祝)：\n・5月4日(木祝)：\n・5月5日(金祝)：\n・5月6日(土)：\n・5月7日(日)：\n※上記の条件を全てクリアで特典を受け取ることができます。 \n◆全通特典\n▶特典内容 \n▶条件、ルール\n・ぼく5開催期間（4月22日～4月23日）の全てのイベントやライブに参加\n※上記の条件をクリアで特典を受け取ることができます。 \nスケジュール\n◆◆2023年4月22日(土)◆◆\n☆☆MARQUEE祭mini Vol.147@渋谷Spotify O-nest\n\n◆◆2023年4月23日(日)◆◆\n☆☆IDOL SQUARE NEXT@神田KANDA SQUARE HALL
URL:https://hiraeth.tokyo/event/20230422-0423/
CATEGORIES:Event,Live
ATTACH;FMTTYPE=image/jpeg:https://hiraeth.tokyo/wp-content/uploads/FtkBDWLagAIY5RX.jpg
END:VEVENT
END:VCALENDAR