BEGIN:VCALENDAR
VERSION:2.0
PRODID:-//【HIRAETH.Tokyo】(ヒラエス.トーキョー) - ECPv6.11.2//NONSGML v1.0//EN
CALSCALE:GREGORIAN
METHOD:PUBLISH
X-ORIGINAL-URL:https://hiraeth.tokyo
X-WR-CALDESC:【HIRAETH.Tokyo】(ヒラエス.トーキョー) のイベント
REFRESH-INTERVAL;VALUE=DURATION:PT1H
X-Robots-Tag:noindex
X-PUBLISHED-TTL:PT1H
BEGIN:VTIMEZONE
TZID:Asia/Tokyo
BEGIN:STANDARD
TZOFFSETFROM:+0900
TZOFFSETTO:+0900
TZNAME:JST
DTSTART:20230101T000000
END:STANDARD
END:VTIMEZONE
BEGIN:VEVENT
DTSTART;VALUE=DATE:20230430
DTEND;VALUE=DATE:20230501
DTSTAMP:20260422T191411
CREATED:20230413T105214Z
LAST-MODIFIED:20230427T200656Z
UID:5179-1682812800-1682899199@hiraeth.tokyo
SUMMARY:346☆☆HYPE IDOL! FRESH!@新橋ニッショーホール
DESCRIPTION:日時　4/30(日)\nイベント　HYPE IDOL! FRESH!\n料金 前方5000一般3000当日+1000(D別)\n予約　https://ticketdive.com/event/hype-idol-fresh-0430\nLIVE　11:25～11:35\n物販　11:40～12:30\n会場　新橋ニッショーホール\nOP　10:00\nST　10:30\nout\n出演　えあらびゅー/ai*ai/アラカシ。/狂い咲けセンターロード/小粒/Chou2Precede/シュユノトキ/セカモノ/溺愛めりーごーらんど/トキメロ/NAZUNa/ばたんキュン/プエラの絶対値/Planet Merry/Fenomeno/未来サプライズ/MM/momograci/代々木女子音楽院/ラビットビット/ルノアエクラ/翡翠キセキ/夜明けのモニュメント/
URL:https://hiraeth.tokyo/event/20230430-1/
LOCATION:新橋ニッショーホール\, 東新橋1-1-19 ヤクルト本社ビル\, 港区\, 東京都\, 105-0021\, 日本
CATEGORIES:Live
ATTACH;FMTTYPE=image/jpeg:https://hiraeth.tokyo/wp-content/uploads/13dcfc035861f20aff03c82d7f9c8da1-scaled.jpg
END:VEVENT
END:VCALENDAR