BEGIN:VCALENDAR
VERSION:2.0
PRODID:-//【HIRAETH.Tokyo】(ヒラエス.トーキョー) - ECPv6.11.2//NONSGML v1.0//EN
CALSCALE:GREGORIAN
METHOD:PUBLISH
X-ORIGINAL-URL:https://hiraeth.tokyo
X-WR-CALDESC:【HIRAETH.Tokyo】(ヒラエス.トーキョー) のイベント
REFRESH-INTERVAL;VALUE=DURATION:PT1H
X-Robots-Tag:noindex
X-PUBLISHED-TTL:PT1H
BEGIN:VTIMEZONE
TZID:Asia/Tokyo
BEGIN:STANDARD
TZOFFSETFROM:+0900
TZOFFSETTO:+0900
TZNAME:JST
DTSTART:20230101T000000
END:STANDARD
END:VTIMEZONE
BEGIN:VEVENT
DTSTART;VALUE=DATE:20230503
DTEND;VALUE=DATE:20230508
DTSTAMP:20260422T174339
CREATED:20230407T041919Z
LAST-MODIFIED:20230425T104850Z
UID:5094-1683072000-1683503999@hiraeth.tokyo
SUMMARY:🐈‍⬛🐻🐣🌻🐸🐰ぼくらの5日間らびゅー🐰🐸🌻🐣🐻🐈‍⬛
DESCRIPTION:🐈‍⬛🐻🐣🌻🐸🐰ぼくらの5日間らびゅー🐰🐸🌻🐣🐻🐈‍⬛\nいつもの えあらば〜さん も\n対バンで 見かけたらば〜さん も\n配信で 気になってたらば〜さん も\nえあらびゅー 初めてらば〜 さんも\nここにくれば誰かがいる☺️☺️ \nみんなが集まる”5日間連続イベント”やります🔥\nえあらびゅーと一緒に楽しもっ！ \nぼく5チャレンジ概要\n🔥🔥ぼく5ツイートを5/7までに1000RTチャレンジ🔥🔥\n◆期間：告知開始～5月7日23:59 \n◆タグ\n#ぼく5らびゅー \n◆達成\n🔥🔥無銭ライブリベンジ！！🔥🔥\n目標達成したら6/15開催のえあらびゅー主催ライブが無銭になる \n▶条件、ルール\n・ぼく5開催最終日（5月7日23:59）までに指定のぼく5のツイートがRTとコメント付きRTの合計1000RT \n特典\n毎回のライブで1枚”ぼく5特典券”をお渡しします\n※6枚目以降の特典を受け取るには、MARQUEE祭miniの参加が必須になります\n※通過式ではございません。枚数の組み合わせ方は自由です。 \n◆引換\n▶1枚：- \n▶2枚：チェキ券1枚 \n▶3枚：ぼく5シール\nぼくらの5日間らびゅーオリジナルシール \n▶4枚：120秒延長券\n物販時のお話時間を120秒延長できる券 \n▶5枚：プロフィール帳\n推しメンの手作りプロフィール帳をプレゼント！ \n▶6枚：交換日記\nメンバーが毎日やってるMARQUEE祭miniらびゅーでの交換日記をあなた宛てに、、、 \n▶7枚：20秒動画or20秒撮り放題\nお客様のカメラで20秒動画または写真が撮り放題 \n▶8枚：ツイスターゾーン灯火未来サンシャインマジック（ももきこひなver)関係者用CD \n▶9枚：全メンバー各1チェキ券とぼく5お礼色紙\n集合チェキではなく、メンバーひとりづつ1枚づつチェキが撮れます\nメンバーサインと一言が入った色紙です \n▶引換例\nMARQUEE祭mini来れなかった方で8枚ぼく5特典券をお持ちの方の引換方\n例1、5枚のプロフィール帳と、3枚のぼく5シール\n例2、4枚の120秒延長券と、2枚のチェキ券と2枚のチェキ券\netc… \nMARQUEE祭mini参加で8枚ぼく5特典券をお持ちの方の引換方\n例3、8枚のツイスターゾーン灯火未来サンシャインマジック（ももきこひなver)関係者用CD\n例4、6枚の交換日記と、2枚のチェキ券1枚\netc… \nスケジュール\n◆◆2023年5月3日(水祝)◆◆\n▶新宿Fate\nLIVE\n物販  \n▶秋葉原COSMICLAB\nLIVE\n物販 \n▶徒歩\n春の山手線一周徒歩ビラ配り企画『ビラ配り、ついて来てもらってもイイですか？』SP \n◆◆2023年5月4日(木祝)◆◆\n▶ \n▶ \n◆◆2023年5月5日(金祝)◆◆\n▶お台場HADO ARENA \n▶新宿アルタKeyStudio \n◆◆2023年5月6日(土)◆◆\n▶渋谷SHIBUYA ONE5 \n▶五反田G7 \n◆◆22023年5月7日(日)◆◆\n▶渋谷Spotify O-nest\nLIVE　19:10～19:30\n物販　19:40～20:40
URL:https://hiraeth.tokyo/event/20230503-20230507/
CATEGORIES:Event,Live
ATTACH;FMTTYPE=image/png:https://hiraeth.tokyo/wp-content/uploads/7a08985ab07e8261ac715706c59f1c11.png
END:VEVENT
BEGIN:VEVENT
DTSTART;VALUE=DATE:20230506
DTEND;VALUE=DATE:20230507
DTSTAMP:20260422T174339
CREATED:20230412T011412Z
LAST-MODIFIED:20230522T184509Z
UID:5168-1683331200-1683417599@hiraeth.tokyo
SUMMARY:353☆SHIBUYA いちごフェスVol.1一部@SHIBUYA ONE5
DESCRIPTION:日時　5/6(土)\nイベント　SHIBUYA いちごフェスVol.1一部\n料金 前売2000当日+500(各D代)\n予約　https://t.livepocket.jp/e/gom3l\nLIVE　12:20〜12:40\n物販　12:45〜13:45\n会場　渋谷SHIBUYA ONE5\nOP　11:00\nST　11:20\nout\n出演　えあらびゅー/ぱんぷるぽっぷ/チャーヂ！/ひめもすオーケストラ/ \n\n【イベント注意事項】\n・お客様ご都合によりますキャンセルは不可とさせていただきます。\n・コールOK(マスク着用の上)\n・写真・動画撮影等は各グループ様のレギュレーションにお任せとなります。\n・ご入場、特典会の待機列は周りの方のご迷惑ならないようご整列ください。\n・当日のご入場、当日券のご案内につきましてはイベント毎に異なるため、各イベントの詳細をご確認ください。\n・モッシュ・リフト・ダイブ等は禁止とさせていただきます。ご注意させていただき改善されない場合は退出いただく可能性がございます。その際入場料のご返金は致しかねます。\n・入退場時は近隣のご迷惑とならないようお願い致します。\n・本公演は再入場不可となります。再入場時都度ドリンク代が必要となります。\n・ホールフロア内への飲食物及び、危険と判断される物の持ち込みは固くお断りいたします。アルコールを飲酒されてのご入場はお断りさせていただく場合もございますのでご了承ください。\n・イベントの内容等により開始時間、終了時間が変更になる可能性もございます。予めご了承ください。\n・イベント会場内では、係員の指示に従っていただきますようお願いいたします。\n・上記禁止事項が守られない、係員の指示に従わないなど、迷惑行為を行ったと主催及び係員に判断された場合、 開演中如何にかかわらずご退場いただきます。またその際の返金などは一切応じられませんのでご了承ください。\n・お荷物、貴重品はお客様ご自身で管理いただき、盗難時は弊社は一切の責任を負いませんのでご了承下さい。\n・会場内でのトラブルや、お客様同士での怪我、スマートフォン、カメラ等の所持品の破損時は弊社は一切の責任を負いませんのでご了承下さい。
URL:https://hiraeth.tokyo/event/20230506-1/
LOCATION:渋谷SHIBUYA ONE5\, 渋谷3-6-4 プライヤ渋谷B1F\, 渋谷区\, 東京都\, 150-0002\, 日本
CATEGORIES:Live
ATTACH;FMTTYPE=image/jpeg:https://hiraeth.tokyo/wp-content/uploads/A07454CF-5854-4CC3-B5AA-4A2EE53B8A12.jpeg
END:VEVENT
END:VCALENDAR