BEGIN:VCALENDAR
VERSION:2.0
PRODID:-//【HIRAETH.Tokyo】(ヒラエス.トーキョー) - ECPv6.11.2//NONSGML v1.0//EN
CALSCALE:GREGORIAN
METHOD:PUBLISH
X-ORIGINAL-URL:https://hiraeth.tokyo
X-WR-CALDESC:【HIRAETH.Tokyo】(ヒラエス.トーキョー) のイベント
REFRESH-INTERVAL;VALUE=DURATION:PT1H
X-Robots-Tag:noindex
X-PUBLISHED-TTL:PT1H
BEGIN:VTIMEZONE
TZID:Asia/Tokyo
BEGIN:STANDARD
TZOFFSETFROM:+0900
TZOFFSETTO:+0900
TZNAME:JST
DTSTART:20230101T000000
END:STANDARD
END:VTIMEZONE
BEGIN:VEVENT
DTSTART;VALUE=DATE:20230514
DTEND;VALUE=DATE:20230515
DTSTAMP:20260422T174439
CREATED:20230511T060029Z
LAST-MODIFIED:20230522T184557Z
UID:5449-1684022400-1684108799@hiraeth.tokyo
SUMMARY:358☆アイドルプラネタリウムVol.82@秋葉原COSMICLAB
DESCRIPTION:日時　5/14(日)\nイベント　アイドルプラネタリウムVol.82\n料金　予約1400当日+500女性0(各D別)\n予約　https://tiget.net/events/246951\nLIVE　18:35～18:55\n物販　19:00～19:50\n会場　秋葉原COSMICLAB\nOP　16:00\nST　16:15\nout\n出演　えあらびゅー/きみかが！/水萌みず/Amazing Story/プリもん/雨音とアプローズ/天泣/ソロツモ/\nセトリ　 \n※マスク着用で声出し可能\n※予約番号順入場\n※再入場1D必須
URL:https://hiraeth.tokyo/event/20230514-2/
LOCATION:秋葉原COSMICLAB\, 外神田6-14-7 VORT末広町BF1\, 千代田区\, 東京都\, 101-0021\, 日本
CATEGORIES:Live
ATTACH;FMTTYPE=image/jpeg:https://hiraeth.tokyo/wp-content/uploads/S__115818529.jpg
END:VEVENT
BEGIN:VEVENT
DTSTART;VALUE=DATE:20230514
DTEND;VALUE=DATE:20230515
DTSTAMP:20260422T174439
CREATED:20230511T074013Z
LAST-MODIFIED:20230522T184551Z
UID:5451-1684022400-1684108799@hiraeth.tokyo
SUMMARY:357☆LIVEプラスSUNDAY一部@池袋リヴォイス
DESCRIPTION:日時　5/14(日)\nイベント　LIVEプラスSUNDAY一部\n料金　予約1000当日+500(各D別)\n予約　https://t.livepocket.jp/e/liveplus20230514_1\nLIVE　14:45～15:05\n物販　15:10～16:10（にあ制作フレーム使用の”にあのフレーム物販”になります）\n会場　池袋リヴォイス\nOP　14:30\nST　14:45\nout\n出演　えあらびゅー/キプリスモルホォ/ZeroProject Z5-B/ZeroProject Z5-C/原宿学園/もぐちっぷ/
URL:https://hiraeth.tokyo/event/20230514-1/
LOCATION:池袋リヴォイス\, 池袋2-12-9 広瀬ビルB1\, 豊島区\, 東京都\, 171-0014\, 日本
CATEGORIES:Live
ATTACH;FMTTYPE=image/jpeg:https://hiraeth.tokyo/wp-content/uploads/Fv7d2xsagAMg8gG.jpg
END:VEVENT
END:VCALENDAR