BEGIN:VCALENDAR
VERSION:2.0
PRODID:-//【HIRAETH.Tokyo】(ヒラエス.トーキョー) - ECPv6.11.2//NONSGML v1.0//EN
CALSCALE:GREGORIAN
METHOD:PUBLISH
X-WR-CALNAME:【HIRAETH.Tokyo】(ヒラエス.トーキョー)
X-ORIGINAL-URL:https://hiraeth.tokyo
X-WR-CALDESC:【HIRAETH.Tokyo】(ヒラエス.トーキョー) のイベント
REFRESH-INTERVAL;VALUE=DURATION:PT1H
X-Robots-Tag:noindex
X-PUBLISHED-TTL:PT1H
BEGIN:VTIMEZONE
TZID:Asia/Tokyo
BEGIN:STANDARD
TZOFFSETFROM:+0900
TZOFFSETTO:+0900
TZNAME:JST
DTSTART:20230101T000000
END:STANDARD
END:VTIMEZONE
BEGIN:VEVENT
DTSTART;VALUE=DATE:20230520
DTEND;VALUE=DATE:20230521
DTSTAMP:20260422T174300
CREATED:20230424T101716Z
LAST-MODIFIED:20230522T184618Z
UID:5267-1684540800-1684627199@hiraeth.tokyo
SUMMARY:359☆shibuya ATOMiC LiVE@渋谷ジーカンズ
DESCRIPTION:日時 5/20(土)\nイベント shibuya ATOMiC LiVE\n料金 前売2500当日+500(各D別)\n予約 https://t.livepocket.jp/e/girlsvision20230520\nLIVE 15:10～15:30\n物販 15:50～16:50\n会場 渋谷ジーカンズ\nOP 11:30\nST 11:45(予定)\nout\n出演　えあらびゅー/アイコノクラズム/アクアルクス/1学期の前髪/幻奏リフレクション / 新生★東京23区ガールズ/ZeroProject Z5-B/トイランド/PLC/ヒップバーン/ヒビコレ/もぐちっぷ/ヤンチャン学園音楽部/ラジガロ/Licht/URUDiA/
URL:https://hiraeth.tokyo/event/20230520-1/
LOCATION:渋谷ジーカンズ\, 円山町2-4\, 渋谷区\, 東京都\, 日本
CATEGORIES:Live
ATTACH;FMTTYPE=image/jpeg:https://hiraeth.tokyo/wp-content/uploads/e2600f5c0bc36c59286b338593491ffb.jpg
END:VEVENT
BEGIN:VEVENT
DTSTART;VALUE=DATE:20230520
DTEND;VALUE=DATE:20230521
DTSTAMP:20260422T174300
CREATED:20230516T095114Z
LAST-MODIFIED:20230522T184604Z
UID:5529-1684540800-1684627199@hiraeth.tokyo
SUMMARY:359☆Girls Face in Shibuya@渋谷VIDENT
DESCRIPTION:日時 5/20(土)\nイベント Girls Face in Shibuya\n料金 予約2500当日+500(各D別)\n予約 https://tiget.net/events/247063\nLIVE 18:10〜18:30\n物販 18:35〜19:30\n会場 渋谷VIDENT\nOP 9:15\nST 9:30(予定)\nout\n出演　えあらびゅー/8WIZARD/あわこい/夜明けのモニュメント/HERRY GIRLS PROJECT/NoelliL/ブルーなままで/8FLAG/PHiZZ/8ANGEL/新生★東京23区ガールズ/8JEWE/Pety/8DOLL/星座百景グレート/RAiMEI/きゅーてぃくるっ！/星屑ラビリンス/ゆ～ぷりっ？/Lazuli mirage/DINKY JUNK/我らが地球ノ青い鳥/ヒップバーン/Re:verie/As a Cutie Pomeranian/錬日oTo個色/ぱーみるっ！/アクアルクス/Planet Merry/THEラスミー/代々木女子音楽院/あまりりす/ありはらりな/No.69/RЁSELA/
URL:https://hiraeth.tokyo/event/20230520-2/
LOCATION:渋谷VIDENT\, 宇田川町29-4 B2階\, 渋谷区\, 東京都\, 150-0042\, 日本
CATEGORIES:Live
ATTACH;FMTTYPE=image/png:https://hiraeth.tokyo/wp-content/uploads/112E7E4A-FEDF-4B79-8BCA-1115DE56A835.png
END:VEVENT
END:VCALENDAR