BEGIN:VCALENDAR
VERSION:2.0
PRODID:-//【HIRAETH.Tokyo】(ヒラエス.トーキョー) - ECPv6.11.2//NONSGML v1.0//EN
CALSCALE:GREGORIAN
METHOD:PUBLISH
X-ORIGINAL-URL:https://hiraeth.tokyo
X-WR-CALDESC:【HIRAETH.Tokyo】(ヒラエス.トーキョー) のイベント
REFRESH-INTERVAL;VALUE=DURATION:PT1H
X-Robots-Tag:noindex
X-PUBLISHED-TTL:PT1H
BEGIN:VTIMEZONE
TZID:Asia/Tokyo
BEGIN:STANDARD
TZOFFSETFROM:+0900
TZOFFSETTO:+0900
TZNAME:JST
DTSTART:20230101T000000
END:STANDARD
END:VTIMEZONE
BEGIN:VEVENT
DTSTART;VALUE=DATE:20230521
DTEND;VALUE=DATE:20230522
DTSTAMP:20260422T174339
CREATED:20230514T075821Z
LAST-MODIFIED:20230522T184634Z
UID:5503-1684627200-1684713599@hiraeth.tokyo
SUMMARY:361☆PEACE MAKER1周年祭前主催ライブ@秋葉原ZEST
DESCRIPTION:日時　5/21(日)\nイベント　PEACE MAKER1周年祭前主催ライブ\n料金　予約1000当日1500DD予約1000(各D別)\n予約　https://tiget.net/events/247379\nLIVE　12:30～13:00\n物販　13:00～14:00\n会場　秋葉原ZEST\nOP　11:30\nST　11:50\nout\n出演　えあらびゅー/Dolce/PEACE MAKER/Girls Upright/七海こなみ/別所あみか/ViVian/AdorableMonster/他 \nYouTubeにて無料配信!!\nhttps://youtube.com/live/6f7jslpZltY?feature=share
URL:https://hiraeth.tokyo/event/20230521-2/
LOCATION:秋葉原ZEST\, 外神田3-2-14\, 千代田区\, 東京都\, 101-0021\, 日本
CATEGORIES:Live
ATTACH;FMTTYPE=image/jpeg:https://hiraeth.tokyo/wp-content/uploads/9816.jpg
END:VEVENT
BEGIN:VEVENT
DTSTART;VALUE=DATE:20230521
DTEND;VALUE=DATE:20230522
DTSTAMP:20260422T174339
CREATED:20230321T093851Z
LAST-MODIFIED:20230522T184628Z
UID:4953-1684627200-1684713599@hiraeth.tokyo
SUMMARY:360☆IDOL SPIRITS 5月巻頭カラー@五反田G7
DESCRIPTION:日時 5/21(日)\nイベント IDOL SPIRITS 5月巻頭カラー\n料金 前方前売3000一般前売り2000当日+500(各D別)\n予約　https://tiget.net/events/244448\nLIVE　16:00〜16:20\n物販　16:25〜17:25\n会場　五反田G7\nOP 12:15\nST 12:25(予定)\nout\n出演　えあらびゅー/ハチャメチャ声優ユニットSTEM/妄想学院・生徒会/Misty Syrena/暁のアリア/Lapis/風邪をひいた時にみる夢/日曜日の起死回生/Lanan/mesia/疾風RUN舞/ドリームパスポート/.BPM/RiKKYY/東京CLEAR’S/ripple link/Talkie Tokyo/きっと、これが世界？/ぱーみるっ！/Comma\,/PLC/星屑ラビリンス/にゃん○○っ♡？/大宮アイドール/Licht/代々木女子音楽院/天使突抜ニ読ミ/81moment/SeedS/PISTIL/てぃあむ/
URL:https://hiraeth.tokyo/event/20230521-1/
LOCATION:五反田G7\, 西五反田2-6-3 東洋ビルB1階\, 品川区\, 東京都\, 141-0031\, 日本
CATEGORIES:Live
ATTACH;FMTTYPE=image/jpeg:https://hiraeth.tokyo/wp-content/uploads/S__5603337.jpg
END:VEVENT
END:VCALENDAR