BEGIN:VCALENDAR
VERSION:2.0
PRODID:-//【HIRAETH.Tokyo】(ヒラエス.トーキョー) - ECPv6.11.2//NONSGML v1.0//EN
CALSCALE:GREGORIAN
METHOD:PUBLISH
X-ORIGINAL-URL:https://hiraeth.tokyo
X-WR-CALDESC:【HIRAETH.Tokyo】(ヒラエス.トーキョー) のイベント
REFRESH-INTERVAL;VALUE=DURATION:PT1H
X-Robots-Tag:noindex
X-PUBLISHED-TTL:PT1H
BEGIN:VTIMEZONE
TZID:Asia/Tokyo
BEGIN:STANDARD
TZOFFSETFROM:+0900
TZOFFSETTO:+0900
TZNAME:JST
DTSTART:20230101T000000
END:STANDARD
END:VTIMEZONE
BEGIN:VEVENT
DTSTART;VALUE=DATE:20230528
DTEND;VALUE=DATE:20230529
DTSTAMP:20260422T174439
CREATED:20230515T114721Z
LAST-MODIFIED:20230525T102640Z
UID:5519-1685232000-1685318399@hiraeth.tokyo
SUMMARY:365☆☆ IDOL Treasure bottle LIVE Vol.51 supported byダイキサウンド@ラフォーレミュージアム原宿
DESCRIPTION:日時 5/28(日)\nイベント　IDOL Treasure bottle LIVE Vol.51 supported byダイキサウンド\n料金　前売前方S4200一般3000当日+500円(各D別)\n予約 https://tiget.net/events/247757\nLIVE 16:40〜16:55\n物販　17:00〜18:00\n会場 原宿ラフォーレミュージアム\nOP 11:00\nST 11:15\nout\n出演　えあらびゅー/Asterisk*zeroきっとずっと青春。/Jewel☆Mare/Shupines/スプスラッシュ/1461日のクレシドラ/ZeroProject Z2-A3\,B3/てぃあむ/七星七愛/Newbie Ivy/Next☆Rico/ばたんキュン/花いろは/THE PINK MICROPHONE/PHiZZ/プエラの絶対値/Hey!Mommy!/Baby’z Breath/放課後プリンセス/Milky＊Sphene/mila bijou/LOVE SPEARS/RUN WiTH YOU/りンね/ルーチェ研究生/ \n指名特典　ブロマイド2枚 \n\nーイベントレギュレーションー\n※当日初回入場時、ドリンク代別途有（600円）（お支払いは現金のみ）\n※当日券は現金、クレジットカード、paypay、交通系、IDでお支払い可能です。 \n【購入方法】\n下記の専用フォームよりご購入下さい。\n1 イベント前売り専用フォームとなります。\n【DAY1】5/27（土）\nhttps://tiget.net/events/247756\n（前売券販売期間 2023年5月16日（火）19:00～2023年5月26日（金）23:59まで）\n【DAY2】5/28（日）\nhttps://tiget.net/events/247757\n（前売券販売期間 2023年5月16日（火）19:00～2023年5月27日（土）23:59まで）\n②当日券\n※当日券は券買状況により無い場合もございますので予めご了承願います。  \n●入場順：前売り券→当日券\n※TIGETで発券された番号順での整列、お呼び出しをさせて頂きますので、\nご購入頂いたチケットのQRコードを事前ご準備下さいませ。\n※開演時間以降にお越しの場合、番号順でのご案内ではなく、会場にお越し頂いたお客様順でご入場となります。予めご了承下さい。\n※当日券のご案内ですが、会場の混雑状況により当日券は無い場合もございますので予めご了承願います。\n※電子チケットや印刷物での入場の際、電波がない、電池が切れた、印刷物を忘れたなど受付にて提示できない場合はご入場できません。\n※チケットは御１人様最大2枚までのご購入となります。\n※会場はオールスタンディング観覧でのご案内となります。 \n【イベントご観覧時の新型コロナウイルス感染拡大予防対策について】\n※マスク着用でコールは可能です。\n※イベントご参加の際、マスクの着用は必須になります。マスク着用のない方はご参加できませんので、予めご了承下さい。\n新型コロナウィルス感染拡大の状況により、告知後もイベント内容等の変更、またはイベントが中止となる場合がございます。 \n【再入場について】\n※入場時に、リストバンドをお渡し致します。再入場の際、リストバンドを受付スタッフまでお見せ下さい。リストバンドを紛失した際は、再入場不可になります。予めご了承下さい。\n※再入場ごとにドリンク代は不要です。（初回入場時のみ600円頂戴致します。） \n【イベント ご観覧注意事項】\n※必ず一読頂き、ご了承頂いた旨で観覧チケットをお買い求め願います。※\n※お客様の体調不良を含めた御都合等によるチケットのキャンセル・払い戻し等はお受けできませんのでご了承下さい。\n※出演者変更・キャンセル、またタイムテーブル変更に伴うチケットの払い戻しはございません。\n※イベントの時間は変更になる場合がございます。\n※大きく動いたり、過度なジャンプなどの応援行為は禁止となります。\n※最前管理・モッシュ・リフト・ダイブは禁止となります。\n※シートや荷物、私物等での場所取り等は全面的に禁止致します。移動時は荷物持参頂き、荷物のみを発見次第、即時撤去させて頂く場合がございます。また、撤去した物、及び放置されている物に関して盗難・破損など主催者・会場・出演者は一切の責任を負いません。\n※原則チケットはご購入者本人のみの使用となりますが。お連れのお客様とご一緒にまとめてご購入の場合、ご一緒にご入場下さい。後から別々でご入場は禁止とさせて頂き、返金などご対応も出来かねます。\n※当日券は前売り券買状況により無い場合もあり、また若干数の場合は、実施しない場合もありますので予めご了承ください。\n※当日、開場時間内はご購入頂いたチケットの番号順にお呼びします。 番号はマイページよりご確認願います。開場時間内、もしくは開演時間以降は、列が途切れ次第、番号は無効となりお越し頂いた順にご案内致します。その場合、当日券のお客様より後のご案内の場合もございますので予めご了承下さい。\n※原則イベント中は撮影・録音・録画等一切禁止です。\n（グループによって撮影可能の場合もございます。その場合は事務所側の指示のもと撮影下さい。）\n※会場内での飲食、喫煙は禁止となります。\n※危険物や酒類の持ち込み、および飲酒後、酒気帯びでの当イベントへのご参加は禁止です\n※ゴミは各自の責任で処理、またはお持ち帰り頂くようお願い致します。\n※天候や災害、トラブルやアーティストの都合により予告無しでイベントの中止、会場・時間・内容等を変更する場合がありますので予めご了承下さい。\n※警察・会場に苦情が寄せられた場合はイベントそのものを中止させて頂く可能性がありますので予めご了承下さい。\n※徹夜や早朝からの座り込みや会場前での並び待ちはご遠慮願います。\n※入場時に安全面・防犯面・警備強化の為、お客様のお荷物検査・ボディチェックをさせて頂く場合がございます。\n※お荷物、貴重品の管理はお客様ご自身で管理お願い致します。盗難の際主催者側、会場側は一切の責任を負いませんのでご了承下さい。会場ではお荷物のお預かりは一切致しません。また、会場内・外で生じた事故や破損等に関しても主催者・会場・出演者は一切の責任を負いません。\n※イベント会場内では、係員の指示に従っていただきますようお願いします。\n※会場までの交通費、宿泊費はお客様のご負担となります。万が一イベントが中止になった場合も同様となります。\n※イベント中スタッフがお客さまの肩や腕に触れて誘導する場合があります。\n※注意事項に反する行為が見受けられた場合、及び当日スタッフの指示に従って頂けない場合はイベントの中止またはイベント参加をお断りする場合があります。\n※不正入場をされた方やそれに加担された方は厳正な対応をさせていただきます。その際の返金などは一切応じられませんので予めご了承ください。\n※会場内でのトラブルや、お客様同士での怪我、破損時、弊社は一切の責任を負いませんのでご了承下さい。\n※スタッフの指示に応じて頂けない方のご入場はお断りする場合がございます。\n※車いすやご事情のあるお客様は、予めスタッフにご相談下さい。\n※会場へのイベントの内容に関する直接のお問合せはご遠慮下さい。\n※上記注意事項が守られない、係員の指示に従わないなど、迷惑行為を行ったと主催及び係員に判断された場合、開演中如何にかかわらず退場頂く場合もございます。またその際の返金などは一切応じられませんので予めご了承下さい。
URL:https://hiraeth.tokyo/event/20230528-2/
CATEGORIES:Live
ATTACH;FMTTYPE=image/jpeg:https://hiraeth.tokyo/wp-content/uploads/056A87B1-F6BF-41E0-8722-78322CAE4797-scaled.jpeg
END:VEVENT
BEGIN:VEVENT
DTSTART;VALUE=DATE:20230528
DTEND;VALUE=DATE:20230529
DTSTAMP:20260422T174439
CREATED:20230414T175406Z
LAST-MODIFIED:20230527T095334Z
UID:5184-1685232000-1685318399@hiraeth.tokyo
SUMMARY:364☆☆TRANS RUSH@渋谷RING
DESCRIPTION:日時 5/28(日)\nイベント TRANS RUSH vol.16\n料金 前売優先2000通常1000当日+500(D別)\n予約 https://t.livepocket.jp/e/trans0528 5月20日(土) 23:00チケ発\nLIVE 11:15～\n物販 11:45～12:45\n会場 渋谷RING\nOP 10:20\nST 10:35\nout 14:00\n出演　えあらびゅー/1000日後の話/戦乱のEmpress/未来サプライズ/炭酸くろにくるっ/エーデルワイス/Poppins/\n入場順　①優先チケット整理番号順②通常チケット整理番号順③当日券整列順
URL:https://hiraeth.tokyo/event/20230528-1/
LOCATION:渋谷RING\, 道玄坂2-21-7 第8矢澤ビル2F\, 渋谷区\, 東京都\, 150-0043\, 日本
CATEGORIES:Live
ATTACH;FMTTYPE=image/jpeg:https://hiraeth.tokyo/wp-content/uploads/47B8A503-48B4-4E46-B1FE-547E5C2AF4D9.jpeg
END:VEVENT
END:VCALENDAR