BEGIN:VCALENDAR
VERSION:2.0
PRODID:-//【HIRAETH.Tokyo】(ヒラエス.トーキョー) - ECPv6.11.2//NONSGML v1.0//EN
CALSCALE:GREGORIAN
METHOD:PUBLISH
X-WR-CALNAME:【HIRAETH.Tokyo】(ヒラエス.トーキョー)
X-ORIGINAL-URL:https://hiraeth.tokyo
X-WR-CALDESC:【HIRAETH.Tokyo】(ヒラエス.トーキョー) のイベント
REFRESH-INTERVAL;VALUE=DURATION:PT1H
X-Robots-Tag:noindex
X-PUBLISHED-TTL:PT1H
BEGIN:VTIMEZONE
TZID:Asia/Tokyo
BEGIN:STANDARD
TZOFFSETFROM:+0900
TZOFFSETTO:+0900
TZNAME:JST
DTSTART:20230101T000000
END:STANDARD
END:VTIMEZONE
BEGIN:VEVENT
DTSTART;VALUE=DATE:20230529
DTEND;VALUE=DATE:20230530
DTSTAMP:20260422T155754
CREATED:20230410T125647Z
LAST-MODIFIED:20230528T110046Z
UID:5152-1685318400-1685404799@hiraeth.tokyo
SUMMARY:366☆☆Fateありがとう3ヶ月連続ライブ@新宿Fate
DESCRIPTION:日時　5/29(月)\nイベント　”Fateありがとう3ヶ月連続ライブ” 粗削りですみません。。\n料金　予約1900当日+500(D別)\n予約　Twitter　DMまで\nLIVE　18:45～21:25(160分)\n物販　21:30～22:30(60分)\n会場　新宿Fate\nOP　18:45\nST　19:00\nout　22:35\n出演　えあらびゅー \n–タイムテーブル–\n19:00〜19:30　第3衣装カバー（放課後オレンジサイン、ゆびとま、もっとずっとそばで、メロンソーダ、きみわずらい）\n19:30〜19:50　コスプレカバー曲（にあことね、サマーチョコレート、シダレヤナギ、初恋サイダー）\n19:50〜20:05　コンテンツ（私は誰でしょう）\n20:05～20:25　ももなセトリ（UTAGEI、放課後オレンジサイン、OIDEMASE、SHOUT!）\n20:25～20:30　調整\n20:30～20:35　ことねエモーショナルらびゅー　『部屋とYシャツと私/平松愛理』\n20:35～20:40　にあエモーショナルらびゅー『over the rainbow/Will Schuesterー&Noah Puckerman』\n20:40～20:45　ひなたエモーショナルらびゅー『ラムのラブソング/うる星やつら』\n20:45～20:50　あみなエモーショナルらびゅー『パパ/プリンセスプリンセス』\n20:50～20:55　ももエモーショナルらびゅー『桜の花びらたち/AKB48』\n20:55～21:00　きこエモーショナルらびゅー『渡良瀬橋/森高千里』\n21:00～21:05　調整\n21:05～21:30　ライブ\n21:35～22:35　物販 \n–開催スケジュール–\n5月29日(月)\n6月15日(木)\n7月20日(木)
URL:https://hiraeth.tokyo/event/20230529-1/
LOCATION:新宿Fate\, 歌舞伎町2-28-16\, 新宿区\, 東京都\, 160-0021\, 日本
CATEGORIES:Live
ATTACH;FMTTYPE=image/png:https://hiraeth.tokyo/wp-content/uploads/1-3.png
END:VEVENT
END:VCALENDAR