BEGIN:VCALENDAR
VERSION:2.0
PRODID:-//【HIRAETH.Tokyo】(ヒラエス.トーキョー) - ECPv6.11.2//NONSGML v1.0//EN
CALSCALE:GREGORIAN
METHOD:PUBLISH
X-WR-CALNAME:【HIRAETH.Tokyo】(ヒラエス.トーキョー)
X-ORIGINAL-URL:https://hiraeth.tokyo
X-WR-CALDESC:【HIRAETH.Tokyo】(ヒラエス.トーキョー) のイベント
REFRESH-INTERVAL;VALUE=DURATION:PT1H
X-Robots-Tag:noindex
X-PUBLISHED-TTL:PT1H
BEGIN:VTIMEZONE
TZID:Asia/Tokyo
BEGIN:STANDARD
TZOFFSETFROM:+0900
TZOFFSETTO:+0900
TZNAME:JST
DTSTART:20230101T000000
END:STANDARD
END:VTIMEZONE
BEGIN:VEVENT
DTSTART;VALUE=DATE:20230601
DTEND;VALUE=DATE:20230602
DTSTAMP:20260422T155754
CREATED:20230511T092355Z
LAST-MODIFIED:20230601T160853Z
UID:5458-1685577600-1685663999@hiraeth.tokyo
SUMMARY:367☆☆SUNSHINE!vol.3@池袋リヴォイス
DESCRIPTION:日時　6/1(木)\nイベント　SUNSHINE!vol.3\n料金　優先2000/通常500/当日+500\n特典　ブロマイド2枚\n予約　https://t.livepocket.jp/e/0601sunshine\nLIVE　18:40～19:00\n物販　1920～2020\n会場　池袋リヴォイス\nOP　18:00\nST　18:20\nout　22:30(予定)\n出演　えあらびゅー/4864./KATACOTO＊BANK/にっぽん！真骨頂/思い出とプレゼント/キプリスモルホォ/ヒヨルナ/\n入場順：①優先整理番号順②通常整理番号順③当日(整列順)
URL:https://hiraeth.tokyo/event/20230601-1/
LOCATION:池袋リヴォイス\, 池袋2-12-9 広瀬ビルB1\, 豊島区\, 東京都\, 171-0014\, 日本
CATEGORIES:Live
ATTACH;FMTTYPE=image/jpeg:https://hiraeth.tokyo/wp-content/uploads/321f6222d47db2ac8921fbc5467a6df3-scaled.jpg
END:VEVENT
END:VCALENDAR