BEGIN:VCALENDAR
VERSION:2.0
PRODID:-//【HIRAETH.Tokyo】(ヒラエス.トーキョー) - ECPv6.11.2//NONSGML v1.0//EN
CALSCALE:GREGORIAN
METHOD:PUBLISH
X-WR-CALNAME:【HIRAETH.Tokyo】(ヒラエス.トーキョー)
X-ORIGINAL-URL:https://hiraeth.tokyo
X-WR-CALDESC:【HIRAETH.Tokyo】(ヒラエス.トーキョー) のイベント
REFRESH-INTERVAL;VALUE=DURATION:PT1H
X-Robots-Tag:noindex
X-PUBLISHED-TTL:PT1H
BEGIN:VTIMEZONE
TZID:Asia/Tokyo
BEGIN:STANDARD
TZOFFSETFROM:+0900
TZOFFSETTO:+0900
TZNAME:JST
DTSTART:20230101T000000
END:STANDARD
END:VTIMEZONE
BEGIN:VEVENT
DTSTART;VALUE=DATE:20230603
DTEND;VALUE=DATE:20230604
DTSTAMP:20260422T155753
CREATED:20230516T095344Z
LAST-MODIFIED:20230622T083833Z
UID:5532-1685750400-1685836799@hiraeth.tokyo
SUMMARY:369☆Girls Face in Kawasaki@川崎セルビアンナイト
DESCRIPTION:日時 6/3(土)\nイベント　Girls Face in Kawasaki\n特典　ブロマイド1枚\n料金　予約2000当日+1000(各D別)\n予約 https://tiget.net/events/251159\n※6/1(木)22:00~予約開始\nLIVE 14:10〜14:35(予定)\n物販 15:00〜16:00(予定)\n会場 川崎セルビアンナイト\nOP 13:00\nST 13:20(予定)\nout\n出演　えあらびゅー/Planet Merry/neOen/Lapilaz/\nー\n13:20-13:45 Planet Merry (並行 13:50-14:50)\n13:45-14:10 Lapilaz\n14:10-14:35 えあらびゅー\n14:35-15:00 neOen
URL:https://hiraeth.tokyo/event/20230603-1/
LOCATION:川崎セルビアンナイト\, 川崎区小川町14-1 仲章ビル３F\, 川崎市\, 神奈川県\, 210-0023\, 日本
CATEGORIES:Live
ATTACH;FMTTYPE=image/png:https://hiraeth.tokyo/wp-content/uploads/8FC07D4B-7082-4434-9C2B-BDC6F815A751.png
END:VEVENT
END:VCALENDAR