BEGIN:VCALENDAR
VERSION:2.0
PRODID:-//【HIRAETH.Tokyo】(ヒラエス.トーキョー) - ECPv6.11.2//NONSGML v1.0//EN
CALSCALE:GREGORIAN
METHOD:PUBLISH
X-ORIGINAL-URL:https://hiraeth.tokyo
X-WR-CALDESC:【HIRAETH.Tokyo】(ヒラエス.トーキョー) のイベント
REFRESH-INTERVAL;VALUE=DURATION:PT1H
X-Robots-Tag:noindex
X-PUBLISHED-TTL:PT1H
BEGIN:VTIMEZONE
TZID:Asia/Tokyo
BEGIN:STANDARD
TZOFFSETFROM:+0900
TZOFFSETTO:+0900
TZNAME:JST
DTSTART:20230101T000000
END:STANDARD
END:VTIMEZONE
BEGIN:VEVENT
DTSTART;VALUE=DATE:20230605
DTEND;VALUE=DATE:20230606
DTSTAMP:20260422T155815
CREATED:20230414T180228Z
LAST-MODIFIED:20230622T084018Z
UID:5189-1685923200-1686009599@hiraeth.tokyo
SUMMARY:371☆☆SKILL-UP PARTY vol.3@渋谷Spotify O-nest
DESCRIPTION:日時 6/5(月)\nイベント SKILL-UP PARTY vol.3\n料金 前売優先2500通常1500/当日+500円(D別)\n特典　サイン付きチェキ1枚＋10秒写真または動画撮り放題\n予約 https://t.livepocket.jp/e/anarkie0605\n6月2日(金) 22:00発売\nLIVE 19:20～19:50\n物販 終演後～\n会場 渋谷Spotify O-nest\nOP 18:00\nST 18:20\nout\n出演　えあらびゅー/ANA®KIE/夢みるアドレセンス/mzsrz/シュアネス/ZUTTOMOTTO \n入場順 ①前売優先整理番号順②前売通常整理番号順
URL:https://hiraeth.tokyo/event/20230605-1/
LOCATION:渋谷Spotify O-nest\, 円山町２−３ O-WESTビル 6F\, 渋谷区\, 東京都\, 150-0044\, 日本
CATEGORIES:Live
ATTACH;FMTTYPE=image/jpeg:https://hiraeth.tokyo/wp-content/uploads/S__13262923.jpg
END:VEVENT
END:VCALENDAR