BEGIN:VCALENDAR
VERSION:2.0
PRODID:-//【HIRAETH.Tokyo】(ヒラエス.トーキョー) - ECPv6.11.2//NONSGML v1.0//EN
CALSCALE:GREGORIAN
METHOD:PUBLISH
X-ORIGINAL-URL:https://hiraeth.tokyo
X-WR-CALDESC:【HIRAETH.Tokyo】(ヒラエス.トーキョー) のイベント
REFRESH-INTERVAL;VALUE=DURATION:PT1H
X-Robots-Tag:noindex
X-PUBLISHED-TTL:PT1H
BEGIN:VTIMEZONE
TZID:Asia/Tokyo
BEGIN:STANDARD
TZOFFSETFROM:+0900
TZOFFSETTO:+0900
TZNAME:JST
DTSTART:20230101T000000
END:STANDARD
END:VTIMEZONE
BEGIN:VEVENT
DTSTART;VALUE=DATE:20230611
DTEND;VALUE=DATE:20230612
DTSTAMP:20260422T155814
CREATED:20230327T143624Z
LAST-MODIFIED:20230622T084108Z
UID:5002-1686441600-1686527999@hiraeth.tokyo
SUMMARY:373☆☆☆HYPE IDOL！vol.39@GARDEN 新木場FACTORY
DESCRIPTION:日時　6/11(日)\nイベント　HYPE IDOL！vol.39\n料金 前方7000一般4000女性SOLDOUT\n先着50名特典\n一般特典\n・ブロマイド2枚\n・サイン付きチェキ券1枚※当日限り有効\n・10秒撮り放題券1枚(写真または動画)※当日限り有効\n・CD1枚(“だから、アイドル！シングル” or “The First take(灯火未来、ツイスターゾーン、サンシャインマジック)” or “60秒延長券”)\n前方特典\n・一般特典に加えて\n・サイン付きブロマイド1枚 or 180秒延長券1枚 \n※入場時の指名特典券を受付でお受け取りください。物販時時に引換をいたします。\n※先着50名特典は受付入場順になります\nセットリスト　25分最強セトリ\n1.もっとずっとそばで\n2.限界わがままクライシス\n3.だから、アイドル！\n4.りぴーとあふたーみー！\n5.放課後オレンジサイン\n予約　http://t-dv.com/hype39\nLIVE　15:20～15:45\n物販　15:55～16:55\n会場　GARDEN 新木場FACTORY\nOP　10:00\nST　10:30\nout\n出演　えあらびゅー/iLiFE/アキシブproject/UtaGe!/QUEENS/群青の世界/疾走クレヨン/JYA☆PON/Sweet Alley/Devil ANTHEM./天使にはなれない/NEO JAPONISM/ネコプラpixx./のんふぃく!/パラディーク/パラレルサイダー/PaletteParade/Falench./FES☆TIVE/真っ白なキャンバス/#Mooove!/夜光性アミューズ/#よーよーよー/LinQ Qty/二丁目の魁カミングアウト/
URL:https://hiraeth.tokyo/event/20230611-1/
LOCATION:GARDEN新木場FACTORY\, 新木場2-8-2\, 江東区\, 東京都\, 136-0082\, 日本
CATEGORIES:Event,Live
ATTACH;FMTTYPE=image/jpeg:https://hiraeth.tokyo/wp-content/uploads/Fx7Y22caQAAr0p2.jpg
END:VEVENT
END:VCALENDAR