BEGIN:VCALENDAR
VERSION:2.0
PRODID:-//【HIRAETH.Tokyo】(ヒラエス.トーキョー) - ECPv6.11.2//NONSGML v1.0//EN
CALSCALE:GREGORIAN
METHOD:PUBLISH
X-WR-CALNAME:【HIRAETH.Tokyo】(ヒラエス.トーキョー)
X-ORIGINAL-URL:https://hiraeth.tokyo
X-WR-CALDESC:【HIRAETH.Tokyo】(ヒラエス.トーキョー) のイベント
REFRESH-INTERVAL;VALUE=DURATION:PT1H
X-Robots-Tag:noindex
X-PUBLISHED-TTL:PT1H
BEGIN:VTIMEZONE
TZID:Asia/Tokyo
BEGIN:STANDARD
TZOFFSETFROM:+0900
TZOFFSETTO:+0900
TZNAME:JST
DTSTART:20230101T000000
END:STANDARD
END:VTIMEZONE
BEGIN:VEVENT
DTSTART;VALUE=DATE:20230617
DTEND;VALUE=DATE:20230618
DTSTAMP:20260422T155755
CREATED:20230519T224551Z
LAST-MODIFIED:20230622T084201Z
UID:5575-1686960000-1687046399@hiraeth.tokyo
SUMMARY:375☆SeeKa IDOL FESTIVAL vol.27  #SIF@横浜1000club
DESCRIPTION:日時　6/17(土)\nイベント　SeeKa IDOL FESTIVAL vol.27  #SIF\n料金　一般予約2500女性1500\n最前4000当日各＋500(各D別)\n予約　https://tiget.net/events/250171\n※前売り予約 6/16(金)23:59迄\nLIVE　16:10〜16:25\n物販　16:30〜17:30\n会場　横浜1000club\nOP　9:45\nST　10:00\nout　\n出演　えあらびゅー/アイアイタイガー/asfi/雨音とアプローズ/雨上がりのプラネット/雨のち病みもよう/anhelo niña/Waltetto/えいきゅーるぅぷ！/神風センセーション/擬人化にゃんた。/鏡界性_ぴゅろてぃずむ/Clapotis/Croire Grato-クログラ-/COZ39/THAT’s So/SHIKASHI/Secret School/SUGAR☆VEGA .com/ゼロサンクチュアリ/☑︎mate./ﾃﾞｨﾃﾞｨｽｺｯｺ!!/DollyPink/TJ(トーンジュエル) /ときめきしゅがー！/Try me/ドリームパスポート/PATI PATI CANDY…☆/PiXCELLiA/FIRST☆STAR/My placious/Misty Syrena/妄想学院・生徒会/錬日oTo個色/わこつ/#ビビデビート♭/#ワールドカオス/\n\n再入場無料 出入り自由\n主催元一括予約(TIGET)
URL:https://hiraeth.tokyo/event/20230617-1/
CATEGORIES:Live
ATTACH;FMTTYPE=image/jpeg:https://hiraeth.tokyo/wp-content/uploads/D9FE156A-80BA-45E2-909D-7D573931C23F.jpeg
END:VEVENT
END:VCALENDAR