BEGIN:VCALENDAR
VERSION:2.0
PRODID:-//【HIRAETH.Tokyo】(ヒラエス.トーキョー) - ECPv6.11.2//NONSGML v1.0//EN
CALSCALE:GREGORIAN
METHOD:PUBLISH
X-WR-CALNAME:【HIRAETH.Tokyo】(ヒラエス.トーキョー)
X-ORIGINAL-URL:https://hiraeth.tokyo
X-WR-CALDESC:【HIRAETH.Tokyo】(ヒラエス.トーキョー) のイベント
REFRESH-INTERVAL;VALUE=DURATION:PT1H
X-Robots-Tag:noindex
X-PUBLISHED-TTL:PT1H
BEGIN:VTIMEZONE
TZID:Asia/Tokyo
BEGIN:STANDARD
TZOFFSETFROM:+0900
TZOFFSETTO:+0900
TZNAME:JST
DTSTART:20230101T000000
END:STANDARD
END:VTIMEZONE
BEGIN:VEVENT
DTSTART;VALUE=DATE:20230625
DTEND;VALUE=DATE:20230626
DTSTAMP:20260422T155754
CREATED:20230519T224206Z
LAST-MODIFIED:20230622T084402Z
UID:5567-1687651200-1687737599@hiraeth.tokyo
SUMMARY:379☆いちごフェスvol.16@渋谷SHIBUYA ONE5
DESCRIPTION:日時　6/25(日)\nイベント　いちごフェスvol.16\n料金　前売2500当日+500(D別)\n予約　https://t.livepocket.jp/e/b-mw1\n（6/22 21:00〜販売開始）\nLIVE　12:20〜12:40\n物販　12:45〜13:45\n会場　渋谷SHIBUYA ONE5\nOP　10:40\nST　11:00\nout　\n出演　えあらびゅー/ambeЯ Rain/ぱんぷるぽっぷ/そあとあめーむ。/ \n・セトリ\nだからアイドル\nりぴーとあふたーみー！\nもっとずっとそばで\n放課後オレンジサイン
URL:https://hiraeth.tokyo/event/20230625-2/
LOCATION:渋谷SHIBUYA ONE5\, 渋谷3-6-4 プライヤ渋谷B1F\, 渋谷区\, 東京都\, 150-0002\, 日本
CATEGORIES:Live
ATTACH;FMTTYPE=image/jpeg:https://hiraeth.tokyo/wp-content/uploads/805E3203-2FC6-47D5-A4E2-2909543BCF00.jpeg
END:VEVENT
END:VCALENDAR