BEGIN:VCALENDAR
VERSION:2.0
PRODID:-//【HIRAETH.Tokyo】(ヒラエス.トーキョー) - ECPv6.11.2//NONSGML v1.0//EN
CALSCALE:GREGORIAN
METHOD:PUBLISH
X-ORIGINAL-URL:https://hiraeth.tokyo
X-WR-CALDESC:【HIRAETH.Tokyo】(ヒラエス.トーキョー) のイベント
REFRESH-INTERVAL;VALUE=DURATION:PT1H
X-Robots-Tag:noindex
X-PUBLISHED-TTL:PT1H
BEGIN:VTIMEZONE
TZID:Asia/Tokyo
BEGIN:STANDARD
TZOFFSETFROM:+0900
TZOFFSETTO:+0900
TZNAME:JST
DTSTART:20230101T000000
END:STANDARD
END:VTIMEZONE
BEGIN:VEVENT
DTSTART;VALUE=DATE:20230701
DTEND;VALUE=DATE:20230702
DTSTAMP:20260422T135937
CREATED:20230614T134830Z
LAST-MODIFIED:20230629T102315Z
UID:5873-1688169600-1688255999@hiraeth.tokyo
SUMMARY:381☆☆Coloré Gemme-クロジェム-vol.4@新宿Zirco Tokyo
DESCRIPTION:日時　7/1(土)\nイベント☆☆Coloré Gemme-クロジェム-vol.4\n料金　前売:優先3000通常1500女性・学生0当日+500(D別)\n予約　https://t.livepocket.jp/e/colore0701\nLIVE　16:15〜16:30\n物販　16:55〜17:55\n会場　新宿ZircoTokyo\nOP　13:10\nST　13:30\nout　\n出演　えあらびゅー/藍色アステリズム/AGETION!/81moment/思い出とプレゼント/GiMMiCK/CALL MY NAME/純真アムレット/スプスラッシュ/Transparents/パラレルサイダー/ヒトノユメ/ヒヨルナ/星合いのライラック/蛍/Poppins/ミスティア！/ゆるっと革命団/4864./ラプラス/恋情アークライト/ \n入場順：①前売優先整理番号順②前売通常整理番号順③前売女性・学生整理番号順④当日
URL:https://hiraeth.tokyo/event/20230701-1/
LOCATION:新宿Zirco Tokyo\, 歌舞伎町1-2-5東陽ビルB2\, 新宿区\, 東京都\, 160-0021\, 日本
CATEGORIES:Live
ATTACH;FMTTYPE=image/jpeg:https://hiraeth.tokyo/wp-content/uploads/0701-1.jpg
END:VEVENT
END:VCALENDAR