BEGIN:VCALENDAR
VERSION:2.0
PRODID:-//【HIRAETH.Tokyo】(ヒラエス.トーキョー) - ECPv6.11.2//NONSGML v1.0//EN
CALSCALE:GREGORIAN
METHOD:PUBLISH
X-ORIGINAL-URL:https://hiraeth.tokyo
X-WR-CALDESC:【HIRAETH.Tokyo】(ヒラエス.トーキョー) のイベント
REFRESH-INTERVAL;VALUE=DURATION:PT1H
X-Robots-Tag:noindex
X-PUBLISHED-TTL:PT1H
BEGIN:VTIMEZONE
TZID:Asia/Tokyo
BEGIN:STANDARD
TZOFFSETFROM:+0900
TZOFFSETTO:+0900
TZNAME:JST
DTSTART:20230101T000000
END:STANDARD
END:VTIMEZONE
BEGIN:VEVENT
DTSTART;VALUE=DATE:20230706
DTEND;VALUE=DATE:20230707
DTSTAMP:20260422T135937
CREATED:20230704T201515Z
LAST-MODIFIED:20230704T201515Z
UID:6080-1688601600-1688687999@hiraeth.tokyo
SUMMARY:MARQUEE祭 Vol.133本祭チケット追加販売開始
DESCRIPTION:会場レイアウトが変更され、若干枚数の追加販売が決定いたしました。 \n販売開始日時：7月6日21:00スタート（先着）\nhttps://eplus.jp/sf/detail/2029630001-P0030299P021001?P1=0175 \nhttp://eplus.jp/marquee-matsuri/ \n2023/7/13(木)\nMARQUEE祭 Vol.133\n開演：16:00～ (開場 15:20～)\n渋谷Spotify O-WEST \n出演　えあらびゅー/JamsCollection/FRUITS ZIPPER/Peel the Apple/FES☆TIVE/ドラマチックレコード/なんキニ!/Bunny La Crew/#ドレミファソラシード/ルージュブック/Glim Assembler/東京CuteCute/Hey!Mommy!
URL:https://hiraeth.tokyo/event/20230706-2/
CATEGORIES:Live
ATTACH;FMTTYPE=image/jpeg:https://hiraeth.tokyo/wp-content/uploads/d0442f18bab34e6b40ce45898c8dfec8.jpg
END:VEVENT
END:VCALENDAR