BEGIN:VCALENDAR
VERSION:2.0
PRODID:-//【HIRAETH.Tokyo】(ヒラエス.トーキョー) - ECPv6.11.2//NONSGML v1.0//EN
CALSCALE:GREGORIAN
METHOD:PUBLISH
X-ORIGINAL-URL:https://hiraeth.tokyo
X-WR-CALDESC:【HIRAETH.Tokyo】(ヒラエス.トーキョー) のイベント
REFRESH-INTERVAL;VALUE=DURATION:PT1H
X-Robots-Tag:noindex
X-PUBLISHED-TTL:PT1H
BEGIN:VTIMEZONE
TZID:Asia/Tokyo
BEGIN:STANDARD
TZOFFSETFROM:+0900
TZOFFSETTO:+0900
TZNAME:JST
DTSTART:20230101T000000
END:STANDARD
END:VTIMEZONE
BEGIN:VEVENT
DTSTART;VALUE=DATE:20230709
DTEND;VALUE=DATE:20230710
DTSTAMP:20260422T135949
CREATED:20230601T081454Z
LAST-MODIFIED:20230714T170859Z
UID:5711-1688860800-1688947199@hiraeth.tokyo
SUMMARY:387☆☆アイコレ〜For Music Lover SP!!!〜@LUMINE 0ホール
DESCRIPTION:日時 7/9(日)\nイベント ☆☆アイコレ〜For Music Lover SP!!!〜\n料金\n前方エリア : 前売4000円 当日5000円\n一般 : 前売3000円 当日3500円(D別)\n※早割1000円キャッシュバック(10時20分まで入場適用)\n予約 https://tiget.net/events/254711\nLIVE 15:20〜15:40\n物販 15:45〜16:45(ホワイエB)\n会場 新宿LUMINE 0ホール\nOP 10:00\nST 10:20(予定)\nout\n出演　えあらびゅー/アンダービースティー/アルテミスの翼/JAPANARIZM/miao/PrincessGarden-姫庭-/1つ足りない賽は投げられた/エウレカ/SAI²Rium/異世界アイドルパラレルパレード/シュアネス/Milky＊Sphene/Re:INCARNATION/奏音コレクト/IIIIIIIDIOM/8月のエウテルペ/CANDY GO!GO!/ヤンチャン学園音楽部/プリズムハート/KOMAGOME/Baby’z Breath/アポロンの翼/LOVE 9 LOVE/スポポポポニー/蓋然性オルトイズム/錬日oTo個色/いちごみるく色に染まりたい。/TheWORLD Next☆Rico/TEARS-ティアーズ-/シークレットシャノワール/Sistersあにま/Chou2Precede/にとくり。/ \nーレギュレーションー\n※マスク着用声出し可\n※全日イベント\n※席ありスタンディング可\n※早割1000円キャッシュバック\n(10時20分まで入場適用)\n※飛沫感染シート→申告制\n※お客様→マスク着用必須\n演者→マスク推奨とし、運営判断
URL:https://hiraeth.tokyo/event/20230709-1/
LOCATION:LUMINE 0ホール\, 千駄ヶ谷5-24-55\, 渋谷区\, 東京都\, 151-0051\, 日本
CATEGORIES:Live
ATTACH;FMTTYPE=image/jpeg:https://hiraeth.tokyo/wp-content/uploads/S__1687607.jpg
END:VEVENT
BEGIN:VEVENT
DTSTART;VALUE=DATE:20230709
DTEND;VALUE=DATE:20230710
DTSTAMP:20260422T135949
CREATED:20230612T111049Z
LAST-MODIFIED:20230714T170917Z
UID:5823-1688860800-1688947199@hiraeth.tokyo
SUMMARY:386☆☆IDOL Treasure bottle LIVE Vol.52 supported byダイキサウンド@新宿BATUR TOKYO東京
DESCRIPTION:日時 7/9(日)\nイベント ☆☆IDOL Treasure bottle LIVE Vol.52 supported byダイキサウンド\n料金 前売3100当日+500(D別)\n予約 https://tiget.net/events/253719\nLIVE 10:30～10:50\n物販 10:55～11:55\n会場 新宿BATUR TOKYO東京\nOP 10:00\nST 10:15(予定)\nout\n出演　えあらびゅー/アイドルカレッジ/Untitled/エーデルワイス/ESTLINK☆/ヲドルマヨナカ/きみとのワンダーランド/Krays/さくらシンデレラ/Jewel☆Mare＆Rouge/Seven Day’z/Zero Project　Z2-A4.B4/てぃあむ/バブルバビデガム!!/THE PINK MICROPHONE/プエラの絶対値/Bety/Hey!Mommy!/放課後プリンセス/ポラライト/momograci/代々木女子音楽院/愛乙女☆DOLL（チームL）＆らぶけん/RiNCENT/ルーチェ研究生/TheWORLD/
URL:https://hiraeth.tokyo/event/20230709-2/
CATEGORIES:Live
ATTACH;FMTTYPE=image/jpeg:https://hiraeth.tokyo/wp-content/uploads/2979a0f8a1a9296d614a276795849689.jpg
END:VEVENT
END:VCALENDAR