BEGIN:VCALENDAR
VERSION:2.0
PRODID:-//【HIRAETH.Tokyo】(ヒラエス.トーキョー) - ECPv6.11.2//NONSGML v1.0//EN
CALSCALE:GREGORIAN
METHOD:PUBLISH
X-ORIGINAL-URL:https://hiraeth.tokyo
X-WR-CALDESC:【HIRAETH.Tokyo】(ヒラエス.トーキョー) のイベント
REFRESH-INTERVAL;VALUE=DURATION:PT1H
X-Robots-Tag:noindex
X-PUBLISHED-TTL:PT1H
BEGIN:VTIMEZONE
TZID:Asia/Tokyo
BEGIN:STANDARD
TZOFFSETFROM:+0900
TZOFFSETTO:+0900
TZNAME:JST
DTSTART:20230101T000000
END:STANDARD
END:VTIMEZONE
BEGIN:VEVENT
DTSTART;VALUE=DATE:20230713
DTEND;VALUE=DATE:20230714
DTSTAMP:20260422T140939
CREATED:20230410T125030Z
LAST-MODIFIED:20230714T170929Z
UID:5150-1689206400-1689292799@hiraeth.tokyo
SUMMARY:388☆☆MARQUEE祭 Vol.133@渋谷
DESCRIPTION:概要\n日時　7/13(木)\nイベント　MARQUEE祭 Vol.133\n料金 前売3800当日+500(D別)\n予約　http://eplus.jp/marquee-matsuri/\n予約後は特典選択フォームへ\nhttps://forms.gle/b54FosQ2CxFjTdYe6 \nLIVE　16:00〜16:20\n物販　16:35〜17:35(ジーカンズビル2F ハーレム ブースA)\n会場　渋谷Spotify O-WEST\nOP　15:20\nST　16:00\n出演　えあらびゅー/Hey!Mommy!/東京CuteCute/Glim Assembler/ルージュブック/#ドレミファソラシード /Bunny La Crew/なんキニ！/ドラマチックレコード/FES☆TIVE/Peel the Apple/FRUITS ZIPPER/JamsCollection/ \n先行予約　6/10（土）正午～6/18（日）23:59\n一般発売  6/24（土）10:00～7/12（水）18:00 \n特典\n先行\n・コメサチェキ券\n2枚（当日のみ、60秒、メンバー跨ぎなし、チェキor写メ） \n・トレーディングカード\n \n一般\n・チェキ券1枚（当日のみ、60秒、チェキor写メ）\n当日えあらびゅー指名入場\n・AIRLVIEW vol.1\n・コメサチェキ（七月末まで）\n・オリジナルTシャツ\n \n・ペンライトフィルム\n \nMARQUEE祭らびゅー(企画)\nなんとなんとminiから変わったの気づいた❔今日から本祭に向けてメンバー全員ぶちかますぞっの勢いで毎日誰かが自分を伸ばすために色んなことします🧁🪽いっぱいいっぱい頑張るからみんなTwitterとか沢山見てね( ˶’ᵕ’˶)و.ᐟ.ᐟ一緒に7/13のMARQUEE祭り盛り上げようっ😍😍😍byももな\n(マーキー本祭までのカウントダウン企画では各メンバーが 得意な事 や 好きな事 を伸ばしながら毎日お送りします) \n▽ももな\n・ビラ配り \n▽きこ\n・管理栄養士アイドルのダイエット頑張る動画 \n▽ひなた\n・笑うこと\n・アクロバット \n▽にあ\n・毎日配信📺\n・ダンス動画\n・お芝居動画\n・絵 \n▽ことね\n・歌 \n▽あみな\n・ラーメン \n▽交換日記
URL:https://hiraeth.tokyo/event/20230713-1/
CATEGORIES:Live
ATTACH;FMTTYPE=image/jpeg:https://hiraeth.tokyo/wp-content/uploads/FyJjRVcaUB8sJQs.jpg
END:VEVENT
END:VCALENDAR