BEGIN:VCALENDAR
VERSION:2.0
PRODID:-//【HIRAETH.Tokyo】(ヒラエス.トーキョー) - ECPv6.11.2//NONSGML v1.0//EN
CALSCALE:GREGORIAN
METHOD:PUBLISH
X-WR-CALNAME:【HIRAETH.Tokyo】(ヒラエス.トーキョー)
X-ORIGINAL-URL:https://hiraeth.tokyo
X-WR-CALDESC:【HIRAETH.Tokyo】(ヒラエス.トーキョー) のイベント
REFRESH-INTERVAL;VALUE=DURATION:PT1H
X-Robots-Tag:noindex
X-PUBLISHED-TTL:PT1H
BEGIN:VTIMEZONE
TZID:Asia/Tokyo
BEGIN:STANDARD
TZOFFSETFROM:+0900
TZOFFSETTO:+0900
TZNAME:JST
DTSTART:20230101T000000
END:STANDARD
END:VTIMEZONE
BEGIN:VEVENT
DTSTART;VALUE=DATE:20230715
DTEND;VALUE=DATE:20230716
DTSTAMP:20260422T135846
CREATED:20230712T005719Z
LAST-MODIFIED:20230714T171024Z
UID:6198-1689379200-1689465599@hiraeth.tokyo
SUMMARY:390☆SATURDAY iDOL MARCH 第二部@池袋リヴォイス
DESCRIPTION:日時 7/15(土)\nイベント ☆SATURDAY iDOL MARCH 第二部\n料金 前売:1000当日1500(D別)\n予約 https://t.livepocket.jp/e/20230715revoice_2\nLIVE 17:30～17:50\n物販 17:55～18:55\n会場 池袋リヴォイス\nOP 17:15\nST 17:30(予定)\nout\n出演　えあらびゅー/うおのたゆう/香月友梨奈/Story Bright/ノボリバナ/ブリオガジャ/LOVE PHANTOM/and more
URL:https://hiraeth.tokyo/event/20230715-1/
LOCATION:池袋リヴォイス\, 池袋2-12-9 広瀬ビルB1\, 豊島区\, 東京都\, 171-0014\, 日本
CATEGORIES:Live
ATTACH;FMTTYPE=image/jpeg:https://hiraeth.tokyo/wp-content/uploads/8e2b89e600cb7209ff946998fd26dc9b.jpg
END:VEVENT
BEGIN:VEVENT
DTSTART;VALUE=DATE:20230715
DTEND;VALUE=DATE:20230716
DTSTAMP:20260422T135846
CREATED:20230711T104600Z
LAST-MODIFIED:20230714T171016Z
UID:6192-1689379200-1689465599@hiraeth.tokyo
SUMMARY:389☆☆いちごフェス vol.21@渋谷SHIBUYA ONE5
DESCRIPTION:日時 7/15(土)\nイベント ☆いちごフェス vol.21\n料金 前売2500当日(D別)\n予約 https://t.livepocket.jp/e/v3hx0\nLIVE 13:05～13:30\n物販 14:00-15:00\n会場 渋谷SHIBUYA ONE5\nOP 12:20\nST 12:40(予定)\nout\n出演　えあらびゅー/瞬きもせず/Blossom Garden/
URL:https://hiraeth.tokyo/event/20230715-2/
LOCATION:渋谷SHIBUYA ONE5\, 渋谷3-6-4 プライヤ渋谷B1F\, 渋谷区\, 東京都\, 150-0002\, 日本
CATEGORIES:Live
ATTACH;FMTTYPE=image/jpeg:https://hiraeth.tokyo/wp-content/uploads/S__11428023.jpg
END:VEVENT
END:VCALENDAR