BEGIN:VCALENDAR
VERSION:2.0
PRODID:-//【HIRAETH.Tokyo】(ヒラエス.トーキョー) - ECPv6.11.2//NONSGML v1.0//EN
CALSCALE:GREGORIAN
METHOD:PUBLISH
X-WR-CALNAME:【HIRAETH.Tokyo】(ヒラエス.トーキョー)
X-ORIGINAL-URL:https://hiraeth.tokyo
X-WR-CALDESC:【HIRAETH.Tokyo】(ヒラエス.トーキョー) のイベント
REFRESH-INTERVAL;VALUE=DURATION:PT1H
X-Robots-Tag:noindex
X-PUBLISHED-TTL:PT1H
BEGIN:VTIMEZONE
TZID:Asia/Tokyo
BEGIN:STANDARD
TZOFFSETFROM:+0900
TZOFFSETTO:+0900
TZNAME:JST
DTSTART:20230101T000000
END:STANDARD
END:VTIMEZONE
BEGIN:VEVENT
DTSTART;VALUE=DATE:20230716
DTEND;VALUE=DATE:20230717
DTSTAMP:20260422T140923
CREATED:20230531T035003Z
LAST-MODIFIED:20230714T171117Z
UID:5686-1689465600-1689551999@hiraeth.tokyo
SUMMARY:392☆IDOL SPIRITS  7月号@五反田G7
DESCRIPTION:日時 7/16(日)\nイベント ☆IDOL SPIRITS 7月巻頭カラー\n料金　前売:前方3000一般2000当日+500 (各D別)\n予約 https://tiget.net/events/253830\nLIVE 16:50～17:10\n物販 17:15～18:15\n会場 五反田G7\nOP 12:10\nST 12:20(予定)\nout 22:00\n出演　えあらびゅー/Misty Syrena/まるっとめでたい。/Marionette in the Mirror/プリンセスは眠らないっ！/Comma\,/angelicfairy/.BPM/疾風RUN舞/マリーメトロノーム*/風邪をひいた時にみる夢/ドリームパスポート/Licht/星屑ラビリンス/桜色Standard/百鬼乙女/新世界ギルドール/idrip/AMOUR/The Pink Microphone/Twinkle☆Stars/ブルーなままで/東京CLEAR’S/SeedS/PISTIL/miao/天使突抜ニ読ミ/Lanan/RiKKYY/てぃあむ/ \n \nーー\n『IDOL SPIRITS 電子版　～On Air SPIRITS～』\n2023年7月16日\n第一部　9：40～11：55\n第二部　12：20～22：00\n※イベントの進行により、配信時間は変更する可能性があります\n※ライブ配信を実施しない部分もございます\n配信リンクは下記↓↓↓\n7月16日IDOL SPIRITS youth ライブ無料配信　9:40〜11:55 URL ↓\nhttps://www.youtube.com/live/MGPJWFolohE \n7月16日 IDOL SPIRITS ライブ無料配信　12:20〜22:00 URL↓\nhttps://www.youtube.com/live/YEERugaCDjk \n※無料配信です。 \nアイドルスピリッツライブ配信サイト\nhttps://youtube.com/@user-ei4gk7fm2o
URL:https://hiraeth.tokyo/event/20230716-1/
LOCATION:五反田G7\, 西五反田2-6-3 東洋ビルB1階\, 品川区\, 東京都\, 141-0031\, 日本
CATEGORIES:Live
ATTACH;FMTTYPE=image/jpeg:https://hiraeth.tokyo/wp-content/uploads/S__6218178.jpg
END:VEVENT
BEGIN:VEVENT
DTSTART;VALUE=DATE:20230716
DTEND;VALUE=DATE:20230717
DTSTAMP:20260422T140923
CREATED:20230712T005322Z
LAST-MODIFIED:20230714T171107Z
UID:6194-1689465600-1689551999@hiraeth.tokyo
SUMMARY:391☆Night＆Day@新宿アルタKeyStudio
DESCRIPTION:日時 7/16(日)\nイベント ☆Night＆Day\n特典　えあらびゅールーレット(はずれナシ)\n料金　前売:S4000A2600当日+500 (各D別)\n予約 https://tiget.net/events/258598\nTIGET一括(7/11　20:00～)\nLIVE 12:05～12:25\n物販 12:30～13:40\n会場 新宿アルタKeyStudio\nOP 10:15\nST 10:45(予定)\nout\n出演　えあらびゅー/&grAce/15GERM/Re:boot/OMG/香月友梨奈/KING∞RAGE/Crumble/SUGAR☆VEGA.com/すたーちす/すてねこキャッツ/＃東京花魁物語/Twilight :/はにーべいびー/PinkPanda/100万ドルのフェアレディ/不感症ヘビ苺 /FloreRisa-フロレリーサ-/Ω僕たちまたなにかやっちゃしました？Ω/負けない僕等は、雨の降る世界で猫と踊る。/MAGMAZ/MiiS/Mila bijou/MuMo°/迷愛へるぷ！/めるみるく/ららぱれーど！/Re:verie/Renew/りンね/ワガママきいて？？/
URL:https://hiraeth.tokyo/event/20230716-2/
LOCATION:新宿アルタKeyStudio\, 新宿3-24－3\, 新宿区\, 東京都\, 160-0022\, 日本
CATEGORIES:Live
ATTACH;FMTTYPE=image/jpeg:https://hiraeth.tokyo/wp-content/uploads/0716_ALTA_POP-scaled.jpg
END:VEVENT
END:VCALENDAR