BEGIN:VCALENDAR
VERSION:2.0
PRODID:-//【HIRAETH.Tokyo】(ヒラエス.トーキョー) - ECPv6.11.2//NONSGML v1.0//EN
CALSCALE:GREGORIAN
METHOD:PUBLISH
X-WR-CALNAME:【HIRAETH.Tokyo】(ヒラエス.トーキョー)
X-ORIGINAL-URL:https://hiraeth.tokyo
X-WR-CALDESC:【HIRAETH.Tokyo】(ヒラエス.トーキョー) のイベント
REFRESH-INTERVAL;VALUE=DURATION:PT1H
X-Robots-Tag:noindex
X-PUBLISHED-TTL:PT1H
BEGIN:VTIMEZONE
TZID:Asia/Tokyo
BEGIN:STANDARD
TZOFFSETFROM:+0900
TZOFFSETTO:+0900
TZNAME:JST
DTSTART:20230101T000000
END:STANDARD
END:VTIMEZONE
BEGIN:VEVENT
DTSTART;VALUE=DATE:20230719
DTEND;VALUE=DATE:20230720
DTSTAMP:20260422T140923
CREATED:20230718T120059Z
LAST-MODIFIED:20230718T120805Z
UID:6315-1689724800-1689811199@hiraeth.tokyo
SUMMARY:【TikTok撮影　裏ライブ配信】
DESCRIPTION:【TikTok撮影　裏ライブ配信】\n新規獲得のためにTikTok撮影します\n撮影中の裏配信をします \n時間\n15:00～16:00 \n配信\nミクチャ\nhttps://mixch.tv/u/17339228
URL:https://hiraeth.tokyo/event/20230719-1/
CATEGORIES:Live
END:VEVENT
END:VCALENDAR