BEGIN:VCALENDAR
VERSION:2.0
PRODID:-//【HIRAETH.Tokyo】(ヒラエス.トーキョー) - ECPv6.11.2//NONSGML v1.0//EN
CALSCALE:GREGORIAN
METHOD:PUBLISH
X-WR-CALNAME:【HIRAETH.Tokyo】(ヒラエス.トーキョー)
X-ORIGINAL-URL:https://hiraeth.tokyo
X-WR-CALDESC:【HIRAETH.Tokyo】(ヒラエス.トーキョー) のイベント
REFRESH-INTERVAL;VALUE=DURATION:PT1H
X-Robots-Tag:noindex
X-PUBLISHED-TTL:PT1H
BEGIN:VTIMEZONE
TZID:Asia/Tokyo
BEGIN:STANDARD
TZOFFSETFROM:+0900
TZOFFSETTO:+0900
TZNAME:JST
DTSTART:20230101T000000
END:STANDARD
END:VTIMEZONE
BEGIN:VEVENT
DTSTART;VALUE=DATE:20230722
DTEND;VALUE=DATE:20230723
DTSTAMP:20260422T140922
CREATED:20230712T171231Z
LAST-MODIFIED:20230720T070506Z
UID:6205-1689984000-1690070399@hiraeth.tokyo
SUMMARY:395☆アキバジャンボリー@秋葉原P.A.R.M.S
DESCRIPTION:※解禁7:19(水)22:45 \n日時　7/22(土)1部\nイベント　アキバジャンボリー\n料金 前売3000当日+500(D込)\n予約　https://www.funity.jp/tickets/alicedream/show/2307h/2/1/\n※購入ページへの直接リンクがございませんのでご注意ください。\n※前売チケットの販売は7/20(木)23:59まで\n※当日券は秋葉原P.A.R.M.S受付ではなく1Fカウンターにて販売となります。\n\nLIVE　12:30～13:00\n物販　13:30～14:30(終演後一斉物販)\n会場　秋葉原P.A.R.M.S\nOP　10:30\nST　11:00\n出演　えあらびゅー/ARIStoCRAT -ｱﾘｽﾄｸﾗｯﾄ-/らびゅ～る/スチームガールズ/ﾃﾞｨﾃﾞｨｽｺｯｺ!!/
URL:https://hiraeth.tokyo/event/20230722-2/
LOCATION:秋葉原P.A.R.M.S\, 外神田1‐1‐10パセラリゾーツAKIBAマルチエンターテインメント7F\, 千代田区\, 東京都\, 101-0021\, 日本
CATEGORIES:Live
ATTACH;FMTTYPE=image/jpeg:https://hiraeth.tokyo/wp-content/uploads/3a0e1805e1270e24eae43fcbb8659f8f-scaled.jpg
END:VEVENT
BEGIN:VEVENT
DTSTART;VALUE=DATE:20230722
DTEND;VALUE=DATE:20230723
DTSTAMP:20260422T140922
CREATED:20230705T144310Z
LAST-MODIFIED:20230716T110228Z
UID:6096-1689984000-1690070399@hiraeth.tokyo
SUMMARY:396☆SUNSHINE!mini!!!@新宿MARZ
DESCRIPTION:日時　7/22(土）\nイベント　SUNSHINE!mini!!!\n料金　優先2500円/通常1000円/当日1500円\n予約　https://t.livepocket.jp/e/sunshine0722 7月17日(月)22:30発売開始\nLIVE　18:20〜18:40\n物販　18:40〜19:40\n会場　新宿MARZ\nOP　18:05\nST　18:20(予定)\nout　\n出演　えあらびゅー/4864./くれよんちゅ〜どく/すたーちす/Pialans/道玄坂69/LOVE IZ DOLL/ \n入場順　①優先整理番号順②通常整理番号順③女性整理番号順④当日整列順(状況を見て)
URL:https://hiraeth.tokyo/event/20230722-1/
CATEGORIES:Live
ATTACH;FMTTYPE=image/png:https://hiraeth.tokyo/wp-content/uploads/2ADA9D5B-2F7A-48E9-BDB5-2385CF4A3C9C.png
END:VEVENT
END:VCALENDAR