BEGIN:VCALENDAR
VERSION:2.0
PRODID:-//【HIRAETH.Tokyo】(ヒラエス.トーキョー) - ECPv6.11.2//NONSGML v1.0//EN
CALSCALE:GREGORIAN
METHOD:PUBLISH
X-WR-CALNAME:【HIRAETH.Tokyo】(ヒラエス.トーキョー)
X-ORIGINAL-URL:https://hiraeth.tokyo
X-WR-CALDESC:【HIRAETH.Tokyo】(ヒラエス.トーキョー) のイベント
REFRESH-INTERVAL;VALUE=DURATION:PT1H
X-Robots-Tag:noindex
X-PUBLISHED-TTL:PT1H
BEGIN:VTIMEZONE
TZID:Asia/Tokyo
BEGIN:STANDARD
TZOFFSETFROM:+0900
TZOFFSETTO:+0900
TZNAME:JST
DTSTART:20230101T000000
END:STANDARD
END:VTIMEZONE
BEGIN:VEVENT
DTSTART;VALUE=DATE:20230725
DTEND;VALUE=DATE:20230726
DTSTAMP:20260422T140922
CREATED:20230627T095149Z
LAST-MODIFIED:20230724T151506Z
UID:6020-1690243200-1690329599@hiraeth.tokyo
SUMMARY:399☆☆わがままフェスティバル@白金高輪SELENE b2
DESCRIPTION:日時 7/25(火)\nイベント ☆☆わがままフェスティバル\n料金　優先5000通常2000当日+500(D別)\n予約 http://onl.bz/icpbMnd\n特典　10秒写メor動画撮り放題+水曜日のえあらびゅー　ビーチまったり配信限定公開用URL(後日YouTubeにてアーカイブ公開予定)\n※ローソンチケット7/8(土)10:00〜7/24(金)23:59まで\nLIVE 20:35〜20:55\n物販 21:05〜22:30\n会場 白金高輪SELENE b2\nOP 15:00\nST 15:30\nout\n出演　えあらびゅー/ぷりゅむ。/I MY ME MINE/I’mew（あいみゅう）/kimikara（きみから）/キュンキュンクリームfromバーレスク東京/あいすなっつ/未来サプライズ/erewhon/僕だけの天使/Panic Monster !n Wonderland/Paslil/はちみつBLACK/夢幻のプリューム/青藍ピリオド/ \nーイベントレギュレーションー\n声出しOK\n再入場可能\n撮影NG
URL:https://hiraeth.tokyo/event/20230725-1/
LOCATION:白金高輪SELENE\, 三田5-2−30 SELENE STUDIO\, 港区\, 東京都\, 1080-073\, 日本
CATEGORIES:Live
ATTACH;FMTTYPE=image/jpeg:https://hiraeth.tokyo/wp-content/uploads/S__5234690.jpg
END:VEVENT
END:VCALENDAR