BEGIN:VCALENDAR
VERSION:2.0
PRODID:-//【HIRAETH.Tokyo】(ヒラエス.トーキョー) - ECPv6.11.2//NONSGML v1.0//EN
CALSCALE:GREGORIAN
METHOD:PUBLISH
X-WR-CALNAME:【HIRAETH.Tokyo】(ヒラエス.トーキョー)
X-ORIGINAL-URL:https://hiraeth.tokyo
X-WR-CALDESC:【HIRAETH.Tokyo】(ヒラエス.トーキョー) のイベント
REFRESH-INTERVAL;VALUE=DURATION:PT1H
X-Robots-Tag:noindex
X-PUBLISHED-TTL:PT1H
BEGIN:VTIMEZONE
TZID:Asia/Tokyo
BEGIN:STANDARD
TZOFFSETFROM:+0900
TZOFFSETTO:+0900
TZNAME:JST
DTSTART:20230101T000000
END:STANDARD
END:VTIMEZONE
BEGIN:VEVENT
DTSTART;VALUE=DATE:20230805
DTEND;VALUE=DATE:20230806
DTSTAMP:20260422T121503
CREATED:20230725T064533Z
LAST-MODIFIED:20230804T063713Z
UID:6453-1691193600-1691279999@hiraeth.tokyo
SUMMARY:404☆SKYZ低価格IDOLPARTY 8DOLL花園ねね生誕祭@秋葉原ZEST
DESCRIPTION:日時 8/5(土)\nイベント SKYZ低価格IDOL PARTY  8DOLL花園ねね生誕祭\n料金 最前Sチケット5000円 一般Aチケット2000円(各D別)\n予約 https://t.livepocket.jp/e/k4i17\n販売期間 8/5(土)16:10まで\nLIVE 19:10～19:30\n物販 19:35～20:25A\n会場 秋葉原ZEST\nOP 15:40\nST 15:50(予定)\nout\n出演　えあらびゅー/8FLAG/8DOLL/8JEWEL/Dear8/溺愛めりーごーらんど/いんたーねっと革命/SUGAR☆VEGA .com/A RARE+/晴れのち恋もよう/8ANGEL/まゆねねコラボ/にゃんすきっ♡？/
URL:https://hiraeth.tokyo/event/20230805-2/
LOCATION:秋葉原ZEST\, 外神田3-2-14\, 千代田区\, 東京都\, 101-0021\, 日本
CATEGORIES:Live
ATTACH;FMTTYPE=image/jpeg:https://hiraeth.tokyo/wp-content/uploads/S__11821277_0.jpg
END:VEVENT
BEGIN:VEVENT
DTSTART;VALUE=DATE:20230805
DTEND;VALUE=DATE:20230806
DTSTAMP:20260422T121503
CREATED:20230725T064309Z
LAST-MODIFIED:20230804T063705Z
UID:6451-1691193600-1691279999@hiraeth.tokyo
SUMMARY:403☆SKYZ低価格IDOLPARTY  ☑️mate. はるちゃん生誕@秋葉原ZEST
DESCRIPTION:日時 8/5(土)\nイベント SKYZ低価格IDOL PARTY  ☑️mate.はるちゃん生誕祭\n料金 最前Sチケット5000円 一般Aチケット2000円)(各D別)\n予約 https://t.livepocket.jp/e/oneus\n販売期間 8/5(土)10:40まで\nLIVE 13:00～13:20\n物販 14:20～15:30終演後物販\n会場 秋葉原ZEST\nOP 10:25\nST 10:40(予定)\nout\n出演　えあらびゅー/8FLAG/8JEWEL/Dear8/COZ39/みるる/☑mate./雨のち病みもよう/8WIZARD/ネコさんだったヤツら/
URL:https://hiraeth.tokyo/event/20230805-1/
LOCATION:秋葉原ZEST\, 外神田3-2-14\, 千代田区\, 東京都\, 101-0021\, 日本
CATEGORIES:Live
ATTACH;FMTTYPE=image/jpeg:https://hiraeth.tokyo/wp-content/uploads/S__11821275_0.jpg
END:VEVENT
END:VCALENDAR