BEGIN:VCALENDAR
VERSION:2.0
PRODID:-//【HIRAETH.Tokyo】(ヒラエス.トーキョー) - ECPv6.11.2//NONSGML v1.0//EN
CALSCALE:GREGORIAN
METHOD:PUBLISH
X-ORIGINAL-URL:https://hiraeth.tokyo
X-WR-CALDESC:【HIRAETH.Tokyo】(ヒラエス.トーキョー) のイベント
REFRESH-INTERVAL;VALUE=DURATION:PT1H
X-Robots-Tag:noindex
X-PUBLISHED-TTL:PT1H
BEGIN:VTIMEZONE
TZID:Asia/Tokyo
BEGIN:STANDARD
TZOFFSETFROM:+0900
TZOFFSETTO:+0900
TZNAME:JST
DTSTART:20230101T000000
END:STANDARD
END:VTIMEZONE
BEGIN:VEVENT
DTSTART;VALUE=DATE:20230808
DTEND;VALUE=DATE:20230809
DTSTAMP:20260422T121503
CREATED:20230703T053010Z
LAST-MODIFIED:20230804T064254Z
UID:6063-1691452800-1691539199@hiraeth.tokyo
SUMMARY:408☆☆MARQUEE祭mini Vol.162@渋谷Spotify O-nest
DESCRIPTION:日時 8/8(火)\nイベント ☆☆MARQUEE祭mini Vol.162\n料金　前売3000当日+500 (D別)\nLIVE 18:25〜18:45\n物販 18:55〜19:55\n会場 渋谷Spotify O-nest\nOP 16:30\nST 17:00(予定)\nout\n出演　えあらびゅー/Fuhua/PureGi/Sistersあにま/MYFirstBae’s/UPローチ/にとくり。/カリスマめんざいふっ!/カンフーガールズ/SAY-LA/ \n予約\n先行予約　7/8（土）正午～7/16（日）23:59\n一般発売　7/22（土）10:00～8/7（月）18:00\n予約 http://eplus.jp/marquee-matsuri/ \nお知らせ①\nきこ生誕祭紙チケット販売開始\n2023年9月3日（日）開催のえあらびゅーpresents Vol.21”きこ生誕祭”〜世界でいちばんあつい夏〜入場紙チケットの販売を物販時から開始いたします \nお知らせ②\nメンバーとスタッフからのメッセージ\nありがとう\n本当にありがとう\n感謝しかない \n格上のさらに上の上の上のグループばかりが出演するMARQUEE祭は、私たちにとって夢のステージです。夢を夢で終わらせない為に、全員でがむしゃらに頑張り続けています。 \n私達の想いがファンの皆さんに届き、いつもライブ会場へ足を運んで頂き、会場の誰よりも大きな大きな声援と、えあらびゅーを押し上げたい気持ちを届けてくれています。\nたくさんの無謀とも思える私達の挑戦を応援し続けて、今も夢のMARQUEE祭に沢山の想いに応えて頂き感謝しています。\n本当にありがとうございます！ \n1月28日に開かれた夢の扉は、閉じることなく7回も出演させて頂きました。無名で経験の低いえあらびゅーにアイドルドリームの期待をして頂いています。頂いた期待以上の何かを表現したくて、最初は全員頭がパンクするくらいMTGを日々重ねて来ました。松本編集長はそんな思いを感じてか、的確なアドバイスに併せて、鼓舞させてもらえる言葉をいつもかけてくれます。会場スタッフさんにもすぐに覚えてもらえて本当に嬉しく思います。また、ライブを盛り上げて頂く音響さんと照明さんにはいつも感謝しています！予想しない事を持って行くので、きっとビックリさせてしまっているのでは？？と恐縮しておりますが、いつも最高のライブにして頂き感謝しています。 \n毎回色々なテーマを考え、イベントを盛り上げる為にメンバーが色々な企画をツイートしています。簡単な様ですが、毎日続けるって意外と大変でファンの皆さんから心配をされますが、『頑張れる事って楽しい！！』とメンバー全員で張り切っています！ \nお知らせ③\nテーマはありがとう888\n8回目の出演となる8月8日(火)のテーマは　”ありがとう888″\n色々な感謝を企画していきます！ \nお知らせ④\nセットリスト投票\n感謝の気持ちとしてセットリストの一部をファンの皆さんの聞きたい曲にさせて頂きます！MARQUEE祭mini Vol.162で聞きたい曲をえあらびゅー全オリ曲から是非選んで投票してください。 \nTwitterアンケート1ポイント\nライブ会場での投票2ポイント\nの合計で一番多いポイントになった曲をセットリストに入れさせて頂きます。\n※ライブ会場での投票 \n期間:7月27日〜8月7日までに開催されたライブ\n投票タイミングと場所:物販時にスタッフが投票用紙をお配りしています \n▷えあらびゅーオリジナル曲\n・全力summer!-キャプチャー・ザ・フラッグ!- \n\n・限界わがままクライシス \n\n・もっとずっとそばで \n\n・りぴーとあふたーみー\nライブ動画編集中 \n・だから、アイドル！\nライブ動画編集中 \n・放課後オレンジサイン \n\n・Twister Zone\nライブ動画編集中 \n・Sunshine Magic\nライブ動画編集中 \n・灯火未来\nライブ動画編集中 \nお知らせ⑤\n激アツ特典\nMARQUEE祭最大級と噂の特典を今回も考えました！\n◆予約特典\n・チェキ2枚(当日限り、メンバー跨ぎなし)\n・トレカ1枚 \n◆当日指名特典\n・コメサチェキ(後日)\n・MARQUEEインスパイアTシャツ1枚(無くなり次第終了)\n・キンブレシート第1弾(無くなり次第、第2弾)\n・推しのビーチオフショットチェキ1枚(なくなり次第推しオフショットチェキ)\n・推しのビーチオフショットブロマイド1枚(なくなり次第推しオフショットブロマイド)\n※あみなのみビーチではありません、予めご了承ください。 \nお知らせ⑥\n囲み写メ撮り放題\nライブを見てくれたすべての皆様へ\nステージの最後に、囲み写メ撮り放題タイムを作ります！ \nお知らせ⑦\nやって欲しいこと募集\n水曜のえあらびゅーでお礼を形に！\nえあらびゅーにやって欲しい事を募集します \nお知らせ⑧\n最後にひと言\nえあらびゅーのファンは1人ひとりが強いと噂されています。私たちの自慢の最強のえあらびゅー軍団”えあらばー”の皆さん全員を誇りに思っています！\nいつもありがとう！\nもっともっともっと色んな景色を猛スピードで、えあらばーと一緒にみたいです \nこれからも楽しんでもらえるように、がむしゃらにがんばります！
URL:https://hiraeth.tokyo/event/20230808-1/
LOCATION:渋谷Spotify O-nest\, 円山町２−３ O-WESTビル 6F\, 渋谷区\, 東京都\, 150-0044\, 日本
CATEGORIES:Live
ATTACH;FMTTYPE=image/jpeg:https://hiraeth.tokyo/wp-content/uploads/e3118dc4ae0e91e32d185bb30f254e89.jpg
END:VEVENT
END:VCALENDAR