BEGIN:VCALENDAR
VERSION:2.0
PRODID:-//【HIRAETH.Tokyo】(ヒラエス.トーキョー) - ECPv6.11.2//NONSGML v1.0//EN
CALSCALE:GREGORIAN
METHOD:PUBLISH
X-ORIGINAL-URL:https://hiraeth.tokyo
X-WR-CALDESC:【HIRAETH.Tokyo】(ヒラエス.トーキョー) のイベント
REFRESH-INTERVAL;VALUE=DURATION:PT1H
X-Robots-Tag:noindex
X-PUBLISHED-TTL:PT1H
BEGIN:VTIMEZONE
TZID:Asia/Tokyo
BEGIN:STANDARD
TZOFFSETFROM:+0900
TZOFFSETTO:+0900
TZNAME:JST
DTSTART:20230101T000000
END:STANDARD
END:VTIMEZONE
BEGIN:VEVENT
DTSTART;VALUE=DATE:20230813
DTEND;VALUE=DATE:20230814
DTSTAMP:20260422T121502
CREATED:20230807T104407Z
LAST-MODIFIED:20230809T081154Z
UID:6571-1691884800-1691971199@hiraeth.tokyo
SUMMARY:413☆アルティメットMIX 真夏@池袋harevutai
DESCRIPTION:日時　8/13(日)\nイベント　413☆アルティメットMIX 真夏\n料金　Sチケット(前方エリア)5500、Aチケット(後方エリア)3500\n予約 https://forms.gle/SKwLTepsnoGtcDi27\n(ご予約のみで当日精算になります)\nLIVE　14:30〜14:50\n物販　14:55〜15:45C\n会場　池袋harevutai\nOP　11:20\nST　11:40\nout　\n出演　えあらびゅー/0813/Onephony/愛乙女☆DOLL(チームL)&らぶけん/ルーチェ研究生/プエラの絶対値/キプリスモルホォ/PinkPanda/JAPANARIZM/ひめもすオーケストラ/AiVER./R.I.P.研究所/プラニューム/冥土ノ土産/MyφMe/じぇむどり。/擬人化にゃんた/APAD/幻奏リフレクション/ICE-ink/あいすなっつ/あんだーばー/アレキサンドライト/はいうぃろう。/Aphrodite/RUN WiTH YOU/contrail zero/iNTOYOU/PrinceCHU!/ \n注意事項\n※4歳以上チケット必要\n※入場時ドリンク代別途必要（再入場時も必要になります）\n※入場順は前方→一般の順になります。整列順です。OPEN15分前より整列可能です。\n※携帯電話等の受信設定でドメイン指定受信を設定している方は、必ずメールを事前に受信できるように設定してください。 メールが届かない事により、申込が確認できない場合等でも責任は負いかねます。\n※マスクありで声出し可能です。\n※物販時のマスク有無等は各出演者にお問い合わせお願いします。
URL:https://hiraeth.tokyo/event/20230813-1/
LOCATION:池袋 harevutai\, 東池袋1-19-1\, 豊島区\, 東京都\, 170-0013\, 日本
CATEGORIES:Live
ATTACH;FMTTYPE=image/png:https://hiraeth.tokyo/wp-content/uploads/EE6F4420-9BF3-4632-A5C0-8546B6316F1C.png
END:VEVENT
BEGIN:VEVENT
DTSTART;VALUE=DATE:20230813
DTEND;VALUE=DATE:20230814
DTSTAMP:20260422T121502
CREATED:20230807T155050Z
LAST-MODIFIED:20230812T022924Z
UID:6581-1691884800-1691971199@hiraeth.tokyo
SUMMARY:412☆#iDOLRiZM in GOTANDA G3 ＆G4～2会場連動イベント～
DESCRIPTION:日時 8/13(日)\nイベント 412☆#iDOLRiZM in GOTANDA G3 ＆G4～2会場連動イベント～\n料金　Sチケット5000(最前優先エリア)/Aチケット3000(一般)/Bチケット1000(女性)/当日各+500/各会場(各D別)\n予約 https://tiget.net/events/264410\n※予約開始 8月10日 22:00～\nLIVE 19:45～20:05\n物販 20:20～21:20D\n会場 五反田G4\nOP 11:00\nST 11:15(G4)12:15(G3)\nout\n出演　えあらびゅー/IVY/アポストロフィー/雨のち病みもよう/ウワサノアカリ/おとめの姿しばしとどめむ/おやすみセカイ/カリキュレーション/GiMMiCK/きゅーてぃくるっ！/COZ/キロノヴァ/SUNNY/JADE/CharmeAiles/そのまんま祟り/たまプリ/デュナミス/ばぶるぱれっと/晴れのち恋もよう/ブリオガジャ/\n福永幸海/Ω僕たちまたなにかやっちゃいました？Ω/MissyouMash/MILLE FLEURS/めにぱら/もぐちっぷ/夜とメルク/RAiMEI/Renew/Res💘Chu/Lifesta/ \n【イベントレギュレーション】\n・声出し可能（マスク必須）\n・再入場可（再入場時1Drink）\n・ジャンプ、モッシュ、リフトなど禁止\n【入場受付と1Drink制について】\n・各会場どちらでも入場受付が可能です。\n・2会場入場でもチケット代金は同じです。\n・各会場ごとに初回入場時に1Drink代金が必要です。\n・受付時に初回1Drinkチケットを購入した際の証明でリストバンドをまかせていただいております。
URL:https://hiraeth.tokyo/event/20230813-2/
CATEGORIES:Live
ATTACH;FMTTYPE=image/jpeg:https://hiraeth.tokyo/wp-content/uploads/722821_0.jpg
END:VEVENT
END:VCALENDAR