BEGIN:VCALENDAR
VERSION:2.0
PRODID:-//【HIRAETH.Tokyo】(ヒラエス.トーキョー) - ECPv6.11.2//NONSGML v1.0//EN
CALSCALE:GREGORIAN
METHOD:PUBLISH
X-WR-CALNAME:【HIRAETH.Tokyo】(ヒラエス.トーキョー)
X-ORIGINAL-URL:https://hiraeth.tokyo
X-WR-CALDESC:【HIRAETH.Tokyo】(ヒラエス.トーキョー) のイベント
REFRESH-INTERVAL;VALUE=DURATION:PT1H
X-Robots-Tag:noindex
X-PUBLISHED-TTL:PT1H
BEGIN:VTIMEZONE
TZID:Asia/Tokyo
BEGIN:STANDARD
TZOFFSETFROM:+0900
TZOFFSETTO:+0900
TZNAME:JST
DTSTART:20230101T000000
END:STANDARD
END:VTIMEZONE
BEGIN:VEVENT
DTSTART;VALUE=DATE:20230818
DTEND;VALUE=DATE:20230819
DTSTAMP:20260422T122910
CREATED:20230807T083640Z
LAST-MODIFIED:20230809T081328Z
UID:6564-1692316800-1692403199@hiraeth.tokyo
SUMMARY:416☆☆GIGA・GIGA・SONIC~幕張メッセ直前SP~@ヒューリックホール東京
DESCRIPTION:日時 8/18(金)\nイベント 416☆☆GIGA・GIGA・SONIC~幕張メッセ直前SP~\n料金　！！早期入場2000円割引！！女性・学生2500、一般自由性3000、前方自由席5000、他、\n予約 https://giga-giga-sonic.zaiko.io/item/358505\nLIVE 11:15〜11:30\n物販 11:40〜12:40\n会場 有楽町ヒューリックホール東京\nOP 10:00\nST 10:30(予定)\nout 21:00\n出演　えあらびゅー/東京女子流/Peel the Apple/TiiiMO/KissBee/buGG/BABY-CRAYON~1361~/夢みるアドレセンス/点染テンセイ少女。/Malcolm Mask McLaren/一つ足りない賽は投げられた/Quubi/MEWM/#ドレミファソラシード/ZUTTOMOTTO/ニーキューオメガ /アンチテーゼ/MOON RABBiTS/電撃パラレル/ドリームパスポート/GIRLY MOON PROJECT/異世界アイドル☆パラレルワールド/BAKUMON/Spoons/Tri-Sphere/ぷりゅむ/れんてつ/幻のポイッ/日曜日の起死回生/
URL:https://hiraeth.tokyo/event/20230818-1/
LOCATION:有楽町ヒューリックホール東京\, 有楽町2-5-1有楽町マリオン11F\, 千代田区\, 東京都\, 1000006\, 日本
CATEGORIES:Live
ATTACH;FMTTYPE=image/jpeg:https://hiraeth.tokyo/wp-content/uploads/F2l_XnSagAEJeXW.jpg
END:VEVENT
END:VCALENDAR