BEGIN:VCALENDAR
VERSION:2.0
PRODID:-//【HIRAETH.Tokyo】(ヒラエス.トーキョー) - ECPv6.11.2//NONSGML v1.0//EN
CALSCALE:GREGORIAN
METHOD:PUBLISH
X-WR-CALNAME:【HIRAETH.Tokyo】(ヒラエス.トーキョー)
X-ORIGINAL-URL:https://hiraeth.tokyo
X-WR-CALDESC:【HIRAETH.Tokyo】(ヒラエス.トーキョー) のイベント
REFRESH-INTERVAL;VALUE=DURATION:PT1H
X-Robots-Tag:noindex
X-PUBLISHED-TTL:PT1H
BEGIN:VTIMEZONE
TZID:Asia/Tokyo
BEGIN:STANDARD
TZOFFSETFROM:+0900
TZOFFSETTO:+0900
TZNAME:JST
DTSTART:20230101T000000
END:STANDARD
END:VTIMEZONE
BEGIN:VEVENT
DTSTART;VALUE=DATE:20230819
DTEND;VALUE=DATE:20230820
DTSTAMP:20260422T122910
CREATED:20230613T084447Z
LAST-MODIFIED:20230817T223728Z
UID:5848-1692403200-1692489599@hiraeth.tokyo
SUMMARY:417☆☆えあらびゅーpresents Vol.21えあらびゅー2周年ワンマンライブ〜描いた未来へ〜
DESCRIPTION:イベント概要\n日程：2023年8月19日(土)\nイベント　417☆☆えあらびゅーpresents Vol.21えあらびゅー2周年ワンマンライブ〜描いた未来へ〜\n料金　Sチケット8000 Aチケット3000 招待チケット1000 当日+500(D別)\n予約　紙チケット(各ライブイベント特典会にて販売中)\nネット(https://t.livepocket.jp/e/airlview_2nd_anniversary)\n紙チケット(7/9新宿LUMINE0ホール物販時15:45から販売開始) \nLIVE　10:20〜11:20\n物販　11:50〜13:00\n会場　渋谷Deseo\nOP　9:50\nST　10:20(予定)\nout　13:10(予定)\n出演　えあらびゅー \n紙チケット販売期間\n7/9(日)アイコレFor Music Lover SP!!!@新宿LUMINE 0ホール物販時15:45 ～ 2023年8月18日(金)\n※物販時に並び順でチケットの販売をいたします。 \n※Sチケットの同時購入は最大3枚までとなります。3枚以上ご希望の方は再度お並び下さいます様お願い致します。 \nインターネット予約販売期間\n7/9(日)～2023年8月18日(金)23:59\n(https://t.livepocket.jp/e/airlview_2nd_anniversary) \nタイムテーブル\n9:50　オープン(チケット番号順入場)\n10:20　スタート\n10:20〜11:20　ライブ\n11:20〜11:40　ご挨拶(アンコール含む)\n11:40～11:50    転換\n11:50〜13:00　特典会\n13:10　退出 \n入場順\nS紙チケット番号順→Sネット番号順→A紙チケット番号順→Aネット番号順→当日券・招待券　当日並び順 \n特典\n・Sチケット\n優先エリア、推しサイン入りタオル、コメサチェキ券、特典会ファストパス、2周年集合ブロマイド\n・Aチケット\n→2周年集合ブロマイド \n招待人数特典\n※SチケAチケでも招待であればカウントされます\n・1人…2周年集合ブロマイドサイン\n・2人…写メ（60秒）\n・5人…3分独占（写真、動画、お話可）\n・10人…デコTシャツor私物プレゼント\n・15人…サイン付きチェキ5枚\n・20人…お手紙 \nゾーン\n \nグッズ販売開始\n \n2周年ワンマンライブ記念Tシャツ\nお買い求めはこちら\nhttps://airlview.official.ec/items/77019376\n \nアクリルキーホルダー\n \n缶バッチ\n \nタオル
URL:https://hiraeth.tokyo/event/20230819-1/
LOCATION:渋谷DESEO\, 道玄坂2-13-5ハーベストビルディングB1F\, 渋谷区\, 東京都\, 150-0043\, 日本
CATEGORIES:Live
ATTACH;FMTTYPE=image/png:https://hiraeth.tokyo/wp-content/uploads/3ab4775213c8566b356542de1f8ff66c.png
END:VEVENT
END:VCALENDAR