BEGIN:VCALENDAR
VERSION:2.0
PRODID:-//【HIRAETH.Tokyo】(ヒラエス.トーキョー) - ECPv6.11.2//NONSGML v1.0//EN
CALSCALE:GREGORIAN
METHOD:PUBLISH
X-ORIGINAL-URL:https://hiraeth.tokyo
X-WR-CALDESC:【HIRAETH.Tokyo】(ヒラエス.トーキョー) のイベント
REFRESH-INTERVAL;VALUE=DURATION:PT1H
X-Robots-Tag:noindex
X-PUBLISHED-TTL:PT1H
BEGIN:VTIMEZONE
TZID:Asia/Tokyo
BEGIN:STANDARD
TZOFFSETFROM:+0900
TZOFFSETTO:+0900
TZNAME:JST
DTSTART:20230101T000000
END:STANDARD
END:VTIMEZONE
BEGIN:VEVENT
DTSTART;VALUE=DATE:20230826
DTEND;VALUE=DATE:20230827
DTSTAMP:20260422T123055
CREATED:20230511T094506Z
LAST-MODIFIED:20230827T101642Z
UID:5460-1693008000-1693094399@hiraeth.tokyo
SUMMARY:423☆ウエノデビアフェスタ2023@上野公園噴水前広場特設ステージ
DESCRIPTION:日時　8/26(土)\nイベント　☆ウエノデビアフェスタ2023\n料金　500円(ビアフェス入り口にて、未成年以下は無料)\n予約　https://www.asoview.com/item/ticket/ticket0000021907/\n※当日は入場が2つに分かれており、事前購入でスムーズにご入場頂けます\nLIVE　18:35～18:50\n物販　18:55～19:55C\n会場　上野公園噴水前広場特設　ステージ\nOP　17:00(予定)\nST　\nout　20:00(予定)\n出演　えあらびゅー/みらくる★ふぉーぜ/ジュリアナの祟り/アイドルガレッジ/momguracci(aka桃色革命)/XIDENT(韓国)/COLOR’z/スリジェ/カタクリ娘(コ)伝説/ソラネルカンパニー/Love Cherish/アノニミティー/CHERRY GIRLS PROJECT/シュユノトキ/ラフ-Laugh-/ミライサガシ～MIRAISAGASHI～/プリンセス物語(名古屋)/天使突抜ニ読ミ/Licel A*/たまプリ/うじゅら-ujura-/ハニースパイスRe.(仮)/他 \nフードコート多数設置予定\nイベント概要\nhttps://uenode-beer-festa.com/play
URL:https://hiraeth.tokyo/event/20230826-1/
CATEGORIES:Event,Live
ATTACH;FMTTYPE=image/jpeg:https://hiraeth.tokyo/wp-content/uploads/154028e28a4903b52e465893ef205b8f-scaled.jpg
END:VEVENT
BEGIN:VEVENT
DTSTART;VALUE=DATE:20230826
DTEND;VALUE=DATE:20230827
DTSTAMP:20260422T123055
CREATED:20230825T140432Z
LAST-MODIFIED:20230827T101629Z
UID:6749-1693008000-1693094399@hiraeth.tokyo
SUMMARY:422☆☆ZIRCO DE LIVE@新宿Zirco
DESCRIPTION:▽日時　8/26(土)\n▽イベント　☆☆ZIRCO DE LIVE\n▽予約　https://t.livepocket.jp/e/czrs7\n▽LIVE　16:00～16:20\n▽物販　16:25～16:55\n▽会場　新宿Zirco\n▽料金　前方エリア2500/通常エリア1500/当日+500(各D別)\n▽OP　15:40\n▽ST　16:00\n▽out　\n▽出演　えあらびゅー/Onephony/Transparents/FloreRisa-フロレリーサ-/
URL:https://hiraeth.tokyo/event/20230826-3/
LOCATION:新宿Zirco Tokyo\, 歌舞伎町1-2-5東陽ビルB2\, 新宿区\, 東京都\, 160-0021\, 日本
CATEGORIES:Live
ATTACH;FMTTYPE=image/jpeg:https://hiraeth.tokyo/wp-content/uploads/869773E1-C83D-421A-A58F-2C0503A4C755.jpeg
END:VEVENT
BEGIN:VEVENT
DTSTART;VALUE=DATE:20230826
DTEND;VALUE=DATE:20230827
DTSTAMP:20260422T123055
CREATED:20230701T051508Z
LAST-MODIFIED:20230827T101144Z
UID:6056-1693008000-1693094399@hiraeth.tokyo
SUMMARY:421☆☆アイコレ⭐浴衣で夏の思い出SP!!!@新宿ALTA KeyStudio
DESCRIPTION:▽イベント　☆☆アイコレ⭐浴衣で夏の思い出SP!!!\n▽予約　https://tiget.net/events/263768\n▽指名入場特典　チェキ2枚（60秒トーク、サイン不可、メンバーまたぎなし）、囲み集合チェキ1枚（物販開始時、トークなし）、星2ラリーカード適用\n※受付で指名特典券をお受取りください\n▽動員企画　20名達成で甚平、40名達成で浴衣　ライブ＆特典会　※8月25日18時時点での予約人数\n▽日時　8/26(土)\n▽LIVE　11:25～11:45\n▽物販　12:10～13:10舞台裏A\n▽会場　新宿ALTA KeyStudio\n▽料金　前売S席4000円 A席3000円 当日+500円(各D別)※早割500円キャッシュバック(11時00分まで入場適用)\n▽OP　10:00\n▽ST　10:20\n▽out　\n▽出演　えあらびゅー/Glim Assembler/アルテミスの翼/きみにYORISOERU/エウレカ/8月のエウテルペ/miao/RiNCENT/PrincessGarden-姫庭- /ニコニコ♡STAGE/蒼穹アンブレラ/プリズムハート/Bety/LOVE 9 LOVE/しおもん/ai*ai/CANDY GO!GO!/ヤンチャン学園音楽部/めるみるく/Re:INCARNATION/Twinkle☆Stars/TEARS-ティアーズ-/LEVEL7/100-YOKAI/RURUDiA/SITRA./シャルロット/RUN WiTH YOU/Ω僕たちまたなにかやっちゃいました？Ω/アポロンの翼/HIGH SPIRITS/カリスマめんざいふっ！/マイノリティアラート/トキメロ/
URL:https://hiraeth.tokyo/event/20230826-2/
LOCATION:新宿アルタKeyStudio\, 新宿3-24－3\, 新宿区\, 東京都\, 160-0022\, 日本
CATEGORIES:Live
ATTACH;FMTTYPE=image/jpeg:https://hiraeth.tokyo/wp-content/uploads/826KeyStudio_2-scaled.jpg
END:VEVENT
END:VCALENDAR