BEGIN:VCALENDAR
VERSION:2.0
PRODID:-//【HIRAETH.Tokyo】(ヒラエス.トーキョー) - ECPv6.11.2//NONSGML v1.0//EN
CALSCALE:GREGORIAN
METHOD:PUBLISH
X-WR-CALNAME:【HIRAETH.Tokyo】(ヒラエス.トーキョー)
X-ORIGINAL-URL:https://hiraeth.tokyo
X-WR-CALDESC:【HIRAETH.Tokyo】(ヒラエス.トーキョー) のイベント
REFRESH-INTERVAL;VALUE=DURATION:PT1H
X-Robots-Tag:noindex
X-PUBLISHED-TTL:PT1H
BEGIN:VTIMEZONE
TZID:Asia/Tokyo
BEGIN:STANDARD
TZOFFSETFROM:+0900
TZOFFSETTO:+0900
TZNAME:JST
DTSTART:20230101T000000
END:STANDARD
END:VTIMEZONE
BEGIN:VEVENT
DTSTART;VALUE=DATE:20230827
DTEND;VALUE=DATE:20230828
DTSTAMP:20260422T122946
CREATED:20230511T094604Z
LAST-MODIFIED:20230827T101713Z
UID:5466-1693094400-1693180799@hiraeth.tokyo
SUMMARY:424☆ウエノデビアフェスタ2023@上野公園噴水前広場特設ステージ
DESCRIPTION:日時　8/27(日)\nイベント　☆ウエノデビアフェスタ2023\n料金　500円(ビアフェス入り口にて、未成年以下は無料)\n予約　https://www.asoview.com/item/ticket/ticket0000021907/\n※当日は入場が2つに分かれており、事前購入でスムーズにご入場頂けます\nLIVE　12:15～12:30\n物販　12:35～13:35B\n会場　上野公園噴水前広場特設ステージ\nOP　17:00(予定)\nST　\nout　20:00(予定)\n出演　えあらびゅー/みらくる★ふぉーぜ/ジュリアナの祟り/アイドルガレッジ/momguracci(aka桃色革命)/XIDENT(韓国)/COLOR’z/スリジェ/カタクリ娘(コ)伝説/ソラネルカンパニー/Love Cherish/アノニミティー/CHERRY GIRLS PROJECT/シュユノトキ/ラフ-Laugh-/ミライサガシ～MIRAISAGASHI～/プリンセス物語(名古屋)/天使突抜ニ読ミ/Licel A*/たまプリ/うじゅら-ujura-/ハニースパイスRe.(仮)/他\n\nフードコート多数設置予定\nイベント概要\nhttps://uenode-beer-festa.com/play
URL:https://hiraeth.tokyo/event/20230827-1/
CATEGORIES:Event,Live
ATTACH;FMTTYPE=image/jpeg:https://hiraeth.tokyo/wp-content/uploads/154028e28a4903b52e465893ef205b8f-scaled.jpg
END:VEVENT
END:VCALENDAR