BEGIN:VCALENDAR
VERSION:2.0
PRODID:-//【HIRAETH.Tokyo】(ヒラエス.トーキョー) - ECPv6.11.2//NONSGML v1.0//EN
CALSCALE:GREGORIAN
METHOD:PUBLISH
X-WR-CALNAME:【HIRAETH.Tokyo】(ヒラエス.トーキョー)
X-ORIGINAL-URL:https://hiraeth.tokyo
X-WR-CALDESC:【HIRAETH.Tokyo】(ヒラエス.トーキョー) のイベント
REFRESH-INTERVAL;VALUE=DURATION:PT1H
X-Robots-Tag:noindex
X-PUBLISHED-TTL:PT1H
BEGIN:VTIMEZONE
TZID:Asia/Tokyo
BEGIN:STANDARD
TZOFFSETFROM:+0900
TZOFFSETTO:+0900
TZNAME:JST
DTSTART:20230101T000000
END:STANDARD
END:VTIMEZONE
BEGIN:VEVENT
DTSTART;VALUE=DATE:20230902
DTEND;VALUE=DATE:20230903
DTSTAMP:20260422T094839
CREATED:20230727T170022Z
LAST-MODIFIED:20230901T064226Z
UID:6473-1693612800-1693699199@hiraeth.tokyo
SUMMARY:425☆☆MARQUEE祭mini Vol.168@渋谷Spotify O-nest
DESCRIPTION:一般発売　8/19(土)10:00～9/1(金)18:00 \n日時　9/2(土)\nイベント　425☆☆MARQUEE祭mini Vol.168\n料金　前売3000当日3500(各D別)\n予約　http://eplus.jp/marquee-matsuri (運営予約不可)\nLIVE　18:45～19:05\n物販　19:15～20:15 ブースC\n会場　渋谷Spotify O-nest\nOP　16:30\nST　17:00\nout　\n出演　えあらびゅー/Glim Assembler/スプスラッシュ/Hey!Mommy!/ノルニル/metarium/マイノリティアラート/RiNCENT/カンフーガールズ\n特典　\n\n企画　#えあらばー増やそう大作戦\n \nーーイベントレギュレーションーー\n●チケットはお一人様1枚のみ（チケットにはその方のお名前が記入されます)\n●整理券番号順入場、オールスタンディング\n●入場時に身分証確認をさせていただく場合がございます。顔写真付き身分証明証を持参お願いします\n●体温が37.5以上の方、咳症状の方は入場をお断りします\n●リフト、モッシュ、柵に登る等の危険行為、ヤジ、泥酔等禁止\n●営利目的の転売禁止\n●会場内への飲食物の持ち込み禁止、アルコール販売なし\n●再入場不可\n●未就学児童入場不可\n●出演者変更に伴いますご返金は致しかねます
URL:https://hiraeth.tokyo/event/20230902-1/
LOCATION:渋谷Spotify O-nest\, 円山町２−３ O-WESTビル 6F\, 渋谷区\, 東京都\, 150-0044\, 日本
CATEGORIES:Live
ATTACH;FMTTYPE=image/jpeg:https://hiraeth.tokyo/wp-content/uploads/1d07aa5deeeb3c5170e54cd0c83c991d.jpg
END:VEVENT
END:VCALENDAR