BEGIN:VCALENDAR
VERSION:2.0
PRODID:-//【HIRAETH.Tokyo】(ヒラエス.トーキョー) - ECPv6.11.2//NONSGML v1.0//EN
CALSCALE:GREGORIAN
METHOD:PUBLISH
X-WR-CALNAME:【HIRAETH.Tokyo】(ヒラエス.トーキョー)
X-ORIGINAL-URL:https://hiraeth.tokyo
X-WR-CALDESC:【HIRAETH.Tokyo】(ヒラエス.トーキョー) のイベント
REFRESH-INTERVAL;VALUE=DURATION:PT1H
X-Robots-Tag:noindex
X-PUBLISHED-TTL:PT1H
BEGIN:VTIMEZONE
TZID:Asia/Tokyo
BEGIN:STANDARD
TZOFFSETFROM:+0900
TZOFFSETTO:+0900
TZNAME:JST
DTSTART:20230101T000000
END:STANDARD
END:VTIMEZONE
BEGIN:VEVENT
DTSTART;VALUE=DATE:20230909
DTEND;VALUE=DATE:20230910
DTSTAMP:20260422T104142
CREATED:20230730T135626Z
LAST-MODIFIED:20230905T173422Z
UID:6486-1694217600-1694303999@hiraeth.tokyo
SUMMARY:428☆☆IDOL DUNGEON!@渋谷asia
DESCRIPTION:イベント　427☆☆IDOL DUNGEON!\n予約　https://tiget.net/events/266082\n特典 当日指名入場　先着50名様に”10秒動画orスマホ取り放題　星2ラリーカード適用\n日時　9/9(土)\nLIVE　15:35〜15:55\n物販　16:00〜17:00A\n会場　渋谷asia\n料金　予約2000女性1000当日+500(各D別)\nOP　10:00\nST　10:30\nout　\n出演　えあらびゅー/夢みるアドレセンス/♡’s(kyuuuns)/PrinceCHU!/夢現シンクレティズム/遥か、彼方。/TEARS-ティアーズ-/にとくり。/Sistersあにま/蓋然性オルトイズム/香月友梨奈/ONE NEXT GIRLS/PATI PATI CANDY/スプスラッシュ/瞬きもせず/Glim Assembler/ドリームパスポート/メタモル!!!/RESTRECT/奏音コレクト/ぷりゅむ/みらくるふぉーぜ/あいすナッツ/POPPiNG EMO/NOW DRAMATiC/8WIZARD/aiai/HALO PALLETE/いちごみるく色に染まりたい/BOY MEETS HARU/アンダービースティー研修生/ \n【備考】 声出しOK 再入場可能 撮影各運営対応
URL:https://hiraeth.tokyo/event/20230909-1/
LOCATION:渋谷Club asia\, 円山町 1-8\, 渋谷区-\, 東京都\, 150-0044\, 日本
CATEGORIES:Live
ATTACH;FMTTYPE=image/jpeg:https://hiraeth.tokyo/wp-content/uploads/S__38092803.jpg
END:VEVENT
BEGIN:VEVENT
DTSTART;VALUE=DATE:20230909
DTEND;VALUE=DATE:20230910
DTSTAMP:20260422T104142
CREATED:20230823T202158Z
LAST-MODIFIED:20230905T173414Z
UID:6726-1694217600-1694303999@hiraeth.tokyo
SUMMARY:427☆☆HYPE IDOL!FRESH!@渋谷ストリームホール
DESCRIPTION:▽日時　9/9(土)\n▽イベント　☆☆HYPE IDOL!FRESH!\n▽予約　https://t-dv.com/hypefresh0909\n・先行抽選8/31(木)23:59まで\n・一般先着9/1(金)20:00～9/8(金)23:59\n▽指名入場特典　星2ラリーカード適用\n※受付で指名特典券をお受取りください\n▽動員企画　\n▽LIVE　12:10～12:25\n▽物販　12:30～13:20\n▽会場　渋谷ストリームホール\n▽料金　前方チケット5000/一般チケット2500/当日+1000(各D別)\n▽開場　10:00\n▽イベント時間　10:20～\n▽出演　えあらびゅー/アイドル失格/AiVER./I’mew/あっぷろーでぃあ/Arno/あわこい/未ダ、君ヲ推セズ。/Cassie Te Light/狂い咲けセンターロード/恋に落ちる確率は限りなく低いが0じゃない/高貴な絶対零度/comme moi/TheWORLD/ソラネルカンパニー/純粋カフェラッテ/Seven Day’z/天使突抜ニ読ミ/点染テンセイ少女。/チャーヂ！/トイランド/トキメロ/.Link/Newbie lvy/バブルバビデガム!!/ヒビコレ/ヒヨルナ/FEAM/星合いのライラック/PHiZZ/迷愛へるぷ！/ミリオン！〜Million Heaven Tokyo〜/もぐちっぷ/代々木女子音楽院/LoveCherish/RUN WiTH YOU/&only/ラビットビット/8WIZARD/Amulet A Mute/
URL:https://hiraeth.tokyo/event/20230909-2/
LOCATION:渋谷ストリームホール\, 渋谷3-21-3\, 渋谷区\, 東京都\, 150-0002\, 日本
CATEGORIES:Live
ATTACH;FMTTYPE=image/jpeg:https://hiraeth.tokyo/wp-content/uploads/【訂正版】0909_HYPE_告知フライヤー-scaled.jpg
END:VEVENT
END:VCALENDAR