BEGIN:VCALENDAR
VERSION:2.0
PRODID:-//【HIRAETH.Tokyo】(ヒラエス.トーキョー) - ECPv6.11.2//NONSGML v1.0//EN
CALSCALE:GREGORIAN
METHOD:PUBLISH
X-WR-CALNAME:【HIRAETH.Tokyo】(ヒラエス.トーキョー)
X-ORIGINAL-URL:https://hiraeth.tokyo
X-WR-CALDESC:【HIRAETH.Tokyo】(ヒラエス.トーキョー) のイベント
REFRESH-INTERVAL;VALUE=DURATION:PT1H
X-Robots-Tag:noindex
X-PUBLISHED-TTL:PT1H
BEGIN:VTIMEZONE
TZID:Asia/Tokyo
BEGIN:STANDARD
TZOFFSETFROM:+0900
TZOFFSETTO:+0900
TZNAME:JST
DTSTART:20230101T000000
END:STANDARD
END:VTIMEZONE
BEGIN:VEVENT
DTSTART;VALUE=DATE:20230914
DTEND;VALUE=DATE:20230915
DTSTAMP:20260422T094838
CREATED:20230906T063947Z
LAST-MODIFIED:20230913T135138Z
UID:7070-1694649600-1694735999@hiraeth.tokyo
SUMMARY:432☆アイドルフィーバーナイト@池袋リヴォイス
DESCRIPTION:▽日程　9/14(木)\n ▽イベント　432☆アイドルフィーバーナイト　\n▽予約　 運営予約( https://twitter.com/airlview )DMをお送りください。\n▽LIVE　20:30〜20:55\n ▽物販　20:55〜21:55\n▽会場　池袋リヴォイス\n ▽料金　前売2000/当日+500(各D別)\n ▽開場　19:15\n ▽イベント時間　 19:30\n▽出演　えあらびゅー/シブヤDOMINION/はにーべいびー/Li-V-RAVE/andmore
URL:https://hiraeth.tokyo/event/20230914-1/
LOCATION:池袋リヴォイス\, 池袋2-12-9 広瀬ビルB1\, 豊島区\, 東京都\, 171-0014\, 日本
CATEGORIES:Live
END:VEVENT
END:VCALENDAR