BEGIN:VCALENDAR
VERSION:2.0
PRODID:-//【HIRAETH.Tokyo】(ヒラエス.トーキョー) - ECPv6.11.2//NONSGML v1.0//EN
CALSCALE:GREGORIAN
METHOD:PUBLISH
X-ORIGINAL-URL:https://hiraeth.tokyo
X-WR-CALDESC:【HIRAETH.Tokyo】(ヒラエス.トーキョー) のイベント
REFRESH-INTERVAL;VALUE=DURATION:PT1H
X-Robots-Tag:noindex
X-PUBLISHED-TTL:PT1H
BEGIN:VTIMEZONE
TZID:Asia/Tokyo
BEGIN:STANDARD
TZOFFSETFROM:+0900
TZOFFSETTO:+0900
TZNAME:JST
DTSTART:20230101T000000
END:STANDARD
END:VTIMEZONE
BEGIN:VEVENT
DTSTART;VALUE=DATE:20230916
DTEND;VALUE=DATE:20230917
DTSTAMP:20260422T094953
CREATED:20230823T085729Z
LAST-MODIFIED:20230911T122050Z
UID:6719-1694822400-1694908799@hiraeth.tokyo
SUMMARY:435☆☆IDOLGARDEN NEO@池袋harevutai
DESCRIPTION:▽日時　9/16(土)\n▽イベント　435☆☆IDOLGARDEN NEO\n▽予約　https://t.livepocket.jp/e/0916ikebukuro\n▽指名入場特典、星2ラリーカード適用\n※受付で指名特典券をお受取りください\n▽動員企画　30名:第3衣装/40名:浴衣\n▽LIVE　19:20～19:35\n▽物販　19:40～20:30D\n▽会場　池袋harevutai\n▽料金　前売S:5500/一般3500/当日+1000(各D別)※再入場D代\n▽OP　11:30\n▽ST　11:40\n▽out　\n▽出演　えあらびゅー/PinkPanda/キプリスモルホォ/あいすなっつ/COLOR’z/paslil’/R.I.P.研究所/雨音とアプローズ/CANDY GO!GO!/Re:INCARNATION/Renew/幻奏リフレクション/コノサキモ隣ニ/ミルフェリーチェ/THAT’s So/姫愛みりあ/福永幸海/RUN WiTH YOU/♮リアスクライブ/ブルーなままで/ひみつのうさぎ/もどかしマーケッツ/Nina Pelea/日曜日の起死回生/みるる/プラニューム/冥土ノ土産/VS. VERSE/キロノヴァ/TheWORLD/NEW POLARIS/DEMO/Tera-Smile PROJECT/SeedS/PISTIL/
URL:https://hiraeth.tokyo/event/20230916-2/
LOCATION:池袋 harevutai\, 東池袋1-19-1\, 豊島区\, 東京都\, 170-0013\, 日本
CATEGORIES:Live
ATTACH;FMTTYPE=image/png:https://hiraeth.tokyo/wp-content/uploads/0916-idolgardenNEO-1.png
END:VEVENT
BEGIN:VEVENT
DTSTART;VALUE=DATE:20230916
DTEND;VALUE=DATE:20230917
DTSTAMP:20260422T094953
CREATED:20230901T105442Z
LAST-MODIFIED:20230911T122125Z
UID:6983-1694822400-1694908799@hiraeth.tokyo
SUMMARY:434☆#PATIPATICANDY…☆ りなちゃん。生誕祭2023〜いつもありがつぉ♡ あざといメモリアル〜@新宿ZEALTHEATER
DESCRIPTION:▽日程　9/16(土)\n▽イベント　434☆#PATIPATICANDY…☆ りなちゃん。生誕祭2023〜いつもありがつぉ♡ あざといメモリアル〜\n▽予約　https://patipaticandy.com/events/4760\n　9/15  23:59まで\n▽LIVE　13:20～13:40\n▽物販　12:15～13:05\n▽会場　新宿ZEALTHEATER\n▽料金　前売/男性3500女性1000/当日+500(各D別)\n▽開場　12:00\n▽イベント時間　13:20～\n▽出演　えあらびゅー/PATI PATI CANDY…☆/.BPM/スリジエ/moreぷり/ドリームパスポート/ふるーつばすけっと/青山Rabness/ \n◆声出しOK、再入場可能※撮影各運営対応 \n◆当日の入場ご案内順\n➀整理番号入場\n先頭文字列「U」から始まる番号順\n↓\n先頭文字列「S」から始まる番号順\n↓\n➁当日券\n↓\n➂その他
URL:https://hiraeth.tokyo/event/20230916-3/
LOCATION:新宿ジールシアター\, 歌舞伎町2-44-1 健康プラザハイジア17F\, 新宿区\, 東京都\, 160-0021
CATEGORIES:Live
ATTACH;FMTTYPE=image/png:https://hiraeth.tokyo/wp-content/uploads/0916_パチキャンりなちゃん。生誕祭2023_再修正版.png
END:VEVENT
END:VCALENDAR