BEGIN:VCALENDAR
VERSION:2.0
PRODID:-//【HIRAETH.Tokyo】(ヒラエス.トーキョー) - ECPv6.11.2//NONSGML v1.0//EN
CALSCALE:GREGORIAN
METHOD:PUBLISH
X-ORIGINAL-URL:https://hiraeth.tokyo
X-WR-CALDESC:【HIRAETH.Tokyo】(ヒラエス.トーキョー) のイベント
REFRESH-INTERVAL;VALUE=DURATION:PT1H
X-Robots-Tag:noindex
X-PUBLISHED-TTL:PT1H
BEGIN:VTIMEZONE
TZID:Asia/Tokyo
BEGIN:STANDARD
TZOFFSETFROM:+0900
TZOFFSETTO:+0900
TZNAME:JST
DTSTART:20230101T000000
END:STANDARD
END:VTIMEZONE
BEGIN:VEVENT
DTSTART;VALUE=DATE:20230917
DTEND;VALUE=DATE:20230918
DTSTAMP:20260422T104142
CREATED:20230828T102926Z
LAST-MODIFIED:20230911T123555Z
UID:6782-1694908800-1694995199@hiraeth.tokyo
SUMMARY:438☆IDOL SPIRITS 9月号@五反田G7
DESCRIPTION:▽日時　9/17(日)\n▽イベント　438☆IDOL SPIRITS 9月号\n▽予約　https://tiget.net/events/267047\n▽LIVE　20:15～20:35\n▽物販　20:45～21:45 A\n▽会場　五反田G7\n▽料金　前売り/前方優先3000一般2000 当日+500\n▽開場　12:10\n▽イベント時間　12:20～22:00\n▽出演　えあらびゅー/放課後プリンセス/夢見るアドレセンス/いちごみるく色に染まりたい。/MERUCHU/Bety/異世界アイドル☆パラレルパレード/.BPM/疾風RUN 舞/100℃の世界/Misty Syrena/Comma\,/Marionetto in the Mirror/RiKKYY/ブルーなままで/東京CLEAR’S/The Pink Microphone/桜色Standard/deeper²/星屑ラビリンス/Twinkle☆Stars/SeedS/PISTIL/風邪をひいた時にみる夢/Lanan/世ノ果テで人形ハ唯哂フ。/idrip/新世界ギルドール/Quest Ship/百鬼乙女/もぶる×クロス/ミンナノチカラ/MissyouMash/la Fluffy/
URL:https://hiraeth.tokyo/event/20230917-3/
LOCATION:五反田G7\, 西五反田2-6-3 東洋ビルB1階\, 品川区\, 東京都\, 141-0031\, 日本
CATEGORIES:Live
ATTACH;FMTTYPE=image/jpeg:https://hiraeth.tokyo/wp-content/uploads/S__7077915.jpg
END:VEVENT
BEGIN:VEVENT
DTSTART;VALUE=DATE:20230917
DTEND;VALUE=DATE:20230918
DTSTAMP:20260422T104142
CREATED:20230809T095214Z
LAST-MODIFIED:20230911T122823Z
UID:6621-1694908800-1694995199@hiraeth.tokyo
SUMMARY:437☆NEO EARTH!!フェスティバル「Hello\, Neo World!!」@新宿planet planet
DESCRIPTION:日時　9/17(日)\nイベント　437☆NEO EARTH!!フェスティバル「Hello\, Neo World!!」\n料金　前売1000当日+500(各D別)\n予約　https://t.livepocket.jp/e/neoearthfestival01\nLIVE　13:15～13:35\n物販　14:10～15:30\n会場　新宿planet planet\nOP　11:30\nST　11:45\n出演　えあらびゅー/NEO EARTH!!/あまりりす/ambeЯ Rain/Lazuli mirage/
URL:https://hiraeth.tokyo/event/20230917-1/
LOCATION:新宿planet planet\, 歌舞伎町2-19-17 石川ビル B1F\, 新宿区\, 東京都\, 160-0021\, 日本
CATEGORIES:Live
ATTACH;FMTTYPE=image/png:https://hiraeth.tokyo/wp-content/uploads/230917フライヤー01.png
END:VEVENT
BEGIN:VEVENT
DTSTART;VALUE=DATE:20230917
DTEND;VALUE=DATE:20230918
DTSTAMP:20260422T104142
CREATED:20230810T064546Z
LAST-MODIFIED:20230911T122748Z
UID:6633-1694908800-1694995199@hiraeth.tokyo
SUMMARY:436☆シブヤDOMINIONワンマン直前対バンライブ！@渋谷近未来会館
DESCRIPTION:日時　9/17(日)\nイベント　436☆シブヤDOMINIONワンマン直前対バンライブ！\n料金　前売2000/当日+500(各D別)\n予約　https://tiget.net/events/269424\nLIVE　10:00～10:20\n物販　10:20〜11:20\n会場　渋谷近未来会館\nOP　9:45\nST　10:00\nout　15:00\n出演　えあらびゅー/シブヤDOMINION/錬日oTo個色/キプリスモルホォ/RED-i/亜利美里/Mikoto/東京CLEAR’S/RiKKYY/Untitled/
URL:https://hiraeth.tokyo/event/20230917-2/
LOCATION:渋谷近未来会館\, 渋谷1-11-1 COI西青山ビルB1\, 渋谷区\, 東京都\, 150-0002\, 日本
CATEGORIES:Live
ATTACH;FMTTYPE=image/jpeg:https://hiraeth.tokyo/wp-content/uploads/S__9928789_0.jpg
END:VEVENT
END:VCALENDAR