BEGIN:VCALENDAR
VERSION:2.0
PRODID:-//【HIRAETH.Tokyo】(ヒラエス.トーキョー) - ECPv6.11.2//NONSGML v1.0//EN
CALSCALE:GREGORIAN
METHOD:PUBLISH
X-ORIGINAL-URL:https://hiraeth.tokyo
X-WR-CALDESC:【HIRAETH.Tokyo】(ヒラエス.トーキョー) のイベント
REFRESH-INTERVAL;VALUE=DURATION:PT1H
X-Robots-Tag:noindex
X-PUBLISHED-TTL:PT1H
BEGIN:VTIMEZONE
TZID:Asia/Tokyo
BEGIN:STANDARD
TZOFFSETFROM:+0900
TZOFFSETTO:+0900
TZNAME:JST
DTSTART:20230101T000000
END:STANDARD
END:VTIMEZONE
BEGIN:VEVENT
DTSTART;VALUE=DATE:20230918
DTEND;VALUE=DATE:20230919
DTSTAMP:20260422T104142
CREATED:20230824T093428Z
LAST-MODIFIED:20230911T124118Z
UID:6733-1694995200-1695081599@hiraeth.tokyo
SUMMARY:440☆☆アイコレ天使すぎるアイドル♡SP!!!Vol.4@新宿ALTA KeyStudio
DESCRIPTION:▽日時　9/18(月祝・かいわれ大根の日)\n▽イベント　440☆☆アイコレ天使すぎるアイドル♡SP!!!Vol.4\n▽予約　https://tiget.net/events/268854\n▽指名入場特典　星2ラリーカード適用\n※受付で指名特典券をお受取りください\n▽LIVE　14:20〜14:40\n▽物販　15:05〜16:05ロビーA\n▽会場　新宿ALTA KeyStudio\n▽料金\n前方:前売4000円 当日5000円\n一般 : 前売3000円 当日3500円(各D別)\n※早割500円キャッシュバック(11時30分まで入場適用)\n▽OP　11:10\n▽ST　11:30\n▽out　\n▽出演　えあらびゅー/つぼみ大革命/8月のエウテルペ/プリズムハート/愛乙女☆DOLL(チームL)&らぶけん/エウレカ/しおもん/COLOR’z/きみにYORISOERU/叶音コレクト/CANDY GO!GO!/ヤンチャン学園音楽部/Twinkle☆Stars/アイオケ♪/SevenDay’z/あいすなっつ/Quest Ship/AiVER/♮リアスクライブ/RUN WiTH YOU/
URL:https://hiraeth.tokyo/event/20230918-1/
LOCATION:新宿アルタKeyStudio\, 新宿3-24－3\, 新宿区\, 東京都\, 160-0022\, 日本
CATEGORIES:Live
ATTACH;FMTTYPE=image/jpeg:https://hiraeth.tokyo/wp-content/uploads/FE14EF78-1FB7-4127-A65C-47EAF617F7B3.jpeg
END:VEVENT
BEGIN:VEVENT
DTSTART;VALUE=DATE:20230918
DTEND;VALUE=DATE:20230919
DTSTAMP:20260422T104142
CREATED:20230905T191113Z
LAST-MODIFIED:20230917T041348Z
UID:7064-1694995200-1695081599@hiraeth.tokyo
SUMMARY:439☆Cassie Te Light定期公演『Orion』@中野坂上S.U.B TOKYO
DESCRIPTION:▽日時　9/18(月祝)\n▽イベント　439☆Cassie Te Light定期公演『Orion』\n▽予約　https://t.livepocket.jp/e/orion0918\n▽LIVE　10:10～10:30\n▽物販　10:35～11:35A\n▽会場　中野坂上S.U.B TOKYO\n▽料金　前売/一般Aチケット2000/当日+500(各D別)\n▽開場　10:10\n▽イベント時間　\n▽出演　えあらびゅー/Arno/きっと、これが世界？/Cassie Te Light/HALO PALLETE/ヒトノユメ/PHiZZ/よるもにゅ！/
URL:https://hiraeth.tokyo/event/20230918-2/
LOCATION:中野坂上S.U.B TOKYO\, 本町2-28-11 不二ハイツB1\, 中野区\, 東京都\, 164-0012\, 日本
CATEGORIES:Live
ATTACH;FMTTYPE=image/png:https://hiraeth.tokyo/wp-content/uploads/Orion_0918.png
END:VEVENT
END:VCALENDAR