BEGIN:VCALENDAR
VERSION:2.0
PRODID:-//【HIRAETH.Tokyo】(ヒラエス.トーキョー) - ECPv6.11.2//NONSGML v1.0//EN
CALSCALE:GREGORIAN
METHOD:PUBLISH
X-WR-CALNAME:【HIRAETH.Tokyo】(ヒラエス.トーキョー)
X-ORIGINAL-URL:https://hiraeth.tokyo
X-WR-CALDESC:【HIRAETH.Tokyo】(ヒラエス.トーキョー) のイベント
REFRESH-INTERVAL;VALUE=DURATION:PT1H
X-Robots-Tag:noindex
X-PUBLISHED-TTL:PT1H
BEGIN:VTIMEZONE
TZID:Asia/Tokyo
BEGIN:STANDARD
TZOFFSETFROM:+0900
TZOFFSETTO:+0900
TZNAME:JST
DTSTART:20230101T000000
END:STANDARD
END:VTIMEZONE
BEGIN:VEVENT
DTSTART;VALUE=DATE:20230920
DTEND;VALUE=DATE:20230921
DTSTAMP:20260422T094838
CREATED:20230904T025400Z
LAST-MODIFIED:20230919T125636Z
UID:7009-1695168000-1695254399@hiraeth.tokyo
SUMMARY:441☆☆ポッケからきゅんっふぇす@渋谷DESEO
DESCRIPTION:▽日時　9/20(水)\n▽イベント　441☆☆ポッケからきゅんっふぇす！vol.8\n▽予約　https://t.livepocket.jp/e/kyunfes08\n※チケット販売期間：〜9/20(水)15:00\n▽指名入場特典　星2ラリーカード適用\n▽LIVE　19:35～19:55\n▽物販　21:00～22:00 終演後物販\n▽会場　渋谷DESEO\n▽料金　優先エリア2000/一般1000/当日+500(各D別)\n▽開場　17:50\n▽イベント時間　18:10\n▽出演　えあらびゅー/エーデルワイス/えすれある/【eN】/Quest Ship/Glim Assembler/ステラリオン/ポラライト
URL:https://hiraeth.tokyo/event/20230920-1/
LOCATION:渋谷DESEO\, 道玄坂2-13-5ハーベストビルディングB1F\, 渋谷区\, 東京都\, 150-0043\, 日本
CATEGORIES:Live
ATTACH;FMTTYPE=image/jpeg:https://hiraeth.tokyo/wp-content/uploads/【告知用】ポッケからきゅんっふぇす！vol8_0-scaled.jpg
END:VEVENT
END:VCALENDAR