BEGIN:VCALENDAR
VERSION:2.0
PRODID:-//【HIRAETH.Tokyo】(ヒラエス.トーキョー) - ECPv6.11.2//NONSGML v1.0//EN
CALSCALE:GREGORIAN
METHOD:PUBLISH
X-WR-CALNAME:【HIRAETH.Tokyo】(ヒラエス.トーキョー)
X-ORIGINAL-URL:https://hiraeth.tokyo
X-WR-CALDESC:【HIRAETH.Tokyo】(ヒラエス.トーキョー) のイベント
REFRESH-INTERVAL;VALUE=DURATION:PT1H
X-Robots-Tag:noindex
X-PUBLISHED-TTL:PT1H
BEGIN:VTIMEZONE
TZID:Asia/Tokyo
BEGIN:STANDARD
TZOFFSETFROM:+0900
TZOFFSETTO:+0900
TZNAME:JST
DTSTART:20230101T000000
END:STANDARD
END:VTIMEZONE
BEGIN:VEVENT
DTSTART;VALUE=DATE:20230923
DTEND;VALUE=DATE:20230924
DTSTAMP:20260422T094837
CREATED:20230828T075305Z
LAST-MODIFIED:20230920T015654Z
UID:6768-1695427200-1695513599@hiraeth.tokyo
SUMMARY:443☆ウエノデ.パンダ中秋節2023@上野恩賜公園噴水前広場
DESCRIPTION:▽日時　9/23(土)\n▽イベント　443☆ウエノデ.パンダ中秋節2023(ガールズアイドルプログラム)\n▽予約　なし\n▽LIVE　16:25〜16:40\n▽物販　16:50〜17:50\n▽会場　上野恩賜公園噴水前広場\n▽料金　上野公園:無料/上野水上音楽堂:1000\n▽開場　フードエリア開場 11:00(予定)ステージ開演 11:30(雨天時変更あり)\n▽イベント時間　11:00〜21:00(予定)\n▽出演　えあらびゅー/TA女子/COLOR’z/みらくる★ふぉーぜ/ジュリアナの祟り/ミライサガシ〜MIRAISAGASHI〜/森ふうか&ポジティブモンスター/Limei/SOLAina dance school/LiL KyonA prerents エンタメ番地一丁目/皇芸芸術スクール/NiziIROぱれっと/嘘吐Grimms。/ONE/HANDSOME/SHIBUYA SIXX/Highspec Ba[Z∞]Ka/petite bomb!/OMG/かげつ/Kayoko Tezuka With Wakako Sakai（中国歌謡 With 二胡）/ \n#ウエノデパンダ中秋節\nhttp://panda-expo.com/\n \nーーー\n★ライブ時の注意事項について\n野外アイドルフェス「SEKIGAHARA IDOR WARS 2023-関ケ原唄姫合戦」で、観客の前に立てられた柵が崩壊し、複数名が倒れ込む事態が発生。当事務局では2023年7月23日、観覧時の「リフト・モッシュ行為」を全面禁止とすることが決定致しました。 \n当イベントは先述のイベントとは違い「老若男女全てのお客様に中秋節をお楽しみ頂く」事が目的です。 \n安全面を考慮し\nライブ中のパフォーマンスや、ファンの方の行動の中で(荷物による場所取りなども含む)\n事務局スタッフが「危険である」と判断した場合は、その場でライブの中止・ファンの方への退場勧告など厳しい対応を取らせて頂く可能性がある事をご了承ください。 \nまた、危険・迷惑行為が確認されたお客様の\nお目当てのグループが判明した場合、該当グループは以降の当事務局イベントには御出演頂けなくなりますので開催前に【SNSにてファンの皆様への注意のご案内や呼びかけ】に\nご協力頂けますと幸いです。 \nもちろん、事務局側でも警備・監視に努めさせて頂きます。 \nライブ中のNG行為に関して\n・柵への寄りかかり\n・柵へのカメラ機材等の設置\n・荷物をおいての場所取り\n・モッシュ／リフト\n・その他事務局が危険と判断した行為全般 \nあくまで、事故が無く開催を終え次回以降更に規模を上げて開催に臨みたいという想いからの皆様へのお願いです。 \n何卒よろしくお願い申し上げます。
URL:https://hiraeth.tokyo/event/20230923-2/
LOCATION:上野恩賜公園噴水前広場\, 上野公園5-20-8\, 台東区\, 東京都\, 110-0007\, 日本
CATEGORIES:Live
ATTACH;FMTTYPE=image/png:https://hiraeth.tokyo/wp-content/uploads/1-4.png
END:VEVENT
BEGIN:VEVENT
DTSTART;VALUE=DATE:20230923
DTEND;VALUE=DATE:20230924
DTSTAMP:20260422T094837
CREATED:20230719T040637Z
LAST-MODIFIED:20230922T040940Z
UID:6360-1695427200-1695513599@hiraeth.tokyo
SUMMARY:442☆☆アイコレ⭐秋の祭典SP!!!@渋谷STREAMホール
DESCRIPTION:▽日時　9/23(土祝)\n▽イベント　442☆☆アイコレ⭐秋の祭典SP!!!浴衣ライブ＋物販\n▽予約　https://tiget.net/events/266774\n▽指名入場特典\n　１、星2ラリーカード(コメサ、動画取り放題、肩揉券？！など)\n　２、✨新アー写✨初公開限定数ポストカード(まだ世に出てない新アー写をひと足早く♡メンバーからのメッセージ入りです❣️)\n▽LIVE　11:55～12:15\n▽物販　12:20～13:20(4FA)\n▽会場　渋谷STREAMホール\n▽料金　前売/S席4000円/A席3000円/当日+500(各D別)※早割1000円キャッシュバック(10時40分まで入場適用)\n▽開場　10:20\n▽イベント時間　10:40\n▽出演　えあらびゅー/愛乙女☆DOLL/泡沫パーティーズ/ラブアグレッション/放課後プリンセス/RiNCENT♯/シュアネス/8月のエウテルペ/１つ足りない賽は投げられた/プリズムハート/miao/metarium/純粋カフェラッテ/異世界アイドル☆パラレルパレード/Bety/奏音コレクト/LOVE 9 LOVE/Drug&Drop/Re:INCARNATION/アイオケ♪/シャルロット/CANDY GO!GO!/ai*ai/LEVEL7/100万ドルのフェアレディ/LOVEME/もぐちっぷ/milu milu !/Quest Ship/&grAce/CURTiA/100-YOKAI/contrail zero/airrow/
URL:https://hiraeth.tokyo/event/20230923-1/
LOCATION:渋谷ストリームホール\, 渋谷3-21-3\, 渋谷区\, 東京都\, 150-0002\, 日本
CATEGORIES:Live
ATTACH;FMTTYPE=image/jpeg:https://hiraeth.tokyo/wp-content/uploads/923渋谷STREAM_0-scaled.jpg
END:VEVENT
END:VCALENDAR