BEGIN:VCALENDAR
VERSION:2.0
PRODID:-//【HIRAETH.Tokyo】(ヒラエス.トーキョー) - ECPv6.11.2//NONSGML v1.0//EN
CALSCALE:GREGORIAN
METHOD:PUBLISH
X-WR-CALNAME:【HIRAETH.Tokyo】(ヒラエス.トーキョー)
X-ORIGINAL-URL:https://hiraeth.tokyo
X-WR-CALDESC:【HIRAETH.Tokyo】(ヒラエス.トーキョー) のイベント
REFRESH-INTERVAL;VALUE=DURATION:PT1H
X-Robots-Tag:noindex
X-PUBLISHED-TTL:PT1H
BEGIN:VTIMEZONE
TZID:Asia/Tokyo
BEGIN:STANDARD
TZOFFSETFROM:+0900
TZOFFSETTO:+0900
TZNAME:JST
DTSTART:20230101T000000
END:STANDARD
END:VTIMEZONE
BEGIN:VEVENT
DTSTART;VALUE=DATE:20231004
DTEND;VALUE=DATE:20231005
DTSTAMP:20260422T080450
CREATED:20231002T085358Z
LAST-MODIFIED:20231002T091800Z
UID:7986-1696377600-1696463999@hiraeth.tokyo
SUMMARY:☆冠Fes-カンフェス-@新宿Zirco Tokyo
DESCRIPTION:▽日時　10/4(水)\n▽イベント　冠Fes-カンフェス-\n▽予約　　https://t.livepocket.jp/e/kanfes1004\n▽セトリ\n・\n・\n・\n・\n▽LIVE　17:20〜17:40\n▽物販　17:45〜18:45\n▽会場　新宿Zirco Tokyo\n▽料金　Sチケット3500/Aチケット2500/当日+500(各D別)\n▽開場　16:30\n▽イベント時間　17:00\n▽出演　えあらびゅー/【eN】/KATACOTO＊BANK/Cassie Te Light/キミと永遠に/CALL MY NAME/セカモノ/電撃パラレル/テンシメシ໒꒱/バブルバビデガム!!/FloreRisa-フロレリーサ-/LOVE CCiNO/♮リアスクライブ/
URL:https://hiraeth.tokyo/event/20231004-1/
LOCATION:新宿Zirco Tokyo\, 歌舞伎町1-2-5東陽ビルB2\, 新宿区\, 東京都\, 160-0021\, 日本
CATEGORIES:Live
ATTACH;FMTTYPE=image/png:https://hiraeth.tokyo/wp-content/uploads/冠Fes_1004_改訂_0_0.png
END:VEVENT
END:VCALENDAR