BEGIN:VCALENDAR
VERSION:2.0
PRODID:-//【HIRAETH.Tokyo】(ヒラエス.トーキョー) - ECPv6.11.2//NONSGML v1.0//EN
CALSCALE:GREGORIAN
METHOD:PUBLISH
X-WR-CALNAME:【HIRAETH.Tokyo】(ヒラエス.トーキョー)
X-ORIGINAL-URL:https://hiraeth.tokyo
X-WR-CALDESC:【HIRAETH.Tokyo】(ヒラエス.トーキョー) のイベント
REFRESH-INTERVAL;VALUE=DURATION:PT1H
X-Robots-Tag:noindex
X-PUBLISHED-TTL:PT1H
BEGIN:VTIMEZONE
TZID:Asia/Tokyo
BEGIN:STANDARD
TZOFFSETFROM:+0900
TZOFFSETTO:+0900
TZNAME:JST
DTSTART:20230101T000000
END:STANDARD
END:VTIMEZONE
BEGIN:VEVENT
DTSTART;VALUE=DATE:20231007
DTEND;VALUE=DATE:20231008
DTSTAMP:20260422T080449
CREATED:20230721T112039Z
LAST-MODIFIED:20231005T070829Z
UID:6395-1696636800-1696723199@hiraeth.tokyo
SUMMARY:449☆☆GIGA・GIGA SONIC 2周年大感謝祭SPECIAL in 幕張メッセ presented by ドラゴンエッグ@幕張メッセ
DESCRIPTION:▽日時　10/7(土)\n▽イベント　449☆☆GIGA・GIGA SONIC 2周年大感謝祭SPECIAL in 幕張メッセ presented by ドラゴンエッグ \n▽予約　 https://giga-giga-sonic.zaiko.io/item/358988\n▽指名入場特典 　ぼくらの三日間らびゅーSP特典（囲み集合写メ）、ぼくらの三日間らびゅー特典（チェキ券1枚）、星2ラリーカード(コメサ、動画取り放題、肩揉券？！などスタンプ2つ目からその場でGetできるSPラリーカード)\n▽特別企画　えあらびゅーツインテールの日（メンバー全員がツインテールになる特別な日）\n\n▽セトリ\n・だから、アイドル\n・限界わがままクライシス\n・もっとずっとそばで\n・放課後オレンジサイン\n▽LIVE　 14:25〜14:45(祭りステージ)\n▽物販　15:05〜16:05\n▽会場　幕張メッセ国際展示場ホール4-5 \n▽料金　https://giga-giga-sonic.zaiko.io/item/358988\n▽開場　10:45\n▽イベント時間　 11:45\n▽出演　えあらびゅー/STU48/都内某所/神使轟く、激情の如く/我儘ラキア/Appare!/最終未来少女/iLiFE!/群青の世界/22/7/@onefive/点染テンセイ少女/DJダイノジ/豆柴の大群/femme fatale/chuLa/シンデレラ宣言！/TiiiMO/321アイドル部/雨ノ森川海/CHICA#TETSU/SeasoningS/真っ白なキャンバス/Devil ANTHEM./アンチテーゼ/シュレーディンガーの犬/KissBee/風男塾/1つ足りない賽は投げられた/りんご娘/天使にはなれない/アップアップガールズ(2)/ポンコツコンポ/ジュリアナの祟り(a.k.a.エナツの祟り)/7限目のフルール/Panic Monster !n Wonderland/みらくる☆ふぉーぜ/Cassie Te Light/ヒダリ←イミテイト/cule_latte/flawless POP./オカシリゾート/\nMC: ゆきぽよ/じゅんいちダビッドソン/ \n主催 GIGA・GIGA SONIC 実行委員会 \n企画・制作 株式会社GALDir Media \n共催 : TOKYO MX \n \n概要ページ\nhttps://www.gigagigasonic-collaborate.com/ \nアプリ\nhttps://app.adjust.com/10kr2r28 \nイベントスケジュール\n7/21(金)18:00 〜 8/6(日)\nアイドルギルド参加権バトル! \n8月上旬\nアイドルギルド加入メンバー発表! \n8月中旬　〜　9月上旬​\nギガソニ出演権争奪ガチバトル! \n9月中旬​\nギガソニ出演アイドル発表! \n10月7日​\nギガソニin幕張メッセ開催！！ \n​ \nドラゴンエッグとは\nドラゴンエッグは通称「ドラエグ」と言います。\nユーザーは、ハンターとなって相棒となるドラゴンと共に世界を冒険します。ドラエグには、1000体を超える色んなモンスターが登場します！\nユーザー同士がギルドというチームを結成して協力し合うことが最大の面白さとなっている 共闘バトルRPGオンラインゲームです。好みのモンスターを仲間にして、クエストをこなして競い合いましょう！ \n​ \nハンター\nモンスターたちを束ねるリーダー。\n表情をはじめ髪型、服装、装備にいたるまで組み合わせは驚きの1億通り以上も存在します！\nカッコよくキメたり、かわいくオシャレしたりしてあなたらしいハンターに仕上げましょう！ \n​ \n​ギルドバトル​\n最大10人のハンターが集まり結成するチーム「ギルド」そのギルド同士で戦う団体戦、それがギルドバトルです！世界中のハンター集団に勝利し豪華報酬を手に入れましょう！ \n​ \nレイドバトル​\nギルド内で協力して、レイドボスを撃破するイベント。ハンターがレイドボスに遭遇することでレイドバトルが開始されます。\nギルドメンバー揃って強大な敵を打ち倒しましょう!
URL:https://hiraeth.tokyo/event/20231007-1/
LOCATION:幕張メッセ\, 美浜区中瀬2-1\, 千葉市\, 千葉県\, 261-0023\, 日本
CATEGORIES:Event,Live
ATTACH;FMTTYPE=image/jpeg:https://hiraeth.tokyo/wp-content/uploads/F1jIGjkaMAA6jHY.jpg
END:VEVENT
BEGIN:VEVENT
DTSTART;VALUE=DATE:20231007
DTEND;VALUE=DATE:20231010
DTSTAMP:20260422T080449
CREATED:20230925T072016Z
LAST-MODIFIED:20231005T072737Z
UID:7895-1696636800-1696895999@hiraeth.tokyo
SUMMARY:ぼくらの三日間らびゅー
DESCRIPTION:概要\n期間\n2023年10月7日(土)～2023年10月9日(月祝) \n参加概要\n▽該当イベントの」物販時に”ぼくらの三日間らびゅー”チケットをお受取り下さい。\n※1イベント目と3イベント目に参加して頂いた場合にはSP特典がございます\n▽”ぼくらの三日間らびゅー”チケットの枚数によって特典が随時受取れます。\n▽”ぼくらの三日間らびゅー”チケットを引換期限は30日間となります。\n▽”ぼくらの三日間らびゅー”チケットの受取は当日限りとなります。 \n特典\n▽チケット1枚：チェキ券1枚(60秒トーク付き、引換30日間)\n▽チケット2枚：10秒動画取り放題(後日撮影、引換30日間)\n▽チケット3枚：チェキ券3枚(60秒トーク付き、引換30日間)\n▽チケット4枚：チェキ券4枚(60秒トーク付き、引換30日間) \nSP特典\n▽1イベント目：囲み集合写メ\n１、物販開始時に、囲み集合写メ列にお並びください。\n２、お客様のカメラで撮影を致しますので、準備をしてお並びください。\n３、順番が来ましたら、スタッフにカメラを渡して、メンバーが集合している中央で撮影を致します。\n４、撮影後にスタッフからカメラをお返しして、終了となります\n※混雑が予想されますので、スムーズに進行をさせて頂けるようご協力をお願い致します。 \n▽3イベント目：ハイタッチ会\n１、物販開始時に、ハイタッチ列にお並びください。\n２、最前列からスタッフがアルコールを手にかけてまいりますので、消毒のご協力をお願いいたします。\n３、メンバー全員が横並びになり、準備が出来ましたらハイタッチ会を開始致します。\n４、前からハイタッチ（トークなし）をして頂き、終了となります。\n※混雑が予想されますので、スムーズに進行をさせて頂けるようご協力をお願い致します。 \n該当イベント\n1イベント目\n▽日時　10/7(土)\n▽イベント　449☆☆GIGA・GIGA SONIC 2周年大感謝祭SPECIAL in 幕張メッセ presented by ドラゴンエッグ\n▽予約　https://giga-giga-sonic.zaiko.io/item/358988\n▽指名入場特典　星2ラリーカード適用(コメサ、動画取り放題、肩揉券？！などスタンプ2つ目からその場でGetできるSPラリーカード)+囲み集合写メ\n※受付で指名特典券をお受取りください\n▽セトリ\n・だから、アイドル\n・限界わがままクライシス\n・もっとずっとそばで\n・放課後オレンジサイン\n▽LIVE　 14:25〜14:45(祭りステージ)\n▽物販　15:05〜16:05\n▽会場　幕張メッセ国際展示場ホール4-5 \n2イベント目\n▽日時　10/8(日)\n▽イベント　450☆Twinkle\n▽予約　https://t.livepocket.jp/e/twinkle1008\n▽セトリ\n・全力Summer！キャプチャー・ザ・フラッグ\n・ゆびとま\n・もっとずっとそばで\n・放課後オレンジサイン\n▽LIVE　19:35～\n▽物販　20:45～21:45(終演後)\n▽会場　渋谷近未来会館 \n3イベント目\n▽日時　10/9(祝月)\n▽イベント　451☆☆「SUPER りんご×飴 Vol.1」@YOKOHAMA COAST supported by SUPER LIVE\n▽予約　https://tiget.net/events/272529\n▽指名入場特典　星2ラリーカード適用+ハイタッチ会\n※受付で指名特典券をお受取りください\n▽セトリ\n・だから、アイドル\n・りぴーと・あふたー・みー！\n・もっとずっとそばで\n・放課後オレンジサイン\n▽LIVE　11:00～11:20\n▽物販　11:30～12:30A\n▽会場　横浜YOKOHAMA COAST garage+ \n4イベント目\n▽日時　10/9(祝月)\n▽イベント　452☆☆「YOKOHAMA COAST SUPER LIVE 2023」OCTOBER.EXTRA STAGE公演\n▽予約　https://tiget.net/events/272530\n▽指名入場特典　星2ラリーカード適用+2ショット写メ(当日のみ使用可能)\n※受付で指名特典券をお受取りください\n▽セトリ\n・だから、アイドル\n・限界わがままクライシス\n・放課後オレンジサイン\n・サンシャインマジック\n▽LIVE　16:25〜16:45\n▽物販　16:55〜17:45A\n▽会場　横浜YOKOHAMA COAST garage+
URL:https://hiraeth.tokyo/event/20231007-20231009/
CATEGORIES:Live
ATTACH;FMTTYPE=image/png:https://hiraeth.tokyo/wp-content/uploads/1-5.png
END:VEVENT
END:VCALENDAR