BEGIN:VCALENDAR
VERSION:2.0
PRODID:-//【HIRAETH.Tokyo】(ヒラエス.トーキョー) - ECPv6.11.2//NONSGML v1.0//EN
CALSCALE:GREGORIAN
METHOD:PUBLISH
X-ORIGINAL-URL:https://hiraeth.tokyo
X-WR-CALDESC:【HIRAETH.Tokyo】(ヒラエス.トーキョー) のイベント
REFRESH-INTERVAL;VALUE=DURATION:PT1H
X-Robots-Tag:noindex
X-PUBLISHED-TTL:PT1H
BEGIN:VTIMEZONE
TZID:Asia/Tokyo
BEGIN:STANDARD
TZOFFSETFROM:+0900
TZOFFSETTO:+0900
TZNAME:JST
DTSTART:20230101T000000
END:STANDARD
END:VTIMEZONE
BEGIN:VEVENT
DTSTART;VALUE=DATE:20231013
DTEND;VALUE=DATE:20231014
DTSTAMP:20260422T080628
CREATED:20230904T044351Z
LAST-MODIFIED:20230929T193905Z
UID:7015-1697155200-1697241599@hiraeth.tokyo
SUMMARY:453☆スウィートクッキーメロディナイト vol.1@新宿Biske
DESCRIPTION:▽日時　10/13(金)\n▽イベント　453☆スウィートクッキーメロディナイト vol.1\n▽予約　https://tiget.net/events/267290\n▽セトリ\n・\n・\n・\n・\n▽LIVE　20:20～20:40\n▽物販　終演後\n▽会場　新宿Biske\n▽料金　一般2000当日+500(各D別)\n▽開場　17:40\n▽イベント時間　18:00(予定)\n▽出演　えあらびゅー/永音える/夜とメルク/KIeinod/プラニューム/パステルホログラム/冥土ノ土産/ログ/
URL:https://hiraeth.tokyo/event/20231013-1/
LOCATION:新宿Biske\, 歌舞伎町1-17-13 新宿 ピックペック8F\, 新宿区\, 東京都\, 日本
CATEGORIES:Live
ATTACH;FMTTYPE=image/jpeg:https://hiraeth.tokyo/wp-content/uploads/1013POP.jpg
END:VEVENT
END:VCALENDAR