BEGIN:VCALENDAR
VERSION:2.0
PRODID:-//【HIRAETH.Tokyo】(ヒラエス.トーキョー) - ECPv6.11.2//NONSGML v1.0//EN
CALSCALE:GREGORIAN
METHOD:PUBLISH
X-WR-CALNAME:【HIRAETH.Tokyo】(ヒラエス.トーキョー)
X-ORIGINAL-URL:https://hiraeth.tokyo
X-WR-CALDESC:【HIRAETH.Tokyo】(ヒラエス.トーキョー) のイベント
REFRESH-INTERVAL;VALUE=DURATION:PT1H
X-Robots-Tag:noindex
X-PUBLISHED-TTL:PT1H
BEGIN:VTIMEZONE
TZID:Asia/Tokyo
BEGIN:STANDARD
TZOFFSETFROM:+0900
TZOFFSETTO:+0900
TZNAME:JST
DTSTART:20230101T000000
END:STANDARD
END:VTIMEZONE
BEGIN:VEVENT
DTSTART;VALUE=DATE:20231018
DTEND;VALUE=DATE:20231019
DTSTAMP:20260422T080448
CREATED:20231003T105455Z
LAST-MODIFIED:20231017T033830Z
UID:8002-1697587200-1697673599@hiraeth.tokyo
SUMMARY:458☆ポッケからきゅんっふぇす！vol.9@新宿ZircoTokyo
DESCRIPTION:告知解禁：10/4(水)18:00〜\nチケット販売期間：10/5(木)22:00〜10/18(水)17:00 \n※ももな、ことね、がお休みとなります \n▽日時　10/18(水)\n▽イベント　458⭐︎ポッケからきゅんっふぇす！vol.9\n▽予約　https://t.livepocket.jp/e/6ax2j\n▽セトリ\n・\n・\n・\n・\n▽LIVE　19:45～20:05\n▽物販　21:10～22:10終演後\n▽会場　新宿ZircoTokyo\n▽料金　優先エリア3000/優先当日3000/一般前売1500/一般当日2000(各D別)\n▽開場　18:00\n▽イベント時間　18:20\n▽出演　えあらびゅー/あわこい/しろもん/セカモノ/Planet Merry/ブルーなままで/ポラライト/LOVE CCiNO
URL:https://hiraeth.tokyo/event/20231018-1/
LOCATION:新宿Zirco Tokyo\, 歌舞伎町1-2-5東陽ビルB2\, 新宿区\, 東京都\, 160-0021\, 日本
CATEGORIES:Live
ATTACH;FMTTYPE=image/jpeg:https://hiraeth.tokyo/wp-content/uploads/IMG_6132.jpeg
END:VEVENT
END:VCALENDAR