BEGIN:VCALENDAR
VERSION:2.0
PRODID:-//【HIRAETH.Tokyo】(ヒラエス.トーキョー) - ECPv6.11.2//NONSGML v1.0//EN
CALSCALE:GREGORIAN
METHOD:PUBLISH
X-ORIGINAL-URL:https://hiraeth.tokyo
X-WR-CALDESC:【HIRAETH.Tokyo】(ヒラエス.トーキョー) のイベント
REFRESH-INTERVAL;VALUE=DURATION:PT1H
X-Robots-Tag:noindex
X-PUBLISHED-TTL:PT1H
BEGIN:VTIMEZONE
TZID:Asia/Tokyo
BEGIN:STANDARD
TZOFFSETFROM:+0900
TZOFFSETTO:+0900
TZNAME:JST
DTSTART:20230101T000000
END:STANDARD
END:VTIMEZONE
BEGIN:VEVENT
DTSTART;VALUE=DATE:20231021
DTEND;VALUE=DATE:20231022
DTSTAMP:20260422T080509
CREATED:20230912T052531Z
LAST-MODIFIED:20231017T033925Z
UID:7683-1697846400-1697932799@hiraeth.tokyo
SUMMARY:459☆冠Fes-カンフェス【1部】@GOTANDA G6
DESCRIPTION:▽日時　10/21(土)\n▽イベント　459⭐︎冠Fes-カンフェス【1部】\n▽予約　https://t.livepocket.jp/e/kanfes1021_1\n▽LIVE　11:20～11:40\n▽物販　11:50～12:50A\n▽会場　GOTANDA G6\n▽料金　前方S3500/一般A2500/当日+500/(各D別)\n▽開場　9:50\n▽イベント時間　10:20～22:10 \n▽出演　えあらびゅー/あげもん！/すたーちす/ステラリオン/炭酸くろにくるっ/溺愛めりーごらんど/天空のシラバス/電撃パラレル/ビーバイユー/ヒトノユメ/ヒビコレ/ラストノート/
URL:https://hiraeth.tokyo/event/20231021-2/
LOCATION:五反田G6\, 西五反田2-6-3 東洋ビルB1階\, 品川区\, 東京都\, 141-0031\, 日本
CATEGORIES:Live
ATTACH;FMTTYPE=image/png:https://hiraeth.tokyo/wp-content/uploads/冠Fes_1021_0_0.png
END:VEVENT
BEGIN:VEVENT
DTSTART;VALUE=DATE:20231021
DTEND;VALUE=DATE:20231022
DTSTAMP:20260422T080509
CREATED:20230907T082912Z
LAST-MODIFIED:20231017T034002Z
UID:7424-1697846400-1697932799@hiraeth.tokyo
SUMMARY:460☆ガルザップ!!@新宿Zirco Tokyo
DESCRIPTION:▽日程　 10/21\n▽イベント　460☆Zirco Tokyo presents ガルザップ!!\n ▽予約　https://t.livepocket.jp/e/4y70j ※ライブポケットドリンク代込\n▽LIVE　 16:15〜16:35\n▽物販　 16:45〜17:45C\n▽会場　新宿Zirco Tokyo\n ▽料金　前方3500/一般2000/当日+500(各D別)再入場1D\n ▽開場　10:40\n ▽イベント時間　11:10\n ▽出演　えあらびゅー/100万ドルのフェアレディ/君の栞/GiMMiCK/eDen/Fly day/iNTOYOU/炭酸くろにくるっ/ブルーなままで/milu milu!/LEVEL7/mellow life/ネオトーキョートライブ/Blancanie/PHiZZ/うじゅら/たまプリ/レッスントゥミー/LOVE CCiNO/ヒロイックニューシネマ/ひめもすオーケストラ/代々木女子音楽院/Parasite.Kiss/ai*ai /NEÖN_/
URL:https://hiraeth.tokyo/event/20231021-1/
LOCATION:新宿Zirco Tokyo\, 歌舞伎町1-2-5東陽ビルB2\, 新宿区\, 東京都\, 160-0021\, 日本
CATEGORIES:Live
ATTACH;FMTTYPE=image/jpeg:https://hiraeth.tokyo/wp-content/uploads/IMG_6133.jpeg
END:VEVENT
END:VCALENDAR