BEGIN:VCALENDAR
VERSION:2.0
PRODID:-//【HIRAETH.Tokyo】(ヒラエス.トーキョー) - ECPv6.11.2//NONSGML v1.0//EN
CALSCALE:GREGORIAN
METHOD:PUBLISH
X-WR-CALNAME:【HIRAETH.Tokyo】(ヒラエス.トーキョー)
X-ORIGINAL-URL:https://hiraeth.tokyo
X-WR-CALDESC:【HIRAETH.Tokyo】(ヒラエス.トーキョー) のイベント
REFRESH-INTERVAL;VALUE=DURATION:PT1H
X-Robots-Tag:noindex
X-PUBLISHED-TTL:PT1H
BEGIN:VTIMEZONE
TZID:Asia/Tokyo
BEGIN:STANDARD
TZOFFSETFROM:+0900
TZOFFSETTO:+0900
TZNAME:JST
DTSTART:20230101T000000
END:STANDARD
END:VTIMEZONE
BEGIN:VEVENT
DTSTART;VALUE=DATE:20231022
DTEND;VALUE=DATE:20231023
DTSTAMP:20260422T080510
CREATED:20230912T050946Z
LAST-MODIFIED:20231017T035411Z
UID:7679-1697932800-1698019199@hiraeth.tokyo
SUMMARY:461☆CUTE CANVAS BEST 3@五反田G6
DESCRIPTION:▽日時　10/22(日)\n▽イベント　461⭐︎CUTE CANVAS BEST 3\n▽予約　https://tiget.net/events/273949\n▽LIVE　20:30〜20:50\n▽物販　21:00〜\n▽会場　五反田G6\n▽料金　前売/前方3000円/一般2000円/当日+700円(各D別)\n▽開場　16:15\n▽イベント時間　16:30～21:10\n▽出演　えあらびゅー/YUMEADO CiTRON/ONE Era U/Blossom Garden/100°Cの世界/Jumping kiss/Little Echo/SEAF/\nぶーむ！-Boom of mine-/新世界ギルドール/もふる✖️クロス/ブルーなままで/ミンナノチカラ/
URL:https://hiraeth.tokyo/event/20231022-2/
LOCATION:五反田G6\, 西五反田2-6-3 東洋ビルB1階\, 品川区\, 東京都\, 141-0031\, 日本
CATEGORIES:Live
ATTACH;FMTTYPE=image/jpeg:https://hiraeth.tokyo/wp-content/uploads/IMG_6139.jpeg
END:VEVENT
END:VCALENDAR