BEGIN:VCALENDAR
VERSION:2.0
PRODID:-//【HIRAETH.Tokyo】(ヒラエス.トーキョー) - ECPv6.11.2//NONSGML v1.0//EN
CALSCALE:GREGORIAN
METHOD:PUBLISH
X-ORIGINAL-URL:https://hiraeth.tokyo
X-WR-CALDESC:【HIRAETH.Tokyo】(ヒラエス.トーキョー) のイベント
REFRESH-INTERVAL;VALUE=DURATION:PT1H
X-Robots-Tag:noindex
X-PUBLISHED-TTL:PT1H
BEGIN:VTIMEZONE
TZID:Asia/Tokyo
BEGIN:STANDARD
TZOFFSETFROM:+0900
TZOFFSETTO:+0900
TZNAME:JST
DTSTART:20230101T000000
END:STANDARD
END:VTIMEZONE
BEGIN:VEVENT
DTSTART;VALUE=DATE:20231029
DTEND;VALUE=DATE:20231030
DTSTAMP:20260422T080508
CREATED:20230901T113242Z
LAST-MODIFIED:20231027T061904Z
UID:6992-1698537600-1698623999@hiraeth.tokyo
SUMMARY:465☆☆アイコレ～2023ハロウィンSP!!!～Days2@所沢JAPAN PAVILLION HALL
DESCRIPTION:注目！\nことね生誕チケット販売開始のお知らせ\n12月9日(土)開催☆☆えあらびゅーpresents Vol.23″ことねーランド〜夢の国へようこそ〜in生誕祭”の紙チケットを特典会にて販売開始します\nhttps://hiraeth.tokyo/event/20231209-1/ \nハロウィン衣装でのライブ＆特典会\n第4衣装にもなるウサギ衣装を初披露！ \n強力指名特典\n・ライブ前にお散歩会開催\n・後日Zoomビデオ通話\n・星2ラリーカード適用\n　コメサ、動画取り放題、肩もみ券？！などスタンプ2つ目からその場でGetできるSPラリーカード！\n星2ラリーカードとは \n駅から会場までご案内\n駅前から会場までの経路にえあらびゅーメンバーが立っています！ \n概要\n▽日時　10/29(日)\n▽イベント　465☆☆アイコレ～2023ハロウィンSP!!!～Days2\n▽予約　https://tiget.net/events/276089\n▽指名入場特典※受付で指名特典券をお受取りください\n　１、星2ラリーカード適用\n　コメサ、動画取り放題、肩もみ券？！などスタンプ2つ目からその場でGetできるSPラリーカード！ \n　２、お散歩オフ会🐕\n　会場付近の公園にて撮影可能なお散歩会！\n　※お散歩会とはメンバー全員とお客様全員が公園でお散歩を楽しむ会になります。当日の状況によりスタッフまたはメンバーが散歩をコーディネートします。事前にルートや内容を確定するものではなく、ゆったりとした時間を楽しんで頂きます様お願い致します。\n　※個人撮影ではございませんのでご了承ください。\n　※当日参加できない場合の別日指定はできませんのでご了承ください。\n　※若干の雨の際には傘を差しながらのお散歩会になります。強雨の際には付近の施設にて雨宿り会に変更となります。（基本的にはお散歩会と同じ様に、ゆったりと時間を楽しんで頂く会となります。）\n　※お客様間のトラブルなどが想定される際には、こちらの特典を当日行わない事がございます。予めご了承くださいます様お願い致します。 \n　３、zoomビデオ通話📞\n　通話時間：60秒\n　開催予定日：11/1（水）21:00～\n※10/29(日)出演ライブ@所沢JAPAN PAVILLION HALLイベント当日に指名入場をされた方で、zoomビデオ通話をご希望の方は、指名特典券記載のURLからご予約をお願い致します。 \n　※zoomビデオ通話のご注意：繋がらなかった場合や音声が聞こえないなどのトラブルが無いようご注意ください。\n　・電波のよい場所でご利用ください\n　・充電の残量にご注意ください\n　・Zoomの使用方法や、アプリのダウンロードは事前にしっかりとご確認ください\n　・通信トラブルがあった場合に時間変更のご希望にお応えできない場合がございますので、予めご了承ください。 \n▽セトリ\n・\n・\n・\n・ \n▽お散歩会(予定)\n11:20　集合（アイコレ受付付近）\n11:30　お散歩会の流れ・レギュレーション説明\n11:40　お散歩会スタート\n13:10　お散歩会終了\n※参加の際には事前にアイコレの受付を済ませ、特典券をお持ちください。特典券を紛失された場合にはお散歩会への参加が出来ませんので予めご了承ください。 \n▽LIVE　14:35〜14:55\n▽物販　15:20〜16:20　C\n▽会場　所沢JAPAN PAVILLION HALL\n▽料金　S4000円/A3000円/当日+500/(各D別)早割1000円キャッシュバックあり(11:20までに入場適用)\n▽開場　11:00\n▽イベント時間　11:20～\n▽出演　えあらびゅー/花いろは/8月のエウテルぺ/Baby’z Breath/ワンダーウィード天/アポロンの翼/ニコニコ♡LOVERS/ニコニコ♡PRINCESS/ニコニコ♡STAGE/Love Cherish/CURTiA/あくしあ-AXIA/仮面女子/miao/BANZAI JAPAN/100-YOKAI/Crera/ラブアグレッション/プリズムハート/ai*ai/Re:INCARNATION/Next☆Rico/Nexus/ESTLINK☆/COLOR’z/ソラネルカンパニー/AiVER/トッピング☆ガールズ/
URL:https://hiraeth.tokyo/event/20231029-1/
LOCATION:所沢JAPAN PAVILLION HALL\, 東所沢和田3-31-3 ところざわサクラタウン\, 所沢市\, 埼玉県\, 359-0023\, 日本
CATEGORIES:Live
ATTACH;FMTTYPE=image/jpeg:https://hiraeth.tokyo/wp-content/uploads/PAVILLION10.29-scaled.jpg
END:VEVENT
END:VCALENDAR